BEGIN:VCALENDAR
VERSION:2.0
PRODID:-//St. Andrew By-The-Sea United Methodist Church - ECPv6.15.20//NONSGML v1.0//EN
CALSCALE:GREGORIAN
METHOD:PUBLISH
X-ORIGINAL-URL:https://standrewbytheseaumc.org
X-WR-CALDESC:Events for St. Andrew By-The-Sea United Methodist Church
REFRESH-INTERVAL;VALUE=DURATION:PT1H
X-Robots-Tag:noindex
X-PUBLISHED-TTL:PT1H
BEGIN:VTIMEZONE
TZID:America/New_York
BEGIN:DAYLIGHT
TZOFFSETFROM:-0500
TZOFFSETTO:-0400
TZNAME:EDT
DTSTART:20250309T070000
END:DAYLIGHT
BEGIN:STANDARD
TZOFFSETFROM:-0400
TZOFFSETTO:-0500
TZNAME:EST
DTSTART:20251102T060000
END:STANDARD
BEGIN:DAYLIGHT
TZOFFSETFROM:-0500
TZOFFSETTO:-0400
TZNAME:EDT
DTSTART:20260308T070000
END:DAYLIGHT
BEGIN:STANDARD
TZOFFSETFROM:-0400
TZOFFSETTO:-0500
TZNAME:EST
DTSTART:20261101T060000
END:STANDARD
BEGIN:DAYLIGHT
TZOFFSETFROM:-0500
TZOFFSETTO:-0400
TZNAME:EDT
DTSTART:20270314T070000
END:DAYLIGHT
BEGIN:STANDARD
TZOFFSETFROM:-0400
TZOFFSETTO:-0500
TZNAME:EST
DTSTART:20271107T060000
END:STANDARD
END:VTIMEZONE
BEGIN:VEVENT
DTSTART;TZID=America/New_York:20260728T100000
DTEND;TZID=America/New_York:20260728T110000
DTSTAMP:20260421T065422
CREATED:20241205T210503Z
LAST-MODIFIED:20260213T181308Z
UID:10004252-1785232800-1785236400@standrewbytheseaumc.org
SUMMARY:Fellowship Friends Weekly Zoom Chat
DESCRIPTION:
URL:https://standrewbytheseaumc.org/event/fellowship-friends-weekly-zoom-chat-21/2026-07-28/
ATTACH;FMTTYPE=image/png:/wp-content/uploads/2026/02/event-default-logo.png
END:VEVENT
BEGIN:VEVENT
DTSTART;TZID=America/New_York:20260728T120000
DTEND;TZID=America/New_York:20260728T130000
DTSTAMP:20260421T065422
CREATED:20240606T184706Z
LAST-MODIFIED:20260213T160259Z
UID:10018170-1785240000-1785243600@standrewbytheseaumc.org
SUMMARY:Staff Meeting
DESCRIPTION:
URL:https://standrewbytheseaumc.org/event/staff-meeting-24-2/2026-07-28/
ATTACH;FMTTYPE=image/png:/wp-content/uploads/2026/02/event-default-logo.png
END:VEVENT
BEGIN:VEVENT
DTSTART;TZID=America/New_York:20260728T130000
DTEND;TZID=America/New_York:20260728T140000
DTSTAMP:20260421T065422
CREATED:20260213T160643Z
LAST-MODIFIED:20260213T160643Z
UID:10018431-1785243600-1785247200@standrewbytheseaumc.org
SUMMARY:Devotions + Laughter Women's Bible Study
DESCRIPTION:
URL:https://standrewbytheseaumc.org/event/devotions-laughter-womens-bible-study/2026-07-28/
LOCATION:Admin. Bldg. Library
ATTACH;FMTTYPE=image/png:/wp-content/uploads/2026/02/event-default-logo.png
ORGANIZER;CN="Kerry Tilden":MAILTO:kerry@lovetheocean.com
END:VEVENT
BEGIN:VEVENT
DTSTART;TZID=America/New_York:20260728T140000
DTEND;TZID=America/New_York:20260728T150000
DTSTAMP:20260421T065422
CREATED:20250905T165318Z
LAST-MODIFIED:20250905T165318Z
UID:10017211-1785247200-1785250800@standrewbytheseaumc.org
SUMMARY:Seaside Bell Choir Rehearsal
DESCRIPTION:
URL:https://standrewbytheseaumc.org/event/seaside-bell-choir-rehearsal/2026-07-28/
ATTACH;FMTTYPE=image/png:/wp-content/uploads/2026/02/event-default-logo.png
END:VEVENT
BEGIN:VEVENT
DTSTART;TZID=America/New_York:20260728T183000
DTEND;TZID=America/New_York:20260728T203000
DTSTAMP:20260421T065422
CREATED:20240517T145923Z
LAST-MODIFIED:20260213T163944Z
UID:10004512-1785263400-1785270600@standrewbytheseaumc.org
SUMMARY:Men's open gym
DESCRIPTION:
URL:https://standrewbytheseaumc.org/event/mens-open-gym/2026-07-28/
ATTACH;FMTTYPE=image/png:/wp-content/uploads/2026/02/event-default-logo.png
END:VEVENT
BEGIN:VEVENT
DTSTART;TZID=America/New_York:20260729T073000
DTEND;TZID=America/New_York:20260729T083000
DTSTAMP:20260421T065422
CREATED:20240711T165450Z
LAST-MODIFIED:20240920T130237Z
UID:10006190-1785310200-1785313800@standrewbytheseaumc.org
SUMMARY:Day Starters AA Group
DESCRIPTION:
URL:https://standrewbytheseaumc.org/event/day-starters-aa-group-3-2/2026-07-29/
LOCATION:Celebration Center
ATTACH;FMTTYPE=image/jpeg:/wp-content/uploads/2024/06/Group_Meeting-1000.jpg
END:VEVENT
BEGIN:VEVENT
DTSTART;TZID=America/New_York:20260729T120000
DTEND;TZID=America/New_York:20260729T130000
DTSTAMP:20260421T065422
CREATED:20260213T165043Z
LAST-MODIFIED:20260213T165043Z
UID:10018868-1785326400-1785330000@standrewbytheseaumc.org
SUMMARY:Healing + Wholeness Service
DESCRIPTION:
URL:https://standrewbytheseaumc.org/event/healing-wholeness-service/2026-07-29/
ATTACH;FMTTYPE=image/jpeg:/wp-content/uploads/2025/07/Healing-and-Wholeness-full-image-with-content-2024.jpg
END:VEVENT
BEGIN:VEVENT
DTSTART;TZID=America/New_York:20260729T173000
DTEND;TZID=America/New_York:20260729T190000
DTSTAMP:20260421T065422
CREATED:20250508T182139Z
LAST-MODIFIED:20250919T152812Z
UID:10017141-1785346200-1785351600@standrewbytheseaumc.org
SUMMARY:Seaside Chancel Choir rehearsal
DESCRIPTION:
URL:https://standrewbytheseaumc.org/event/seaside-chancel-choir-rehearsal-2/2026-07-29/
LOCATION:Music Room
ATTACH;FMTTYPE=image/png:/wp-content/uploads/2026/02/event-default-logo.png
END:VEVENT
BEGIN:VEVENT
DTSTART;TZID=America/New_York:20260730T073000
DTEND;TZID=America/New_York:20260730T083000
DTSTAMP:20260421T065422
CREATED:20240711T165450Z
LAST-MODIFIED:20240920T130237Z
UID:10006191-1785396600-1785400200@standrewbytheseaumc.org
SUMMARY:Day Starters AA Group
DESCRIPTION:
URL:https://standrewbytheseaumc.org/event/day-starters-aa-group-3-2/2026-07-30/
LOCATION:Celebration Center
ATTACH;FMTTYPE=image/jpeg:/wp-content/uploads/2024/06/Group_Meeting-1000.jpg
END:VEVENT
BEGIN:VEVENT
DTSTART;TZID=America/New_York:20260730T080000
DTEND;TZID=America/New_York:20260730T090000
DTSTAMP:20260421T065422
CREATED:20240517T145923Z
LAST-MODIFIED:20251204T194950Z
UID:10004772-1785398400-1785402000@standrewbytheseaumc.org
SUMMARY:Men's Devotional Group
DESCRIPTION:
URL:https://standrewbytheseaumc.org/event/mens-devotional-group/2026-07-30/
ATTACH;FMTTYPE=image/png:/wp-content/uploads/2026/02/event-default-logo.png
END:VEVENT
BEGIN:VEVENT
DTSTART;TZID=America/New_York:20260731T073000
DTEND;TZID=America/New_York:20260731T083000
DTSTAMP:20260421T065422
CREATED:20240711T165450Z
LAST-MODIFIED:20240920T130237Z
UID:10006192-1785483000-1785486600@standrewbytheseaumc.org
SUMMARY:Day Starters AA Group
DESCRIPTION:
URL:https://standrewbytheseaumc.org/event/day-starters-aa-group-3-2/2026-07-31/
LOCATION:Celebration Center
ATTACH;FMTTYPE=image/jpeg:/wp-content/uploads/2024/06/Group_Meeting-1000.jpg
END:VEVENT
BEGIN:VEVENT
DTSTART;TZID=America/New_York:20260731T083000
DTEND;TZID=America/New_York:20260731T110000
DTSTAMP:20260421T065422
CREATED:20240509T232637Z
LAST-MODIFIED:20250221T153539Z
UID:10014208-1785486600-1785495600@standrewbytheseaumc.org
SUMMARY:Soup Kitchen
DESCRIPTION:The Soup Kitchen is a weekly ministry that serves persons in need in our community by sharing the love of God\, and providing food for nourishment\, kindness\, and hope for the future. \nDoors open at 8:30 am\, hot meals served 9:30-10:30 am\, pantry at 10:30 am.
URL:https://standrewbytheseaumc.org/event/soup-kitchen-2/2026-07-31/
ATTACH;FMTTYPE=image/jpeg:/wp-content/uploads/2024/05/Soup-Kitchen-e1720639777791.jpg
END:VEVENT
BEGIN:VEVENT
DTSTART;TZID=America/New_York:20260731T130000
DTEND;TZID=America/New_York:20260731T140000
DTSTAMP:20260421T065422
CREATED:20260213T161040Z
LAST-MODIFIED:20260213T161040Z
UID:10018530-1785502800-1785506400@standrewbytheseaumc.org
SUMMARY:Disciple Fast Track 3 Bible Study
DESCRIPTION:
URL:https://standrewbytheseaumc.org/event/disciple-fast-track-3-bible-study/2026-07-31/
LOCATION:Admin. Bldg. – Conference Room
ATTACH;FMTTYPE=image/png:/wp-content/uploads/2026/02/event-default-logo.png
ORGANIZER;CN="Kerry Tilden":MAILTO:kerry@lovetheocean.com
END:VEVENT
BEGIN:VEVENT
DTSTART;VALUE=DATE:20260802
DTEND;VALUE=DATE:20260803
DTSTAMP:20260421T065422
CREATED:20250508T180228Z
LAST-MODIFIED:20251204T193552Z
UID:10014736-1785628800-1785715199@standrewbytheseaumc.org
SUMMARY:Communion
DESCRIPTION:
URL:https://standrewbytheseaumc.org/event/communion-9/2026-08-02/
ATTACH;FMTTYPE=image/jpeg:/wp-content/uploads/2025/05/bread_and_cup_title_still_hd.jpg
END:VEVENT
BEGIN:VEVENT
DTSTART;TZID=America/New_York:20260802T100000
DTEND;TZID=America/New_York:20260802T110000
DTSTAMP:20260421T065422
CREATED:20260417T143740Z
LAST-MODIFIED:20260417T143802Z
UID:10018991-1785664800-1785668400@standrewbytheseaumc.org
SUMMARY:Summer Worship - One Service
DESCRIPTION:
URL:https://standrewbytheseaumc.org/event/summer-worship/2026-08-02/
ATTACH;FMTTYPE=image/png:/wp-content/uploads/2026/02/event-default-logo.png
END:VEVENT
BEGIN:VEVENT
DTSTART;TZID=America/New_York:20260803T073000
DTEND;TZID=America/New_York:20260803T083000
DTSTAMP:20260421T065422
CREATED:20240711T165450Z
LAST-MODIFIED:20240920T130237Z
UID:10006195-1785742200-1785745800@standrewbytheseaumc.org
SUMMARY:Day Starters AA Group
DESCRIPTION:
URL:https://standrewbytheseaumc.org/event/day-starters-aa-group-3-2/2026-08-03/
LOCATION:Celebration Center
ATTACH;FMTTYPE=image/jpeg:/wp-content/uploads/2024/06/Group_Meeting-1000.jpg
END:VEVENT
BEGIN:VEVENT
DTSTART;TZID=America/New_York:20260804T073000
DTEND;TZID=America/New_York:20260804T083000
DTSTAMP:20260421T065422
CREATED:20240711T165450Z
LAST-MODIFIED:20240920T130237Z
UID:10006196-1785828600-1785832200@standrewbytheseaumc.org
SUMMARY:Day Starters AA Group
DESCRIPTION:
URL:https://standrewbytheseaumc.org/event/day-starters-aa-group-3-2/2026-08-04/
LOCATION:Celebration Center
ATTACH;FMTTYPE=image/jpeg:/wp-content/uploads/2024/06/Group_Meeting-1000.jpg
END:VEVENT
BEGIN:VEVENT
DTSTART;TZID=America/New_York:20260804T083000
DTEND;TZID=America/New_York:20260804T110000
DTSTAMP:20260421T065422
CREATED:20240509T232637Z
LAST-MODIFIED:20250221T153539Z
UID:10014209-1785832200-1785841200@standrewbytheseaumc.org
SUMMARY:Soup Kitchen
DESCRIPTION:The Soup Kitchen is a weekly ministry that serves persons in need in our community by sharing the love of God\, and providing food for nourishment\, kindness\, and hope for the future. \nDoors open at 8:30 am\, hot meals served 9:30-10:30 am\, pantry at 10:30 am.
URL:https://standrewbytheseaumc.org/event/soup-kitchen-2/2026-08-04/
ATTACH;FMTTYPE=image/jpeg:/wp-content/uploads/2024/05/Soup-Kitchen-e1720639777791.jpg
END:VEVENT
BEGIN:VEVENT
DTSTART;TZID=America/New_York:20260804T100000
DTEND;TZID=America/New_York:20260804T110000
DTSTAMP:20260421T065422
CREATED:20241205T210503Z
LAST-MODIFIED:20260213T181308Z
UID:10004253-1785837600-1785841200@standrewbytheseaumc.org
SUMMARY:Fellowship Friends Weekly Zoom Chat
DESCRIPTION:
URL:https://standrewbytheseaumc.org/event/fellowship-friends-weekly-zoom-chat-21/2026-08-04/
ATTACH;FMTTYPE=image/png:/wp-content/uploads/2026/02/event-default-logo.png
END:VEVENT
BEGIN:VEVENT
DTSTART;TZID=America/New_York:20260804T120000
DTEND;TZID=America/New_York:20260804T130000
DTSTAMP:20260421T065422
CREATED:20240606T184706Z
LAST-MODIFIED:20260213T160259Z
UID:10018171-1785844800-1785848400@standrewbytheseaumc.org
SUMMARY:Staff Meeting
DESCRIPTION:
URL:https://standrewbytheseaumc.org/event/staff-meeting-24-2/2026-08-04/
ATTACH;FMTTYPE=image/png:/wp-content/uploads/2026/02/event-default-logo.png
END:VEVENT
BEGIN:VEVENT
DTSTART;TZID=America/New_York:20260804T130000
DTEND;TZID=America/New_York:20260804T140000
DTSTAMP:20260421T065422
CREATED:20260213T160643Z
LAST-MODIFIED:20260213T160643Z
UID:10018432-1785848400-1785852000@standrewbytheseaumc.org
SUMMARY:Devotions + Laughter Women's Bible Study
DESCRIPTION:
URL:https://standrewbytheseaumc.org/event/devotions-laughter-womens-bible-study/2026-08-04/
LOCATION:Admin. Bldg. Library
ATTACH;FMTTYPE=image/png:/wp-content/uploads/2026/02/event-default-logo.png
ORGANIZER;CN="Kerry Tilden":MAILTO:kerry@lovetheocean.com
END:VEVENT
BEGIN:VEVENT
DTSTART;TZID=America/New_York:20260804T140000
DTEND;TZID=America/New_York:20260804T150000
DTSTAMP:20260421T065422
CREATED:20250905T165318Z
LAST-MODIFIED:20250905T165318Z
UID:10017212-1785852000-1785855600@standrewbytheseaumc.org
SUMMARY:Seaside Bell Choir Rehearsal
DESCRIPTION:
URL:https://standrewbytheseaumc.org/event/seaside-bell-choir-rehearsal/2026-08-04/
ATTACH;FMTTYPE=image/png:/wp-content/uploads/2026/02/event-default-logo.png
END:VEVENT
BEGIN:VEVENT
DTSTART;TZID=America/New_York:20260804T183000
DTEND;TZID=America/New_York:20260804T203000
DTSTAMP:20260421T065422
CREATED:20240517T145923Z
LAST-MODIFIED:20260213T163944Z
UID:10004513-1785868200-1785875400@standrewbytheseaumc.org
SUMMARY:Men's open gym
DESCRIPTION:
URL:https://standrewbytheseaumc.org/event/mens-open-gym/2026-08-04/
ATTACH;FMTTYPE=image/png:/wp-content/uploads/2026/02/event-default-logo.png
END:VEVENT
BEGIN:VEVENT
DTSTART;TZID=America/New_York:20260805T073000
DTEND;TZID=America/New_York:20260805T083000
DTSTAMP:20260421T065422
CREATED:20240711T165450Z
LAST-MODIFIED:20240920T130237Z
UID:10006197-1785915000-1785918600@standrewbytheseaumc.org
SUMMARY:Day Starters AA Group
DESCRIPTION:
URL:https://standrewbytheseaumc.org/event/day-starters-aa-group-3-2/2026-08-05/
LOCATION:Celebration Center
ATTACH;FMTTYPE=image/jpeg:/wp-content/uploads/2024/06/Group_Meeting-1000.jpg
END:VEVENT
BEGIN:VEVENT
DTSTART;TZID=America/New_York:20260805T120000
DTEND;TZID=America/New_York:20260805T130000
DTSTAMP:20260421T065422
CREATED:20260213T165043Z
LAST-MODIFIED:20260213T165043Z
UID:10018869-1785931200-1785934800@standrewbytheseaumc.org
SUMMARY:Healing + Wholeness Service
DESCRIPTION:
URL:https://standrewbytheseaumc.org/event/healing-wholeness-service/2026-08-05/
ATTACH;FMTTYPE=image/jpeg:/wp-content/uploads/2025/07/Healing-and-Wholeness-full-image-with-content-2024.jpg
END:VEVENT
BEGIN:VEVENT
DTSTART;TZID=America/New_York:20260805T173000
DTEND;TZID=America/New_York:20260805T190000
DTSTAMP:20260421T065422
CREATED:20250508T182139Z
LAST-MODIFIED:20250919T152812Z
UID:10017142-1785951000-1785956400@standrewbytheseaumc.org
SUMMARY:Seaside Chancel Choir rehearsal
DESCRIPTION:
URL:https://standrewbytheseaumc.org/event/seaside-chancel-choir-rehearsal-2/2026-08-05/
LOCATION:Music Room
ATTACH;FMTTYPE=image/png:/wp-content/uploads/2026/02/event-default-logo.png
END:VEVENT
BEGIN:VEVENT
DTSTART;TZID=America/New_York:20260806T073000
DTEND;TZID=America/New_York:20260806T083000
DTSTAMP:20260421T065422
CREATED:20240711T165450Z
LAST-MODIFIED:20240920T130237Z
UID:10006198-1786001400-1786005000@standrewbytheseaumc.org
SUMMARY:Day Starters AA Group
DESCRIPTION:
URL:https://standrewbytheseaumc.org/event/day-starters-aa-group-3-2/2026-08-06/
LOCATION:Celebration Center
ATTACH;FMTTYPE=image/jpeg:/wp-content/uploads/2024/06/Group_Meeting-1000.jpg
END:VEVENT
BEGIN:VEVENT
DTSTART;TZID=America/New_York:20260806T080000
DTEND;TZID=America/New_York:20260806T090000
DTSTAMP:20260421T065422
CREATED:20240517T145923Z
LAST-MODIFIED:20251204T194950Z
UID:10004773-1786003200-1786006800@standrewbytheseaumc.org
SUMMARY:Men's Devotional Group
DESCRIPTION:
URL:https://standrewbytheseaumc.org/event/mens-devotional-group/2026-08-06/
ATTACH;FMTTYPE=image/png:/wp-content/uploads/2026/02/event-default-logo.png
END:VEVENT
BEGIN:VEVENT
DTSTART;TZID=America/New_York:20260807T073000
DTEND;TZID=America/New_York:20260807T083000
DTSTAMP:20260421T065422
CREATED:20240711T165450Z
LAST-MODIFIED:20240920T130237Z
UID:10006199-1786087800-1786091400@standrewbytheseaumc.org
SUMMARY:Day Starters AA Group
DESCRIPTION:
URL:https://standrewbytheseaumc.org/event/day-starters-aa-group-3-2/2026-08-07/
LOCATION:Celebration Center
ATTACH;FMTTYPE=image/jpeg:/wp-content/uploads/2024/06/Group_Meeting-1000.jpg
END:VEVENT
BEGIN:VEVENT
DTSTART;TZID=America/New_York:20260807T083000
DTEND;TZID=America/New_York:20260807T110000
DTSTAMP:20260421T065422
CREATED:20240509T232637Z
LAST-MODIFIED:20250221T153539Z
UID:10014210-1786091400-1786100400@standrewbytheseaumc.org
SUMMARY:Soup Kitchen
DESCRIPTION:The Soup Kitchen is a weekly ministry that serves persons in need in our community by sharing the love of God\, and providing food for nourishment\, kindness\, and hope for the future. \nDoors open at 8:30 am\, hot meals served 9:30-10:30 am\, pantry at 10:30 am.
URL:https://standrewbytheseaumc.org/event/soup-kitchen-2/2026-08-07/
ATTACH;FMTTYPE=image/jpeg:/wp-content/uploads/2024/05/Soup-Kitchen-e1720639777791.jpg
END:VEVENT
END:VCALENDAR