BEGIN:VCALENDAR
VERSION:2.0
PRODID:-//St. Andrew By-The-Sea United Methodist Church - ECPv6.15.20//NONSGML v1.0//EN
CALSCALE:GREGORIAN
METHOD:PUBLISH
X-WR-CALNAME:St. Andrew By-The-Sea United Methodist Church
X-ORIGINAL-URL:https://standrewbytheseaumc.org
X-WR-CALDESC:Events for St. Andrew By-The-Sea United Methodist Church
REFRESH-INTERVAL;VALUE=DURATION:PT1H
X-Robots-Tag:noindex
X-PUBLISHED-TTL:PT1H
BEGIN:VTIMEZONE
TZID:America/New_York
BEGIN:DAYLIGHT
TZOFFSETFROM:-0500
TZOFFSETTO:-0400
TZNAME:EDT
DTSTART:20250309T070000
END:DAYLIGHT
BEGIN:STANDARD
TZOFFSETFROM:-0400
TZOFFSETTO:-0500
TZNAME:EST
DTSTART:20251102T060000
END:STANDARD
BEGIN:DAYLIGHT
TZOFFSETFROM:-0500
TZOFFSETTO:-0400
TZNAME:EDT
DTSTART:20260308T070000
END:DAYLIGHT
BEGIN:STANDARD
TZOFFSETFROM:-0400
TZOFFSETTO:-0500
TZNAME:EST
DTSTART:20261101T060000
END:STANDARD
BEGIN:DAYLIGHT
TZOFFSETFROM:-0500
TZOFFSETTO:-0400
TZNAME:EDT
DTSTART:20270314T070000
END:DAYLIGHT
BEGIN:STANDARD
TZOFFSETFROM:-0400
TZOFFSETTO:-0500
TZNAME:EST
DTSTART:20271107T060000
END:STANDARD
END:VTIMEZONE
BEGIN:VEVENT
DTSTART;TZID=America/New_York:20260127T120000
DTEND;TZID=America/New_York:20260127T130000
DTSTAMP:20260421T065551
CREATED:20240606T184706Z
LAST-MODIFIED:20260213T160259Z
UID:10018144-1769515200-1769518800@standrewbytheseaumc.org
SUMMARY:Staff Meeting
DESCRIPTION:
URL:https://standrewbytheseaumc.org/event/staff-meeting-24-2/2026-01-27/
ATTACH;FMTTYPE=image/png:/wp-content/uploads/2026/02/event-default-logo.png
END:VEVENT
BEGIN:VEVENT
DTSTART;TZID=America/New_York:20260127T100000
DTEND;TZID=America/New_York:20260127T110000
DTSTAMP:20260421T065551
CREATED:20241205T210503Z
LAST-MODIFIED:20260213T181308Z
UID:10004226-1769508000-1769511600@standrewbytheseaumc.org
SUMMARY:Fellowship Friends Weekly Zoom Chat
DESCRIPTION:
URL:https://standrewbytheseaumc.org/event/fellowship-friends-weekly-zoom-chat-21/2026-01-27/
ATTACH;FMTTYPE=image/png:/wp-content/uploads/2026/02/event-default-logo.png
END:VEVENT
BEGIN:VEVENT
DTSTART;TZID=America/New_York:20260127T083000
DTEND;TZID=America/New_York:20260127T110000
DTSTAMP:20260421T065551
CREATED:20240509T232637Z
LAST-MODIFIED:20250221T153539Z
UID:10014155-1769502600-1769511600@standrewbytheseaumc.org
SUMMARY:Soup Kitchen
DESCRIPTION:The Soup Kitchen is a weekly ministry that serves persons in need in our community by sharing the love of God\, and providing food for nourishment\, kindness\, and hope for the future. \nDoors open at 8:30 am\, hot meals served 9:30-10:30 am\, pantry at 10:30 am.
URL:https://standrewbytheseaumc.org/event/soup-kitchen-2/2026-01-27/
ATTACH;FMTTYPE=image/jpeg:/wp-content/uploads/2024/05/Soup-Kitchen-e1720639777791.jpg
END:VEVENT
BEGIN:VEVENT
DTSTART;TZID=America/New_York:20260127T073000
DTEND;TZID=America/New_York:20260127T083000
DTSTAMP:20260421T065551
CREATED:20240711T165450Z
LAST-MODIFIED:20240920T130237Z
UID:10006007-1769499000-1769502600@standrewbytheseaumc.org
SUMMARY:Day Starters AA Group
DESCRIPTION:
URL:https://standrewbytheseaumc.org/event/day-starters-aa-group-3-2/2026-01-27/
LOCATION:Celebration Center
ATTACH;FMTTYPE=image/jpeg:/wp-content/uploads/2024/06/Group_Meeting-1000.jpg
END:VEVENT
BEGIN:VEVENT
DTSTART;TZID=America/New_York:20260126T073000
DTEND;TZID=America/New_York:20260126T083000
DTSTAMP:20260421T065551
CREATED:20240711T165450Z
LAST-MODIFIED:20240920T130237Z
UID:10006006-1769412600-1769416200@standrewbytheseaumc.org
SUMMARY:Day Starters AA Group
DESCRIPTION:
URL:https://standrewbytheseaumc.org/event/day-starters-aa-group-3-2/2026-01-26/
LOCATION:Celebration Center
ATTACH;FMTTYPE=image/jpeg:/wp-content/uploads/2024/06/Group_Meeting-1000.jpg
END:VEVENT
BEGIN:VEVENT
DTSTART;TZID=America/New_York:20260125T110900
DTEND;TZID=America/New_York:20260125T121500
DTSTAMP:20260421T065551
CREATED:20241205T205556Z
LAST-MODIFIED:20251204T194200Z
UID:10005004-1769339340-1769343300@standrewbytheseaumc.org
SUMMARY:MODERN Worship
DESCRIPTION:Worship with us in the sanctuary as we gather for praise\, hear God’s Word\, respond to God’s Word\, and go forth to serve God’s world\, led by our pastors and our praise team on guitar and keyboard.
URL:https://standrewbytheseaumc.org/event/modern-worship-26-2-2-2/2026-01-25/
ATTACH;FMTTYPE=image/jpeg:/wp-content/uploads/2024/05/Modern-Worship-1000.jpg
END:VEVENT
BEGIN:VEVENT
DTSTART;TZID=America/New_York:20260125T090000
DTEND;TZID=America/New_York:20260125T100000
DTSTAMP:20260421T065551
CREATED:20250612T184817Z
LAST-MODIFIED:20251204T194047Z
UID:10013751-1769331600-1769335200@standrewbytheseaumc.org
SUMMARY:TRADITIONAL Worship
DESCRIPTION:Worship with us in the sanctuary as we gather for praise\, hear God’s Word\, respond to God’s Word\, and go forth to serve God’s world\, led by our pastors and our chancel choir\, accompanied by organ and piano.
URL:https://standrewbytheseaumc.org/event/traditional-worship-2-2-2-2-2-2-2/2026-01-25/
ATTACH;FMTTYPE=image/png:/wp-content/uploads/2026/02/event-default-logo.png
END:VEVENT
BEGIN:VEVENT
DTSTART;VALUE=DATE:20260125
DTEND;VALUE=DATE:20260126
DTSTAMP:20260421T065551
CREATED:20251204T201314Z
LAST-MODIFIED:20251204T201314Z
UID:10017963-1769299200-1769385599@standrewbytheseaumc.org
SUMMARY:Suds Sunday
DESCRIPTION:
URL:https://standrewbytheseaumc.org/event/suds-sunday-2/2026-01-25/
ATTACH;FMTTYPE=image/png:/wp-content/uploads/2026/02/event-default-logo.png
END:VEVENT
BEGIN:VEVENT
DTSTART;TZID=America/New_York:20260123T083000
DTEND;TZID=America/New_York:20260123T110000
DTSTAMP:20260421T065551
CREATED:20240509T232637Z
LAST-MODIFIED:20250221T153539Z
UID:10014154-1769157000-1769166000@standrewbytheseaumc.org
SUMMARY:Soup Kitchen
DESCRIPTION:The Soup Kitchen is a weekly ministry that serves persons in need in our community by sharing the love of God\, and providing food for nourishment\, kindness\, and hope for the future. \nDoors open at 8:30 am\, hot meals served 9:30-10:30 am\, pantry at 10:30 am.
URL:https://standrewbytheseaumc.org/event/soup-kitchen-2/2026-01-23/
ATTACH;FMTTYPE=image/jpeg:/wp-content/uploads/2024/05/Soup-Kitchen-e1720639777791.jpg
END:VEVENT
BEGIN:VEVENT
DTSTART;TZID=America/New_York:20260123T073000
DTEND;TZID=America/New_York:20260123T083000
DTSTAMP:20260421T065551
CREATED:20240711T165450Z
LAST-MODIFIED:20240920T130237Z
UID:10006003-1769153400-1769157000@standrewbytheseaumc.org
SUMMARY:Day Starters AA Group
DESCRIPTION:
URL:https://standrewbytheseaumc.org/event/day-starters-aa-group-3-2/2026-01-23/
LOCATION:Celebration Center
ATTACH;FMTTYPE=image/jpeg:/wp-content/uploads/2024/06/Group_Meeting-1000.jpg
END:VEVENT
BEGIN:VEVENT
DTSTART;TZID=America/New_York:20260122T100000
DTEND;TZID=America/New_York:20260122T110000
DTSTAMP:20260421T065551
CREATED:20260116T191456Z
LAST-MODIFIED:20260116T191457Z
UID:10018012-1769076000-1769079600@standrewbytheseaumc.org
SUMMARY:Creating for Good
DESCRIPTION:
URL:https://standrewbytheseaumc.org/event/creating-for-good-b104-2-2/2026-01-22/
LOCATION:Admin. Bldg.
ATTACH;FMTTYPE=image/png:/wp-content/uploads/2026/02/event-default-logo.png
ORGANIZER;CN="Kerry Tilden":MAILTO:kerry@lovetheocean.com
END:VEVENT
BEGIN:VEVENT
DTSTART;TZID=America/New_York:20260122T080000
DTEND;TZID=America/New_York:20260122T090000
DTSTAMP:20260421T065551
CREATED:20240517T145923Z
LAST-MODIFIED:20251204T194950Z
UID:10004745-1769068800-1769072400@standrewbytheseaumc.org
SUMMARY:Men's Devotional Group
DESCRIPTION:
URL:https://standrewbytheseaumc.org/event/mens-devotional-group/2026-01-22/
ATTACH;FMTTYPE=image/png:/wp-content/uploads/2026/02/event-default-logo.png
END:VEVENT
BEGIN:VEVENT
DTSTART;TZID=America/New_York:20260122T073000
DTEND;TZID=America/New_York:20260122T083000
DTSTAMP:20260421T065551
CREATED:20240711T165450Z
LAST-MODIFIED:20240920T130237Z
UID:10006002-1769067000-1769070600@standrewbytheseaumc.org
SUMMARY:Day Starters AA Group
DESCRIPTION:
URL:https://standrewbytheseaumc.org/event/day-starters-aa-group-3-2/2026-01-22/
LOCATION:Celebration Center
ATTACH;FMTTYPE=image/jpeg:/wp-content/uploads/2024/06/Group_Meeting-1000.jpg
END:VEVENT
BEGIN:VEVENT
DTSTART;TZID=America/New_York:20260121T173000
DTEND;TZID=America/New_York:20260121T190000
DTSTAMP:20260421T065551
CREATED:20250508T182139Z
LAST-MODIFIED:20250919T152812Z
UID:10017114-1769016600-1769022000@standrewbytheseaumc.org
SUMMARY:Seaside Chancel Choir rehearsal
DESCRIPTION:
URL:https://standrewbytheseaumc.org/event/seaside-chancel-choir-rehearsal-2/2026-01-21/
LOCATION:Music Room
ATTACH;FMTTYPE=image/png:/wp-content/uploads/2026/02/event-default-logo.png
END:VEVENT
BEGIN:VEVENT
DTSTART;TZID=America/New_York:20260121T120000
DTEND;TZID=America/New_York:20260121T130000
DTSTAMP:20260421T065551
CREATED:20260213T165043Z
LAST-MODIFIED:20260213T165043Z
UID:10018842-1768996800-1769000400@standrewbytheseaumc.org
SUMMARY:Healing + Wholeness Service
DESCRIPTION:
URL:https://standrewbytheseaumc.org/event/healing-wholeness-service/2026-01-21/
ATTACH;FMTTYPE=image/jpeg:/wp-content/uploads/2025/07/Healing-and-Wholeness-full-image-with-content-2024.jpg
END:VEVENT
BEGIN:VEVENT
DTSTART;TZID=America/New_York:20260121T073000
DTEND;TZID=America/New_York:20260121T083000
DTSTAMP:20260421T065551
CREATED:20240711T165450Z
LAST-MODIFIED:20240920T130237Z
UID:10006001-1768980600-1768984200@standrewbytheseaumc.org
SUMMARY:Day Starters AA Group
DESCRIPTION:
URL:https://standrewbytheseaumc.org/event/day-starters-aa-group-3-2/2026-01-21/
LOCATION:Celebration Center
ATTACH;FMTTYPE=image/jpeg:/wp-content/uploads/2024/06/Group_Meeting-1000.jpg
END:VEVENT
BEGIN:VEVENT
DTSTART;TZID=America/New_York:20260120T183000
DTEND;TZID=America/New_York:20260120T203000
DTSTAMP:20260421T065551
CREATED:20240517T145923Z
LAST-MODIFIED:20260213T163944Z
UID:10004485-1768933800-1768941000@standrewbytheseaumc.org
SUMMARY:Men's open gym
DESCRIPTION:
URL:https://standrewbytheseaumc.org/event/mens-open-gym/2026-01-20/
ATTACH;FMTTYPE=image/png:/wp-content/uploads/2026/02/event-default-logo.png
END:VEVENT
BEGIN:VEVENT
DTSTART;TZID=America/New_York:20260120T140000
DTEND;TZID=America/New_York:20260120T150000
DTSTAMP:20260421T065551
CREATED:20250905T165318Z
LAST-MODIFIED:20250905T165318Z
UID:10017184-1768917600-1768921200@standrewbytheseaumc.org
SUMMARY:Seaside Bell Choir Rehearsal
DESCRIPTION:
URL:https://standrewbytheseaumc.org/event/seaside-bell-choir-rehearsal/2026-01-20/
ATTACH;FMTTYPE=image/png:/wp-content/uploads/2026/02/event-default-logo.png
END:VEVENT
BEGIN:VEVENT
DTSTART;TZID=America/New_York:20260120T120000
DTEND;TZID=America/New_York:20260120T130000
DTSTAMP:20260421T065551
CREATED:20240606T184706Z
LAST-MODIFIED:20260213T160259Z
UID:10018143-1768910400-1768914000@standrewbytheseaumc.org
SUMMARY:Staff Meeting
DESCRIPTION:
URL:https://standrewbytheseaumc.org/event/staff-meeting-24-2/2026-01-20/
ATTACH;FMTTYPE=image/png:/wp-content/uploads/2026/02/event-default-logo.png
END:VEVENT
BEGIN:VEVENT
DTSTART;TZID=America/New_York:20260120T100000
DTEND;TZID=America/New_York:20260120T110000
DTSTAMP:20260421T065551
CREATED:20241205T210503Z
LAST-MODIFIED:20260213T181308Z
UID:10004225-1768903200-1768906800@standrewbytheseaumc.org
SUMMARY:Fellowship Friends Weekly Zoom Chat
DESCRIPTION:
URL:https://standrewbytheseaumc.org/event/fellowship-friends-weekly-zoom-chat-21/2026-01-20/
ATTACH;FMTTYPE=image/png:/wp-content/uploads/2026/02/event-default-logo.png
END:VEVENT
BEGIN:VEVENT
DTSTART;TZID=America/New_York:20260120T083000
DTEND;TZID=America/New_York:20260120T110000
DTSTAMP:20260421T065551
CREATED:20240509T232637Z
LAST-MODIFIED:20250221T153539Z
UID:10014153-1768897800-1768906800@standrewbytheseaumc.org
SUMMARY:Soup Kitchen
DESCRIPTION:The Soup Kitchen is a weekly ministry that serves persons in need in our community by sharing the love of God\, and providing food for nourishment\, kindness\, and hope for the future. \nDoors open at 8:30 am\, hot meals served 9:30-10:30 am\, pantry at 10:30 am.
URL:https://standrewbytheseaumc.org/event/soup-kitchen-2/2026-01-20/
ATTACH;FMTTYPE=image/jpeg:/wp-content/uploads/2024/05/Soup-Kitchen-e1720639777791.jpg
END:VEVENT
BEGIN:VEVENT
DTSTART;TZID=America/New_York:20260120T073000
DTEND;TZID=America/New_York:20260120T083000
DTSTAMP:20260421T065551
CREATED:20240711T165450Z
LAST-MODIFIED:20240920T130237Z
UID:10006000-1768894200-1768897800@standrewbytheseaumc.org
SUMMARY:Day Starters AA Group
DESCRIPTION:
URL:https://standrewbytheseaumc.org/event/day-starters-aa-group-3-2/2026-01-20/
LOCATION:Celebration Center
ATTACH;FMTTYPE=image/jpeg:/wp-content/uploads/2024/06/Group_Meeting-1000.jpg
END:VEVENT
BEGIN:VEVENT
DTSTART;TZID=America/New_York:20260119T073000
DTEND;TZID=America/New_York:20260119T083000
DTSTAMP:20260421T065551
CREATED:20240711T165450Z
LAST-MODIFIED:20240920T130237Z
UID:10005999-1768807800-1768811400@standrewbytheseaumc.org
SUMMARY:Day Starters AA Group
DESCRIPTION:
URL:https://standrewbytheseaumc.org/event/day-starters-aa-group-3-2/2026-01-19/
LOCATION:Celebration Center
ATTACH;FMTTYPE=image/jpeg:/wp-content/uploads/2024/06/Group_Meeting-1000.jpg
END:VEVENT
BEGIN:VEVENT
DTSTART;VALUE=DATE:20260119
DTEND;VALUE=DATE:20260120
DTSTAMP:20260421T065551
CREATED:20251204T200419Z
LAST-MODIFIED:20251204T200419Z
UID:10017962-1768780800-1768867199@standrewbytheseaumc.org
SUMMARY:Church Office Closed - MLK Holiday
DESCRIPTION:
URL:https://standrewbytheseaumc.org/event/church-office-closed-mlk-holiday/
ATTACH;FMTTYPE=image/png:/wp-content/uploads/2025/12/martin-luther-king-jr-day-day-of-service.png
END:VEVENT
BEGIN:VEVENT
DTSTART;TZID=America/New_York:20260118T110900
DTEND;TZID=America/New_York:20260118T121500
DTSTAMP:20260421T065551
CREATED:20241205T205556Z
LAST-MODIFIED:20251204T194200Z
UID:10005003-1768734540-1768738500@standrewbytheseaumc.org
SUMMARY:MODERN Worship
DESCRIPTION:Worship with us in the sanctuary as we gather for praise\, hear God’s Word\, respond to God’s Word\, and go forth to serve God’s world\, led by our pastors and our praise team on guitar and keyboard.
URL:https://standrewbytheseaumc.org/event/modern-worship-26-2-2-2/2026-01-18/
ATTACH;FMTTYPE=image/jpeg:/wp-content/uploads/2024/05/Modern-Worship-1000.jpg
END:VEVENT
BEGIN:VEVENT
DTSTART;TZID=America/New_York:20260118T090000
DTEND;TZID=America/New_York:20260118T100000
DTSTAMP:20260421T065551
CREATED:20250612T184817Z
LAST-MODIFIED:20251204T194047Z
UID:10013750-1768726800-1768730400@standrewbytheseaumc.org
SUMMARY:TRADITIONAL Worship
DESCRIPTION:Worship with us in the sanctuary as we gather for praise\, hear God’s Word\, respond to God’s Word\, and go forth to serve God’s world\, led by our pastors and our chancel choir\, accompanied by organ and piano.
URL:https://standrewbytheseaumc.org/event/traditional-worship-2-2-2-2-2-2-2/2026-01-18/
ATTACH;FMTTYPE=image/png:/wp-content/uploads/2026/02/event-default-logo.png
END:VEVENT
BEGIN:VEVENT
DTSTART;TZID=America/New_York:20260116T083000
DTEND;TZID=America/New_York:20260116T110000
DTSTAMP:20260421T065551
CREATED:20240509T232637Z
LAST-MODIFIED:20250221T153539Z
UID:10014152-1768552200-1768561200@standrewbytheseaumc.org
SUMMARY:Soup Kitchen
DESCRIPTION:The Soup Kitchen is a weekly ministry that serves persons in need in our community by sharing the love of God\, and providing food for nourishment\, kindness\, and hope for the future. \nDoors open at 8:30 am\, hot meals served 9:30-10:30 am\, pantry at 10:30 am.
URL:https://standrewbytheseaumc.org/event/soup-kitchen-2/2026-01-16/
ATTACH;FMTTYPE=image/jpeg:/wp-content/uploads/2024/05/Soup-Kitchen-e1720639777791.jpg
END:VEVENT
BEGIN:VEVENT
DTSTART;TZID=America/New_York:20260116T073000
DTEND;TZID=America/New_York:20260116T083000
DTSTAMP:20260421T065551
CREATED:20240711T165450Z
LAST-MODIFIED:20240920T130237Z
UID:10005996-1768548600-1768552200@standrewbytheseaumc.org
SUMMARY:Day Starters AA Group
DESCRIPTION:
URL:https://standrewbytheseaumc.org/event/day-starters-aa-group-3-2/2026-01-16/
LOCATION:Celebration Center
ATTACH;FMTTYPE=image/jpeg:/wp-content/uploads/2024/06/Group_Meeting-1000.jpg
END:VEVENT
BEGIN:VEVENT
DTSTART;TZID=America/New_York:20260115T100000
DTEND;TZID=America/New_York:20260115T110000
DTSTAMP:20260421T065551
CREATED:20260116T170326Z
LAST-MODIFIED:20260116T191350Z
UID:10018011-1768471200-1768474800@standrewbytheseaumc.org
SUMMARY:Creating for Good
DESCRIPTION:
URL:https://standrewbytheseaumc.org/event/creating-for-good-b104-2/
LOCATION:Admin. Bldg.
ATTACH;FMTTYPE=image/png:/wp-content/uploads/2026/02/event-default-logo.png
ORGANIZER;CN="Kerry Tilden":MAILTO:kerry@lovetheocean.com
END:VEVENT
BEGIN:VEVENT
DTSTART;TZID=America/New_York:20260115T080000
DTEND;TZID=America/New_York:20260115T090000
DTSTAMP:20260421T065551
CREATED:20240517T145923Z
LAST-MODIFIED:20251204T194950Z
UID:10004744-1768464000-1768467600@standrewbytheseaumc.org
SUMMARY:Men's Devotional Group
DESCRIPTION:
URL:https://standrewbytheseaumc.org/event/mens-devotional-group/2026-01-15/
ATTACH;FMTTYPE=image/png:/wp-content/uploads/2026/02/event-default-logo.png
END:VEVENT
END:VCALENDAR