BEGIN:VCALENDAR
VERSION:2.0
PRODID:-//St. Andrew By-The-Sea United Methodist Church - ECPv6.15.20//NONSGML v1.0//EN
CALSCALE:GREGORIAN
METHOD:PUBLISH
X-WR-CALNAME:St. Andrew By-The-Sea United Methodist Church
X-ORIGINAL-URL:https://standrewbytheseaumc.org
X-WR-CALDESC:Events for St. Andrew By-The-Sea United Methodist Church
REFRESH-INTERVAL;VALUE=DURATION:PT1H
X-Robots-Tag:noindex
X-PUBLISHED-TTL:PT1H
BEGIN:VTIMEZONE
TZID:America/New_York
BEGIN:DAYLIGHT
TZOFFSETFROM:-0500
TZOFFSETTO:-0400
TZNAME:EDT
DTSTART:20250309T070000
END:DAYLIGHT
BEGIN:STANDARD
TZOFFSETFROM:-0400
TZOFFSETTO:-0500
TZNAME:EST
DTSTART:20251102T060000
END:STANDARD
BEGIN:DAYLIGHT
TZOFFSETFROM:-0500
TZOFFSETTO:-0400
TZNAME:EDT
DTSTART:20260308T070000
END:DAYLIGHT
BEGIN:STANDARD
TZOFFSETFROM:-0400
TZOFFSETTO:-0500
TZNAME:EST
DTSTART:20261101T060000
END:STANDARD
BEGIN:DAYLIGHT
TZOFFSETFROM:-0500
TZOFFSETTO:-0400
TZNAME:EDT
DTSTART:20270314T070000
END:DAYLIGHT
BEGIN:STANDARD
TZOFFSETFROM:-0400
TZOFFSETTO:-0500
TZNAME:EST
DTSTART:20271107T060000
END:STANDARD
END:VTIMEZONE
BEGIN:VEVENT
DTSTART;TZID=America/New_York:20260805T173000
DTEND;TZID=America/New_York:20260805T190000
DTSTAMP:20260421T092125
CREATED:20250508T182139Z
LAST-MODIFIED:20250919T152812Z
UID:10017142-1785951000-1785956400@standrewbytheseaumc.org
SUMMARY:Seaside Chancel Choir rehearsal
DESCRIPTION:
URL:https://standrewbytheseaumc.org/event/seaside-chancel-choir-rehearsal-2/2026-08-05/
LOCATION:Music Room
ATTACH;FMTTYPE=image/png:/wp-content/uploads/2026/02/event-default-logo.png
END:VEVENT
BEGIN:VEVENT
DTSTART;TZID=America/New_York:20260806T073000
DTEND;TZID=America/New_York:20260806T083000
DTSTAMP:20260421T092125
CREATED:20240711T165450Z
LAST-MODIFIED:20240920T130237Z
UID:10006198-1786001400-1786005000@standrewbytheseaumc.org
SUMMARY:Day Starters AA Group
DESCRIPTION:
URL:https://standrewbytheseaumc.org/event/day-starters-aa-group-3-2/2026-08-06/
LOCATION:Celebration Center
ATTACH;FMTTYPE=image/jpeg:/wp-content/uploads/2024/06/Group_Meeting-1000.jpg
END:VEVENT
BEGIN:VEVENT
DTSTART;TZID=America/New_York:20260806T080000
DTEND;TZID=America/New_York:20260806T090000
DTSTAMP:20260421T092125
CREATED:20240517T145923Z
LAST-MODIFIED:20251204T194950Z
UID:10004773-1786003200-1786006800@standrewbytheseaumc.org
SUMMARY:Men's Devotional Group
DESCRIPTION:
URL:https://standrewbytheseaumc.org/event/mens-devotional-group/2026-08-06/
ATTACH;FMTTYPE=image/png:/wp-content/uploads/2026/02/event-default-logo.png
END:VEVENT
BEGIN:VEVENT
DTSTART;TZID=America/New_York:20260807T073000
DTEND;TZID=America/New_York:20260807T083000
DTSTAMP:20260421T092125
CREATED:20240711T165450Z
LAST-MODIFIED:20240920T130237Z
UID:10006199-1786087800-1786091400@standrewbytheseaumc.org
SUMMARY:Day Starters AA Group
DESCRIPTION:
URL:https://standrewbytheseaumc.org/event/day-starters-aa-group-3-2/2026-08-07/
LOCATION:Celebration Center
ATTACH;FMTTYPE=image/jpeg:/wp-content/uploads/2024/06/Group_Meeting-1000.jpg
END:VEVENT
BEGIN:VEVENT
DTSTART;TZID=America/New_York:20260807T083000
DTEND;TZID=America/New_York:20260807T110000
DTSTAMP:20260421T092125
CREATED:20240509T232637Z
LAST-MODIFIED:20250221T153539Z
UID:10014210-1786091400-1786100400@standrewbytheseaumc.org
SUMMARY:Soup Kitchen
DESCRIPTION:The Soup Kitchen is a weekly ministry that serves persons in need in our community by sharing the love of God\, and providing food for nourishment\, kindness\, and hope for the future. \nDoors open at 8:30 am\, hot meals served 9:30-10:30 am\, pantry at 10:30 am.
URL:https://standrewbytheseaumc.org/event/soup-kitchen-2/2026-08-07/
ATTACH;FMTTYPE=image/jpeg:/wp-content/uploads/2024/05/Soup-Kitchen-e1720639777791.jpg
END:VEVENT
BEGIN:VEVENT
DTSTART;TZID=America/New_York:20260807T130000
DTEND;TZID=America/New_York:20260807T140000
DTSTAMP:20260421T092125
CREATED:20260213T161040Z
LAST-MODIFIED:20260213T161040Z
UID:10018531-1786107600-1786111200@standrewbytheseaumc.org
SUMMARY:Disciple Fast Track 3 Bible Study
DESCRIPTION:
URL:https://standrewbytheseaumc.org/event/disciple-fast-track-3-bible-study/2026-08-07/
LOCATION:Admin. Bldg. – Conference Room
ATTACH;FMTTYPE=image/png:/wp-content/uploads/2026/02/event-default-logo.png
ORGANIZER;CN="Kerry Tilden":MAILTO:kerry@lovetheocean.com
END:VEVENT
BEGIN:VEVENT
DTSTART;TZID=America/New_York:20260809T090000
DTEND;TZID=America/New_York:20260809T100000
DTSTAMP:20260421T092125
CREATED:20260417T143930Z
LAST-MODIFIED:20260417T143930Z
UID:10013779-1786266000-1786269600@standrewbytheseaumc.org
SUMMARY:TRADITIONAL Worship
DESCRIPTION:Worship with us in the sanctuary as we gather for praise\, hear God’s Word\, respond to God’s Word\, and go forth to serve God’s world\, led by our pastors and our chancel choir\, accompanied by organ and piano.
URL:https://standrewbytheseaumc.org/event/traditional-worship-2-2-2-2-2-2-2-2/2026-08-09/
ATTACH;FMTTYPE=image/png:/wp-content/uploads/2026/02/event-default-logo.png
END:VEVENT
BEGIN:VEVENT
DTSTART;TZID=America/New_York:20260809T110900
DTEND;TZID=America/New_York:20260809T121500
DTSTAMP:20260421T092125
CREATED:20260417T144050Z
LAST-MODIFIED:20260417T144050Z
UID:10005032-1786273740-1786277700@standrewbytheseaumc.org
SUMMARY:MODERN Worship
DESCRIPTION:Worship with us in the sanctuary as we gather for praise\, hear God’s Word\, respond to God’s Word\, and go forth to serve God’s world\, led by our pastors and our praise team on guitar and keyboard.
URL:https://standrewbytheseaumc.org/event/modern-worship-26-2-2-2-2/2026-08-09/
ATTACH;FMTTYPE=image/jpeg:/wp-content/uploads/2024/05/Modern-Worship-1000.jpg
END:VEVENT
BEGIN:VEVENT
DTSTART;TZID=America/New_York:20260810T073000
DTEND;TZID=America/New_York:20260810T083000
DTSTAMP:20260421T092125
CREATED:20240711T165450Z
LAST-MODIFIED:20240920T130237Z
UID:10006202-1786347000-1786350600@standrewbytheseaumc.org
SUMMARY:Day Starters AA Group
DESCRIPTION:
URL:https://standrewbytheseaumc.org/event/day-starters-aa-group-3-2/2026-08-10/
LOCATION:Celebration Center
ATTACH;FMTTYPE=image/jpeg:/wp-content/uploads/2024/06/Group_Meeting-1000.jpg
END:VEVENT
BEGIN:VEVENT
DTSTART;TZID=America/New_York:20260810T190000
DTEND;TZID=America/New_York:20260810T210000
DTSTAMP:20260421T092125
CREATED:20240710T201412Z
LAST-MODIFIED:20240710T201721Z
UID:10007587-1786388400-1786395600@standrewbytheseaumc.org
SUMMARY:Masons
DESCRIPTION:
URL:https://standrewbytheseaumc.org/event/masons-2/2026-08-10/
LOCATION:Admin. Bldg.
ATTACH;FMTTYPE=image/png:/wp-content/uploads/2026/02/event-default-logo.png
END:VEVENT
BEGIN:VEVENT
DTSTART;TZID=America/New_York:20260811T073000
DTEND;TZID=America/New_York:20260811T083000
DTSTAMP:20260421T092125
CREATED:20240711T165450Z
LAST-MODIFIED:20240920T130237Z
UID:10006203-1786433400-1786437000@standrewbytheseaumc.org
SUMMARY:Day Starters AA Group
DESCRIPTION:
URL:https://standrewbytheseaumc.org/event/day-starters-aa-group-3-2/2026-08-11/
LOCATION:Celebration Center
ATTACH;FMTTYPE=image/jpeg:/wp-content/uploads/2024/06/Group_Meeting-1000.jpg
END:VEVENT
BEGIN:VEVENT
DTSTART;TZID=America/New_York:20260811T083000
DTEND;TZID=America/New_York:20260811T110000
DTSTAMP:20260421T092125
CREATED:20240509T232637Z
LAST-MODIFIED:20250221T153539Z
UID:10014211-1786437000-1786446000@standrewbytheseaumc.org
SUMMARY:Soup Kitchen
DESCRIPTION:The Soup Kitchen is a weekly ministry that serves persons in need in our community by sharing the love of God\, and providing food for nourishment\, kindness\, and hope for the future. \nDoors open at 8:30 am\, hot meals served 9:30-10:30 am\, pantry at 10:30 am.
URL:https://standrewbytheseaumc.org/event/soup-kitchen-2/2026-08-11/
ATTACH;FMTTYPE=image/jpeg:/wp-content/uploads/2024/05/Soup-Kitchen-e1720639777791.jpg
END:VEVENT
BEGIN:VEVENT
DTSTART;TZID=America/New_York:20260811T100000
DTEND;TZID=America/New_York:20260811T110000
DTSTAMP:20260421T092125
CREATED:20241205T210503Z
LAST-MODIFIED:20260213T181308Z
UID:10004254-1786442400-1786446000@standrewbytheseaumc.org
SUMMARY:Fellowship Friends Weekly Zoom Chat
DESCRIPTION:
URL:https://standrewbytheseaumc.org/event/fellowship-friends-weekly-zoom-chat-21/2026-08-11/
ATTACH;FMTTYPE=image/png:/wp-content/uploads/2026/02/event-default-logo.png
END:VEVENT
BEGIN:VEVENT
DTSTART;TZID=America/New_York:20260811T120000
DTEND;TZID=America/New_York:20260811T130000
DTSTAMP:20260421T092125
CREATED:20240606T184706Z
LAST-MODIFIED:20260213T160259Z
UID:10018172-1786449600-1786453200@standrewbytheseaumc.org
SUMMARY:Staff Meeting
DESCRIPTION:
URL:https://standrewbytheseaumc.org/event/staff-meeting-24-2/2026-08-11/
ATTACH;FMTTYPE=image/png:/wp-content/uploads/2026/02/event-default-logo.png
END:VEVENT
BEGIN:VEVENT
DTSTART;TZID=America/New_York:20260811T130000
DTEND;TZID=America/New_York:20260811T140000
DTSTAMP:20260421T092125
CREATED:20260213T160643Z
LAST-MODIFIED:20260213T160643Z
UID:10018433-1786453200-1786456800@standrewbytheseaumc.org
SUMMARY:Devotions + Laughter Women's Bible Study
DESCRIPTION:
URL:https://standrewbytheseaumc.org/event/devotions-laughter-womens-bible-study/2026-08-11/
LOCATION:Admin. Bldg. Library
ATTACH;FMTTYPE=image/png:/wp-content/uploads/2026/02/event-default-logo.png
ORGANIZER;CN="Kerry Tilden":MAILTO:kerry@lovetheocean.com
END:VEVENT
BEGIN:VEVENT
DTSTART;TZID=America/New_York:20260811T140000
DTEND;TZID=America/New_York:20260811T150000
DTSTAMP:20260421T092125
CREATED:20250905T165318Z
LAST-MODIFIED:20250905T165318Z
UID:10017213-1786456800-1786460400@standrewbytheseaumc.org
SUMMARY:Seaside Bell Choir Rehearsal
DESCRIPTION:
URL:https://standrewbytheseaumc.org/event/seaside-bell-choir-rehearsal/2026-08-11/
ATTACH;FMTTYPE=image/png:/wp-content/uploads/2026/02/event-default-logo.png
END:VEVENT
BEGIN:VEVENT
DTSTART;TZID=America/New_York:20260811T183000
DTEND;TZID=America/New_York:20260811T203000
DTSTAMP:20260421T092125
CREATED:20240517T145923Z
LAST-MODIFIED:20260213T163944Z
UID:10004514-1786473000-1786480200@standrewbytheseaumc.org
SUMMARY:Men's open gym
DESCRIPTION:
URL:https://standrewbytheseaumc.org/event/mens-open-gym/2026-08-11/
ATTACH;FMTTYPE=image/png:/wp-content/uploads/2026/02/event-default-logo.png
END:VEVENT
BEGIN:VEVENT
DTSTART;TZID=America/New_York:20260812T073000
DTEND;TZID=America/New_York:20260812T083000
DTSTAMP:20260421T092125
CREATED:20240711T165450Z
LAST-MODIFIED:20240920T130237Z
UID:10006204-1786519800-1786523400@standrewbytheseaumc.org
SUMMARY:Day Starters AA Group
DESCRIPTION:
URL:https://standrewbytheseaumc.org/event/day-starters-aa-group-3-2/2026-08-12/
LOCATION:Celebration Center
ATTACH;FMTTYPE=image/jpeg:/wp-content/uploads/2024/06/Group_Meeting-1000.jpg
END:VEVENT
BEGIN:VEVENT
DTSTART;TZID=America/New_York:20260812T120000
DTEND;TZID=America/New_York:20260812T130000
DTSTAMP:20260421T092125
CREATED:20260213T165043Z
LAST-MODIFIED:20260213T165043Z
UID:10018870-1786536000-1786539600@standrewbytheseaumc.org
SUMMARY:Healing + Wholeness Service
DESCRIPTION:
URL:https://standrewbytheseaumc.org/event/healing-wholeness-service/2026-08-12/
ATTACH;FMTTYPE=image/jpeg:/wp-content/uploads/2025/07/Healing-and-Wholeness-full-image-with-content-2024.jpg
END:VEVENT
BEGIN:VEVENT
DTSTART;TZID=America/New_York:20260812T173000
DTEND;TZID=America/New_York:20260812T190000
DTSTAMP:20260421T092125
CREATED:20250508T182139Z
LAST-MODIFIED:20250919T152812Z
UID:10017143-1786555800-1786561200@standrewbytheseaumc.org
SUMMARY:Seaside Chancel Choir rehearsal
DESCRIPTION:
URL:https://standrewbytheseaumc.org/event/seaside-chancel-choir-rehearsal-2/2026-08-12/
LOCATION:Music Room
ATTACH;FMTTYPE=image/png:/wp-content/uploads/2026/02/event-default-logo.png
END:VEVENT
BEGIN:VEVENT
DTSTART;TZID=America/New_York:20260813T073000
DTEND;TZID=America/New_York:20260813T083000
DTSTAMP:20260421T092125
CREATED:20240711T165450Z
LAST-MODIFIED:20240920T130237Z
UID:10006205-1786606200-1786609800@standrewbytheseaumc.org
SUMMARY:Day Starters AA Group
DESCRIPTION:
URL:https://standrewbytheseaumc.org/event/day-starters-aa-group-3-2/2026-08-13/
LOCATION:Celebration Center
ATTACH;FMTTYPE=image/jpeg:/wp-content/uploads/2024/06/Group_Meeting-1000.jpg
END:VEVENT
BEGIN:VEVENT
DTSTART;TZID=America/New_York:20260813T080000
DTEND;TZID=America/New_York:20260813T090000
DTSTAMP:20260421T092125
CREATED:20240517T145923Z
LAST-MODIFIED:20251204T194950Z
UID:10004774-1786608000-1786611600@standrewbytheseaumc.org
SUMMARY:Men's Devotional Group
DESCRIPTION:
URL:https://standrewbytheseaumc.org/event/mens-devotional-group/2026-08-13/
ATTACH;FMTTYPE=image/png:/wp-content/uploads/2026/02/event-default-logo.png
END:VEVENT
BEGIN:VEVENT
DTSTART;TZID=America/New_York:20260814T073000
DTEND;TZID=America/New_York:20260814T083000
DTSTAMP:20260421T092125
CREATED:20240711T165450Z
LAST-MODIFIED:20240920T130237Z
UID:10006206-1786692600-1786696200@standrewbytheseaumc.org
SUMMARY:Day Starters AA Group
DESCRIPTION:
URL:https://standrewbytheseaumc.org/event/day-starters-aa-group-3-2/2026-08-14/
LOCATION:Celebration Center
ATTACH;FMTTYPE=image/jpeg:/wp-content/uploads/2024/06/Group_Meeting-1000.jpg
END:VEVENT
BEGIN:VEVENT
DTSTART;TZID=America/New_York:20260814T083000
DTEND;TZID=America/New_York:20260814T110000
DTSTAMP:20260421T092125
CREATED:20240509T232637Z
LAST-MODIFIED:20250221T153539Z
UID:10014212-1786696200-1786705200@standrewbytheseaumc.org
SUMMARY:Soup Kitchen
DESCRIPTION:The Soup Kitchen is a weekly ministry that serves persons in need in our community by sharing the love of God\, and providing food for nourishment\, kindness\, and hope for the future. \nDoors open at 8:30 am\, hot meals served 9:30-10:30 am\, pantry at 10:30 am.
URL:https://standrewbytheseaumc.org/event/soup-kitchen-2/2026-08-14/
ATTACH;FMTTYPE=image/jpeg:/wp-content/uploads/2024/05/Soup-Kitchen-e1720639777791.jpg
END:VEVENT
BEGIN:VEVENT
DTSTART;TZID=America/New_York:20260814T130000
DTEND;TZID=America/New_York:20260814T140000
DTSTAMP:20260421T092125
CREATED:20260213T161040Z
LAST-MODIFIED:20260213T161040Z
UID:10018532-1786712400-1786716000@standrewbytheseaumc.org
SUMMARY:Disciple Fast Track 3 Bible Study
DESCRIPTION:
URL:https://standrewbytheseaumc.org/event/disciple-fast-track-3-bible-study/2026-08-14/
LOCATION:Admin. Bldg. – Conference Room
ATTACH;FMTTYPE=image/png:/wp-content/uploads/2026/02/event-default-logo.png
ORGANIZER;CN="Kerry Tilden":MAILTO:kerry@lovetheocean.com
END:VEVENT
BEGIN:VEVENT
DTSTART;TZID=America/New_York:20260816T090000
DTEND;TZID=America/New_York:20260816T100000
DTSTAMP:20260421T092125
CREATED:20260417T143930Z
LAST-MODIFIED:20260417T143930Z
UID:10013780-1786870800-1786874400@standrewbytheseaumc.org
SUMMARY:TRADITIONAL Worship
DESCRIPTION:Worship with us in the sanctuary as we gather for praise\, hear God’s Word\, respond to God’s Word\, and go forth to serve God’s world\, led by our pastors and our chancel choir\, accompanied by organ and piano.
URL:https://standrewbytheseaumc.org/event/traditional-worship-2-2-2-2-2-2-2-2/2026-08-16/
ATTACH;FMTTYPE=image/png:/wp-content/uploads/2026/02/event-default-logo.png
END:VEVENT
BEGIN:VEVENT
DTSTART;TZID=America/New_York:20260816T110900
DTEND;TZID=America/New_York:20260816T121500
DTSTAMP:20260421T092125
CREATED:20260417T144050Z
LAST-MODIFIED:20260417T144050Z
UID:10005033-1786878540-1786882500@standrewbytheseaumc.org
SUMMARY:MODERN Worship
DESCRIPTION:Worship with us in the sanctuary as we gather for praise\, hear God’s Word\, respond to God’s Word\, and go forth to serve God’s world\, led by our pastors and our praise team on guitar and keyboard.
URL:https://standrewbytheseaumc.org/event/modern-worship-26-2-2-2-2/2026-08-16/
ATTACH;FMTTYPE=image/jpeg:/wp-content/uploads/2024/05/Modern-Worship-1000.jpg
END:VEVENT
BEGIN:VEVENT
DTSTART;TZID=America/New_York:20260817T073000
DTEND;TZID=America/New_York:20260817T083000
DTSTAMP:20260421T092125
CREATED:20240711T165450Z
LAST-MODIFIED:20240920T130237Z
UID:10006209-1786951800-1786955400@standrewbytheseaumc.org
SUMMARY:Day Starters AA Group
DESCRIPTION:
URL:https://standrewbytheseaumc.org/event/day-starters-aa-group-3-2/2026-08-17/
LOCATION:Celebration Center
ATTACH;FMTTYPE=image/jpeg:/wp-content/uploads/2024/06/Group_Meeting-1000.jpg
END:VEVENT
BEGIN:VEVENT
DTSTART;TZID=America/New_York:20260818T073000
DTEND;TZID=America/New_York:20260818T083000
DTSTAMP:20260421T092125
CREATED:20240711T165450Z
LAST-MODIFIED:20240920T130237Z
UID:10006210-1787038200-1787041800@standrewbytheseaumc.org
SUMMARY:Day Starters AA Group
DESCRIPTION:
URL:https://standrewbytheseaumc.org/event/day-starters-aa-group-3-2/2026-08-18/
LOCATION:Celebration Center
ATTACH;FMTTYPE=image/jpeg:/wp-content/uploads/2024/06/Group_Meeting-1000.jpg
END:VEVENT
BEGIN:VEVENT
DTSTART;TZID=America/New_York:20260818T083000
DTEND;TZID=America/New_York:20260818T110000
DTSTAMP:20260421T092125
CREATED:20240509T232637Z
LAST-MODIFIED:20250221T153539Z
UID:10014213-1787041800-1787050800@standrewbytheseaumc.org
SUMMARY:Soup Kitchen
DESCRIPTION:The Soup Kitchen is a weekly ministry that serves persons in need in our community by sharing the love of God\, and providing food for nourishment\, kindness\, and hope for the future. \nDoors open at 8:30 am\, hot meals served 9:30-10:30 am\, pantry at 10:30 am.
URL:https://standrewbytheseaumc.org/event/soup-kitchen-2/2026-08-18/
ATTACH;FMTTYPE=image/jpeg:/wp-content/uploads/2024/05/Soup-Kitchen-e1720639777791.jpg
END:VEVENT
END:VCALENDAR