BEGIN:VCALENDAR
VERSION:2.0
PRODID:-//St. Andrew By-The-Sea United Methodist Church - ECPv6.15.20//NONSGML v1.0//EN
CALSCALE:GREGORIAN
METHOD:PUBLISH
X-WR-CALNAME:St. Andrew By-The-Sea United Methodist Church
X-ORIGINAL-URL:https://standrewbytheseaumc.org
X-WR-CALDESC:Events for St. Andrew By-The-Sea United Methodist Church
REFRESH-INTERVAL;VALUE=DURATION:PT1H
X-Robots-Tag:noindex
X-PUBLISHED-TTL:PT1H
BEGIN:VTIMEZONE
TZID:America/New_York
BEGIN:DAYLIGHT
TZOFFSETFROM:-0500
TZOFFSETTO:-0400
TZNAME:EDT
DTSTART:20240310T070000
END:DAYLIGHT
BEGIN:STANDARD
TZOFFSETFROM:-0400
TZOFFSETTO:-0500
TZNAME:EST
DTSTART:20241103T060000
END:STANDARD
BEGIN:DAYLIGHT
TZOFFSETFROM:-0500
TZOFFSETTO:-0400
TZNAME:EDT
DTSTART:20250309T070000
END:DAYLIGHT
BEGIN:STANDARD
TZOFFSETFROM:-0400
TZOFFSETTO:-0500
TZNAME:EST
DTSTART:20251102T060000
END:STANDARD
BEGIN:DAYLIGHT
TZOFFSETFROM:-0500
TZOFFSETTO:-0400
TZNAME:EDT
DTSTART:20260308T070000
END:DAYLIGHT
BEGIN:STANDARD
TZOFFSETFROM:-0400
TZOFFSETTO:-0500
TZNAME:EST
DTSTART:20261101T060000
END:STANDARD
END:VTIMEZONE
BEGIN:VEVENT
DTSTART;VALUE=DATE:20251225
DTEND;VALUE=DATE:20251226
DTSTAMP:20260421T172657
CREATED:20250508T184955Z
LAST-MODIFIED:20250508T184955Z
UID:10014911-1766620800-1766707199@standrewbytheseaumc.org
SUMMARY:Christmas Day
DESCRIPTION:
URL:https://standrewbytheseaumc.org/event/christmas-day/
ATTACH;FMTTYPE=image/png:/wp-content/uploads/2026/02/event-default-logo.png
END:VEVENT
BEGIN:VEVENT
DTSTART;TZID=America/New_York:20251224T180000
DTEND;TZID=America/New_York:20251224T190000
DTSTAMP:20260421T172657
CREATED:20250508T183629Z
LAST-MODIFIED:20251204T195855Z
UID:10014874-1766599200-1766602800@standrewbytheseaumc.org
SUMMARY:Christmas Eve Candlelight Communion Service
DESCRIPTION:
URL:https://standrewbytheseaumc.org/event/christmas-eve-service-2/
ATTACH;FMTTYPE=image/jpeg:/wp-content/uploads/2025/11/Christmas-Schedule-2025.jpg
END:VEVENT
BEGIN:VEVENT
DTSTART;TZID=America/New_York:20251224T160000
DTEND;TZID=America/New_York:20251224T170000
DTSTAMP:20260421T172657
CREATED:20250508T183557Z
LAST-MODIFIED:20251204T195715Z
UID:10014873-1766592000-1766595600@standrewbytheseaumc.org
SUMMARY:Christmas Eve Candlelight Communion Service
DESCRIPTION:
URL:https://standrewbytheseaumc.org/event/christmas-eve-service/
ATTACH;FMTTYPE=image/jpeg:/wp-content/uploads/2025/11/Christmas-Schedule-2025.jpg
END:VEVENT
BEGIN:VEVENT
DTSTART;TZID=America/New_York:20251224T073000
DTEND;TZID=America/New_York:20251224T083000
DTSTAMP:20260421T172657
CREATED:20240711T165450Z
LAST-MODIFIED:20240920T130237Z
UID:10005973-1766561400-1766565000@standrewbytheseaumc.org
SUMMARY:Day Starters AA Group
DESCRIPTION:
URL:https://standrewbytheseaumc.org/event/day-starters-aa-group-3-2/2025-12-24/
LOCATION:Celebration Center
ATTACH;FMTTYPE=image/jpeg:/wp-content/uploads/2024/06/Group_Meeting-1000.jpg
END:VEVENT
BEGIN:VEVENT
DTSTART;VALUE=DATE:20251224
DTEND;VALUE=DATE:20251225
DTSTAMP:20260421T172657
CREATED:20250508T184926Z
LAST-MODIFIED:20250508T184926Z
UID:10014910-1766534400-1766620799@standrewbytheseaumc.org
SUMMARY:Christmas Eve
DESCRIPTION:
URL:https://standrewbytheseaumc.org/event/christmas-eve/
ATTACH;FMTTYPE=image/png:/wp-content/uploads/2026/02/event-default-logo.png
END:VEVENT
BEGIN:VEVENT
DTSTART;TZID=America/New_York:20251223T183000
DTEND;TZID=America/New_York:20251223T203000
DTSTAMP:20260421T172657
CREATED:20240517T145923Z
LAST-MODIFIED:20260213T163944Z
UID:10004481-1766514600-1766521800@standrewbytheseaumc.org
SUMMARY:Men's open gym
DESCRIPTION:
URL:https://standrewbytheseaumc.org/event/mens-open-gym/2025-12-23/
ATTACH;FMTTYPE=image/png:/wp-content/uploads/2026/02/event-default-logo.png
END:VEVENT
BEGIN:VEVENT
DTSTART;TZID=America/New_York:20251223T140000
DTEND;TZID=America/New_York:20251223T150000
DTSTAMP:20260421T172657
CREATED:20250905T165318Z
LAST-MODIFIED:20250905T165318Z
UID:10017180-1766498400-1766502000@standrewbytheseaumc.org
SUMMARY:Seaside Bell Choir Rehearsal
DESCRIPTION:
URL:https://standrewbytheseaumc.org/event/seaside-bell-choir-rehearsal/2025-12-23/
ATTACH;FMTTYPE=image/png:/wp-content/uploads/2026/02/event-default-logo.png
END:VEVENT
BEGIN:VEVENT
DTSTART;TZID=America/New_York:20251223T100000
DTEND;TZID=America/New_York:20251223T110000
DTSTAMP:20260421T172657
CREATED:20241205T210503Z
LAST-MODIFIED:20260213T181308Z
UID:10004221-1766484000-1766487600@standrewbytheseaumc.org
SUMMARY:Fellowship Friends Weekly Zoom Chat
DESCRIPTION:
URL:https://standrewbytheseaumc.org/event/fellowship-friends-weekly-zoom-chat-21/2025-12-23/
ATTACH;FMTTYPE=image/png:/wp-content/uploads/2026/02/event-default-logo.png
END:VEVENT
BEGIN:VEVENT
DTSTART;TZID=America/New_York:20251223T083000
DTEND;TZID=America/New_York:20251223T110000
DTSTAMP:20260421T172657
CREATED:20240509T232637Z
LAST-MODIFIED:20250221T153539Z
UID:10014145-1766478600-1766487600@standrewbytheseaumc.org
SUMMARY:Soup Kitchen
DESCRIPTION:The Soup Kitchen is a weekly ministry that serves persons in need in our community by sharing the love of God\, and providing food for nourishment\, kindness\, and hope for the future. \nDoors open at 8:30 am\, hot meals served 9:30-10:30 am\, pantry at 10:30 am.
URL:https://standrewbytheseaumc.org/event/soup-kitchen-2/2025-12-23/
ATTACH;FMTTYPE=image/jpeg:/wp-content/uploads/2024/05/Soup-Kitchen-e1720639777791.jpg
END:VEVENT
BEGIN:VEVENT
DTSTART;TZID=America/New_York:20251223T073000
DTEND;TZID=America/New_York:20251223T083000
DTSTAMP:20260421T172657
CREATED:20240711T165450Z
LAST-MODIFIED:20240920T130237Z
UID:10005972-1766475000-1766478600@standrewbytheseaumc.org
SUMMARY:Day Starters AA Group
DESCRIPTION:
URL:https://standrewbytheseaumc.org/event/day-starters-aa-group-3-2/2025-12-23/
LOCATION:Celebration Center
ATTACH;FMTTYPE=image/jpeg:/wp-content/uploads/2024/06/Group_Meeting-1000.jpg
END:VEVENT
BEGIN:VEVENT
DTSTART;TZID=America/New_York:20251222T183000
DTEND;TZID=America/New_York:20251222T193000
DTSTAMP:20260421T172657
CREATED:20240920T151935Z
LAST-MODIFIED:20240920T151935Z
UID:10013174-1766428200-1766431800@standrewbytheseaumc.org
SUMMARY:Kindred Spirits
DESCRIPTION:
URL:https://standrewbytheseaumc.org/event/kindred-spirits-2/2025-12-22/
LOCATION:Admin. Bldg. – Conference Room
ATTACH;FMTTYPE=image/png:/wp-content/uploads/2026/02/event-default-logo.png
END:VEVENT
BEGIN:VEVENT
DTSTART;TZID=America/New_York:20251222T073000
DTEND;TZID=America/New_York:20251222T083000
DTSTAMP:20260421T172657
CREATED:20240711T165450Z
LAST-MODIFIED:20240920T130237Z
UID:10005971-1766388600-1766392200@standrewbytheseaumc.org
SUMMARY:Day Starters AA Group
DESCRIPTION:
URL:https://standrewbytheseaumc.org/event/day-starters-aa-group-3-2/2025-12-22/
LOCATION:Celebration Center
ATTACH;FMTTYPE=image/jpeg:/wp-content/uploads/2024/06/Group_Meeting-1000.jpg
END:VEVENT
BEGIN:VEVENT
DTSTART;VALUE=DATE:20251221
DTEND;VALUE=DATE:20251222
DTSTAMP:20260421T172657
CREATED:20250603T151728Z
LAST-MODIFIED:20251204T194633Z
UID:10017563-1766304000-1766336400@standrewbytheseaumc.org
SUMMARY:One Worship Service at 10:00 am
DESCRIPTION:
URL:https://standrewbytheseaumc.org/event/one-worship-service-at-1000-am/2025-12-21/
ATTACH;FMTTYPE=image/jpeg:/wp-content/uploads/2025/06/one-service-sunday-sign.jpeg
END:VEVENT
BEGIN:VEVENT
DTSTART;VALUE=DATE:20251221
DTEND;VALUE=DATE:20251222
DTSTAMP:20260421T172657
CREATED:20250508T183134Z
LAST-MODIFIED:20250508T183134Z
UID:10014872-1766275200-1766361599@standrewbytheseaumc.org
SUMMARY:Fourth Sunday of Advent
DESCRIPTION:
URL:https://standrewbytheseaumc.org/event/fourth-sunday-of-advent-2/
ATTACH;FMTTYPE=image/png:/wp-content/uploads/2026/02/event-default-logo.png
END:VEVENT
BEGIN:VEVENT
DTSTART;TZID=America/New_York:20251219T083000
DTEND;TZID=America/New_York:20251219T110000
DTSTAMP:20260421T172657
CREATED:20240509T232637Z
LAST-MODIFIED:20250221T153539Z
UID:10014144-1766133000-1766142000@standrewbytheseaumc.org
SUMMARY:Soup Kitchen
DESCRIPTION:The Soup Kitchen is a weekly ministry that serves persons in need in our community by sharing the love of God\, and providing food for nourishment\, kindness\, and hope for the future. \nDoors open at 8:30 am\, hot meals served 9:30-10:30 am\, pantry at 10:30 am.
URL:https://standrewbytheseaumc.org/event/soup-kitchen-2/2025-12-19/
ATTACH;FMTTYPE=image/jpeg:/wp-content/uploads/2024/05/Soup-Kitchen-e1720639777791.jpg
END:VEVENT
BEGIN:VEVENT
DTSTART;TZID=America/New_York:20251219T073000
DTEND;TZID=America/New_York:20251219T083000
DTSTAMP:20260421T172657
CREATED:20240711T165450Z
LAST-MODIFIED:20240920T130237Z
UID:10005968-1766129400-1766133000@standrewbytheseaumc.org
SUMMARY:Day Starters AA Group
DESCRIPTION:
URL:https://standrewbytheseaumc.org/event/day-starters-aa-group-3-2/2025-12-19/
LOCATION:Celebration Center
ATTACH;FMTTYPE=image/jpeg:/wp-content/uploads/2024/06/Group_Meeting-1000.jpg
END:VEVENT
BEGIN:VEVENT
DTSTART;TZID=America/New_York:20251218T080000
DTEND;TZID=America/New_York:20251218T090000
DTSTAMP:20260421T172657
CREATED:20240517T145923Z
LAST-MODIFIED:20251204T194950Z
UID:10004740-1766044800-1766048400@standrewbytheseaumc.org
SUMMARY:Men's Devotional Group
DESCRIPTION:
URL:https://standrewbytheseaumc.org/event/mens-devotional-group/2025-12-18/
ATTACH;FMTTYPE=image/png:/wp-content/uploads/2026/02/event-default-logo.png
END:VEVENT
BEGIN:VEVENT
DTSTART;TZID=America/New_York:20251218T073000
DTEND;TZID=America/New_York:20251218T083000
DTSTAMP:20260421T172657
CREATED:20240711T165450Z
LAST-MODIFIED:20240920T130237Z
UID:10005967-1766043000-1766046600@standrewbytheseaumc.org
SUMMARY:Day Starters AA Group
DESCRIPTION:
URL:https://standrewbytheseaumc.org/event/day-starters-aa-group-3-2/2025-12-18/
LOCATION:Celebration Center
ATTACH;FMTTYPE=image/jpeg:/wp-content/uploads/2024/06/Group_Meeting-1000.jpg
END:VEVENT
BEGIN:VEVENT
DTSTART;TZID=America/New_York:20251217T173000
DTEND;TZID=America/New_York:20251217T190000
DTSTAMP:20260421T172657
CREATED:20250508T182139Z
LAST-MODIFIED:20250919T152812Z
UID:10017109-1765992600-1765998000@standrewbytheseaumc.org
SUMMARY:Seaside Chancel Choir rehearsal
DESCRIPTION:
URL:https://standrewbytheseaumc.org/event/seaside-chancel-choir-rehearsal-2/2025-12-17/
LOCATION:Music Room
ATTACH;FMTTYPE=image/png:/wp-content/uploads/2026/02/event-default-logo.png
END:VEVENT
BEGIN:VEVENT
DTSTART;TZID=America/New_York:20251217T073000
DTEND;TZID=America/New_York:20251217T083000
DTSTAMP:20260421T172657
CREATED:20240711T165450Z
LAST-MODIFIED:20240920T130237Z
UID:10005966-1765956600-1765960200@standrewbytheseaumc.org
SUMMARY:Day Starters AA Group
DESCRIPTION:
URL:https://standrewbytheseaumc.org/event/day-starters-aa-group-3-2/2025-12-17/
LOCATION:Celebration Center
ATTACH;FMTTYPE=image/jpeg:/wp-content/uploads/2024/06/Group_Meeting-1000.jpg
END:VEVENT
BEGIN:VEVENT
DTSTART;TZID=America/New_York:20251216T183000
DTEND;TZID=America/New_York:20251216T203000
DTSTAMP:20260421T172657
CREATED:20240517T145923Z
LAST-MODIFIED:20260213T163944Z
UID:10004480-1765909800-1765917000@standrewbytheseaumc.org
SUMMARY:Men's open gym
DESCRIPTION:
URL:https://standrewbytheseaumc.org/event/mens-open-gym/2025-12-16/
ATTACH;FMTTYPE=image/png:/wp-content/uploads/2026/02/event-default-logo.png
END:VEVENT
BEGIN:VEVENT
DTSTART;TZID=America/New_York:20251216T140000
DTEND;TZID=America/New_York:20251216T150000
DTSTAMP:20260421T172657
CREATED:20250905T165318Z
LAST-MODIFIED:20250905T165318Z
UID:10017179-1765893600-1765897200@standrewbytheseaumc.org
SUMMARY:Seaside Bell Choir Rehearsal
DESCRIPTION:
URL:https://standrewbytheseaumc.org/event/seaside-bell-choir-rehearsal/2025-12-16/
ATTACH;FMTTYPE=image/png:/wp-content/uploads/2026/02/event-default-logo.png
END:VEVENT
BEGIN:VEVENT
DTSTART;TZID=America/New_York:20251216T130000
DTEND;TZID=America/New_York:20251216T140000
DTSTAMP:20260421T172657
CREATED:20250919T144904Z
LAST-MODIFIED:20250919T144904Z
UID:10017471-1765890000-1765893600@standrewbytheseaumc.org
SUMMARY:Devotions and Laughter Study
DESCRIPTION:
URL:https://standrewbytheseaumc.org/event/devotions-and-laughter-study/2025-12-16/
LOCATION:Admin. Bldg. Library
ATTACH;FMTTYPE=image/jpeg:/wp-content/uploads/2025/04/pond-river-ocean-rain-book-cover.jpg
ORGANIZER;CN="Kerry Tilden":MAILTO:kerry@lovetheocean.com
END:VEVENT
BEGIN:VEVENT
DTSTART;TZID=America/New_York:20251216T120000
DTEND;TZID=America/New_York:20251216T130000
DTSTAMP:20260421T172657
CREATED:20240606T184706Z
LAST-MODIFIED:20260213T160259Z
UID:10018140-1765886400-1765890000@standrewbytheseaumc.org
SUMMARY:Staff Meeting
DESCRIPTION:
URL:https://standrewbytheseaumc.org/event/staff-meeting-24-2/2025-12-16/
ATTACH;FMTTYPE=image/png:/wp-content/uploads/2026/02/event-default-logo.png
END:VEVENT
BEGIN:VEVENT
DTSTART;TZID=America/New_York:20251216T100000
DTEND;TZID=America/New_York:20251216T110000
DTSTAMP:20260421T172657
CREATED:20241205T210503Z
LAST-MODIFIED:20260213T181308Z
UID:10004220-1765879200-1765882800@standrewbytheseaumc.org
SUMMARY:Fellowship Friends Weekly Zoom Chat
DESCRIPTION:
URL:https://standrewbytheseaumc.org/event/fellowship-friends-weekly-zoom-chat-21/2025-12-16/
ATTACH;FMTTYPE=image/png:/wp-content/uploads/2026/02/event-default-logo.png
END:VEVENT
BEGIN:VEVENT
DTSTART;TZID=America/New_York:20251216T083000
DTEND;TZID=America/New_York:20251216T110000
DTSTAMP:20260421T172657
CREATED:20240509T232637Z
LAST-MODIFIED:20250221T153539Z
UID:10014143-1765873800-1765882800@standrewbytheseaumc.org
SUMMARY:Soup Kitchen
DESCRIPTION:The Soup Kitchen is a weekly ministry that serves persons in need in our community by sharing the love of God\, and providing food for nourishment\, kindness\, and hope for the future. \nDoors open at 8:30 am\, hot meals served 9:30-10:30 am\, pantry at 10:30 am.
URL:https://standrewbytheseaumc.org/event/soup-kitchen-2/2025-12-16/
ATTACH;FMTTYPE=image/jpeg:/wp-content/uploads/2024/05/Soup-Kitchen-e1720639777791.jpg
END:VEVENT
BEGIN:VEVENT
DTSTART;TZID=America/New_York:20251216T073000
DTEND;TZID=America/New_York:20251216T083000
DTSTAMP:20260421T172657
CREATED:20240711T165450Z
LAST-MODIFIED:20240920T130237Z
UID:10005965-1765870200-1765873800@standrewbytheseaumc.org
SUMMARY:Day Starters AA Group
DESCRIPTION:
URL:https://standrewbytheseaumc.org/event/day-starters-aa-group-3-2/2025-12-16/
LOCATION:Celebration Center
ATTACH;FMTTYPE=image/jpeg:/wp-content/uploads/2024/06/Group_Meeting-1000.jpg
END:VEVENT
BEGIN:VEVENT
DTSTART;TZID=America/New_York:20251215T073000
DTEND;TZID=America/New_York:20251215T083000
DTSTAMP:20260421T172657
CREATED:20240711T165450Z
LAST-MODIFIED:20240920T130237Z
UID:10005964-1765783800-1765787400@standrewbytheseaumc.org
SUMMARY:Day Starters AA Group
DESCRIPTION:
URL:https://standrewbytheseaumc.org/event/day-starters-aa-group-3-2/2025-12-15/
LOCATION:Celebration Center
ATTACH;FMTTYPE=image/jpeg:/wp-content/uploads/2024/06/Group_Meeting-1000.jpg
END:VEVENT
BEGIN:VEVENT
DTSTART;TZID=America/New_York:20251214T173000
DTEND;TZID=America/New_York:20251214T193000
DTSTAMP:20260421T172657
CREATED:20250919T152535Z
LAST-MODIFIED:20250919T152535Z
UID:10017483-1765733400-1765740600@standrewbytheseaumc.org
SUMMARY:UMYF Christmas Party
DESCRIPTION:
URL:https://standrewbytheseaumc.org/event/umyf-christmas-party/
ATTACH;FMTTYPE=image/png:/wp-content/uploads/2026/02/event-default-logo.png
ORGANIZER;CN="Anna Musselwhite":MAILTO:annamhhiumc@gmail.com
END:VEVENT
BEGIN:VEVENT
DTSTART;TZID=America/New_York:20251214T110900
DTEND;TZID=America/New_York:20251214T121500
DTSTAMP:20260421T172657
CREATED:20241205T205556Z
LAST-MODIFIED:20251204T194200Z
UID:10004998-1765710540-1765714500@standrewbytheseaumc.org
SUMMARY:MODERN Worship
DESCRIPTION:Worship with us in the sanctuary as we gather for praise\, hear God’s Word\, respond to God’s Word\, and go forth to serve God’s world\, led by our pastors and our praise team on guitar and keyboard.
URL:https://standrewbytheseaumc.org/event/modern-worship-26-2-2-2/2025-12-14/
ATTACH;FMTTYPE=image/jpeg:/wp-content/uploads/2024/05/Modern-Worship-1000.jpg
END:VEVENT
END:VCALENDAR