BEGIN:VCALENDAR
VERSION:2.0
PRODID:-//St. Andrew By-The-Sea United Methodist Church - ECPv6.15.20//NONSGML v1.0//EN
CALSCALE:GREGORIAN
METHOD:PUBLISH
X-ORIGINAL-URL:https://standrewbytheseaumc.org
X-WR-CALDESC:Events for St. Andrew By-The-Sea United Methodist Church
REFRESH-INTERVAL;VALUE=DURATION:PT1H
X-Robots-Tag:noindex
X-PUBLISHED-TTL:PT1H
BEGIN:VTIMEZONE
TZID:America/New_York
BEGIN:DAYLIGHT
TZOFFSETFROM:-0500
TZOFFSETTO:-0400
TZNAME:EDT
DTSTART:20250309T070000
END:DAYLIGHT
BEGIN:STANDARD
TZOFFSETFROM:-0400
TZOFFSETTO:-0500
TZNAME:EST
DTSTART:20251102T060000
END:STANDARD
BEGIN:DAYLIGHT
TZOFFSETFROM:-0500
TZOFFSETTO:-0400
TZNAME:EDT
DTSTART:20260308T070000
END:DAYLIGHT
BEGIN:STANDARD
TZOFFSETFROM:-0400
TZOFFSETTO:-0500
TZNAME:EST
DTSTART:20261101T060000
END:STANDARD
BEGIN:DAYLIGHT
TZOFFSETFROM:-0500
TZOFFSETTO:-0400
TZNAME:EDT
DTSTART:20270314T070000
END:DAYLIGHT
BEGIN:STANDARD
TZOFFSETFROM:-0400
TZOFFSETTO:-0500
TZNAME:EST
DTSTART:20271107T060000
END:STANDARD
END:VTIMEZONE
BEGIN:VEVENT
DTSTART;TZID=America/New_York:20260913T110900
DTEND;TZID=America/New_York:20260913T121500
DTSTAMP:20260421T210013
CREATED:20260417T144050Z
LAST-MODIFIED:20260417T144050Z
UID:10005037-1789297740-1789301700@standrewbytheseaumc.org
SUMMARY:MODERN Worship
DESCRIPTION:Worship with us in the sanctuary as we gather for praise\, hear God’s Word\, respond to God’s Word\, and go forth to serve God’s world\, led by our pastors and our praise team on guitar and keyboard.
URL:https://standrewbytheseaumc.org/event/modern-worship-26-2-2-2-2/2026-09-13/
ATTACH;FMTTYPE=image/jpeg:/wp-content/uploads/2024/05/Modern-Worship-1000.jpg
END:VEVENT
BEGIN:VEVENT
DTSTART;TZID=America/New_York:20260914T073000
DTEND;TZID=America/New_York:20260914T083000
DTSTAMP:20260421T210013
CREATED:20240711T165450Z
LAST-MODIFIED:20240920T130237Z
UID:10006237-1789371000-1789374600@standrewbytheseaumc.org
SUMMARY:Day Starters AA Group
DESCRIPTION:
URL:https://standrewbytheseaumc.org/event/day-starters-aa-group-3-2/2026-09-14/
LOCATION:Celebration Center
ATTACH;FMTTYPE=image/jpeg:/wp-content/uploads/2024/06/Group_Meeting-1000.jpg
END:VEVENT
BEGIN:VEVENT
DTSTART;TZID=America/New_York:20260914T190000
DTEND;TZID=America/New_York:20260914T210000
DTSTAMP:20260421T210013
CREATED:20240710T201412Z
LAST-MODIFIED:20240710T201721Z
UID:10007588-1789412400-1789419600@standrewbytheseaumc.org
SUMMARY:Masons
DESCRIPTION:
URL:https://standrewbytheseaumc.org/event/masons-2/2026-09-14/
LOCATION:Admin. Bldg.
ATTACH;FMTTYPE=image/png:/wp-content/uploads/2026/02/event-default-logo.png
END:VEVENT
BEGIN:VEVENT
DTSTART;TZID=America/New_York:20260915T073000
DTEND;TZID=America/New_York:20260915T083000
DTSTAMP:20260421T210013
CREATED:20240711T165450Z
LAST-MODIFIED:20240920T130237Z
UID:10006238-1789457400-1789461000@standrewbytheseaumc.org
SUMMARY:Day Starters AA Group
DESCRIPTION:
URL:https://standrewbytheseaumc.org/event/day-starters-aa-group-3-2/2026-09-15/
LOCATION:Celebration Center
ATTACH;FMTTYPE=image/jpeg:/wp-content/uploads/2024/06/Group_Meeting-1000.jpg
END:VEVENT
BEGIN:VEVENT
DTSTART;TZID=America/New_York:20260915T083000
DTEND;TZID=America/New_York:20260915T110000
DTSTAMP:20260421T210013
CREATED:20240509T232637Z
LAST-MODIFIED:20250221T153539Z
UID:10014221-1789461000-1789470000@standrewbytheseaumc.org
SUMMARY:Soup Kitchen
DESCRIPTION:The Soup Kitchen is a weekly ministry that serves persons in need in our community by sharing the love of God\, and providing food for nourishment\, kindness\, and hope for the future. \nDoors open at 8:30 am\, hot meals served 9:30-10:30 am\, pantry at 10:30 am.
URL:https://standrewbytheseaumc.org/event/soup-kitchen-2/2026-09-15/
ATTACH;FMTTYPE=image/jpeg:/wp-content/uploads/2024/05/Soup-Kitchen-e1720639777791.jpg
END:VEVENT
BEGIN:VEVENT
DTSTART;TZID=America/New_York:20260915T100000
DTEND;TZID=America/New_York:20260915T110000
DTSTAMP:20260421T210013
CREATED:20241205T210503Z
LAST-MODIFIED:20260213T181308Z
UID:10004259-1789466400-1789470000@standrewbytheseaumc.org
SUMMARY:Fellowship Friends Weekly Zoom Chat
DESCRIPTION:
URL:https://standrewbytheseaumc.org/event/fellowship-friends-weekly-zoom-chat-21/2026-09-15/
ATTACH;FMTTYPE=image/png:/wp-content/uploads/2026/02/event-default-logo.png
END:VEVENT
BEGIN:VEVENT
DTSTART;TZID=America/New_York:20260915T120000
DTEND;TZID=America/New_York:20260915T130000
DTSTAMP:20260421T210013
CREATED:20240606T184706Z
LAST-MODIFIED:20260213T160259Z
UID:10018177-1789473600-1789477200@standrewbytheseaumc.org
SUMMARY:Staff Meeting
DESCRIPTION:
URL:https://standrewbytheseaumc.org/event/staff-meeting-24-2/2026-09-15/
ATTACH;FMTTYPE=image/png:/wp-content/uploads/2026/02/event-default-logo.png
END:VEVENT
BEGIN:VEVENT
DTSTART;TZID=America/New_York:20260915T130000
DTEND;TZID=America/New_York:20260915T140000
DTSTAMP:20260421T210013
CREATED:20260213T160643Z
LAST-MODIFIED:20260213T160643Z
UID:10018438-1789477200-1789480800@standrewbytheseaumc.org
SUMMARY:Devotions + Laughter Women's Bible Study
DESCRIPTION:
URL:https://standrewbytheseaumc.org/event/devotions-laughter-womens-bible-study/2026-09-15/
LOCATION:Admin. Bldg. Library
ATTACH;FMTTYPE=image/png:/wp-content/uploads/2026/02/event-default-logo.png
ORGANIZER;CN="Kerry Tilden":MAILTO:kerry@lovetheocean.com
END:VEVENT
BEGIN:VEVENT
DTSTART;TZID=America/New_York:20260915T140000
DTEND;TZID=America/New_York:20260915T150000
DTSTAMP:20260421T210013
CREATED:20250905T165318Z
LAST-MODIFIED:20250905T165318Z
UID:10017218-1789480800-1789484400@standrewbytheseaumc.org
SUMMARY:Seaside Bell Choir Rehearsal
DESCRIPTION:
URL:https://standrewbytheseaumc.org/event/seaside-bell-choir-rehearsal/2026-09-15/
ATTACH;FMTTYPE=image/png:/wp-content/uploads/2026/02/event-default-logo.png
END:VEVENT
BEGIN:VEVENT
DTSTART;TZID=America/New_York:20260915T183000
DTEND;TZID=America/New_York:20260915T203000
DTSTAMP:20260421T210013
CREATED:20240517T145923Z
LAST-MODIFIED:20260213T163944Z
UID:10004519-1789497000-1789504200@standrewbytheseaumc.org
SUMMARY:Men's open gym
DESCRIPTION:
URL:https://standrewbytheseaumc.org/event/mens-open-gym/2026-09-15/
ATTACH;FMTTYPE=image/png:/wp-content/uploads/2026/02/event-default-logo.png
END:VEVENT
BEGIN:VEVENT
DTSTART;TZID=America/New_York:20260916T073000
DTEND;TZID=America/New_York:20260916T083000
DTSTAMP:20260421T210013
CREATED:20240711T165450Z
LAST-MODIFIED:20240920T130237Z
UID:10006239-1789543800-1789547400@standrewbytheseaumc.org
SUMMARY:Day Starters AA Group
DESCRIPTION:
URL:https://standrewbytheseaumc.org/event/day-starters-aa-group-3-2/2026-09-16/
LOCATION:Celebration Center
ATTACH;FMTTYPE=image/jpeg:/wp-content/uploads/2024/06/Group_Meeting-1000.jpg
END:VEVENT
BEGIN:VEVENT
DTSTART;TZID=America/New_York:20260916T120000
DTEND;TZID=America/New_York:20260916T130000
DTSTAMP:20260421T210013
CREATED:20260213T165043Z
LAST-MODIFIED:20260213T165043Z
UID:10018875-1789560000-1789563600@standrewbytheseaumc.org
SUMMARY:Healing + Wholeness Service
DESCRIPTION:
URL:https://standrewbytheseaumc.org/event/healing-wholeness-service/2026-09-16/
ATTACH;FMTTYPE=image/jpeg:/wp-content/uploads/2025/07/Healing-and-Wholeness-full-image-with-content-2024.jpg
END:VEVENT
BEGIN:VEVENT
DTSTART;TZID=America/New_York:20260916T173000
DTEND;TZID=America/New_York:20260916T190000
DTSTAMP:20260421T210013
CREATED:20250508T182139Z
LAST-MODIFIED:20250919T152812Z
UID:10017148-1789579800-1789585200@standrewbytheseaumc.org
SUMMARY:Seaside Chancel Choir rehearsal
DESCRIPTION:
URL:https://standrewbytheseaumc.org/event/seaside-chancel-choir-rehearsal-2/2026-09-16/
LOCATION:Music Room
ATTACH;FMTTYPE=image/png:/wp-content/uploads/2026/02/event-default-logo.png
END:VEVENT
BEGIN:VEVENT
DTSTART;TZID=America/New_York:20260917T073000
DTEND;TZID=America/New_York:20260917T083000
DTSTAMP:20260421T210013
CREATED:20240711T165450Z
LAST-MODIFIED:20240920T130237Z
UID:10006240-1789630200-1789633800@standrewbytheseaumc.org
SUMMARY:Day Starters AA Group
DESCRIPTION:
URL:https://standrewbytheseaumc.org/event/day-starters-aa-group-3-2/2026-09-17/
LOCATION:Celebration Center
ATTACH;FMTTYPE=image/jpeg:/wp-content/uploads/2024/06/Group_Meeting-1000.jpg
END:VEVENT
BEGIN:VEVENT
DTSTART;TZID=America/New_York:20260917T080000
DTEND;TZID=America/New_York:20260917T090000
DTSTAMP:20260421T210013
CREATED:20240517T145923Z
LAST-MODIFIED:20251204T194950Z
UID:10004779-1789632000-1789635600@standrewbytheseaumc.org
SUMMARY:Men's Devotional Group
DESCRIPTION:
URL:https://standrewbytheseaumc.org/event/mens-devotional-group/2026-09-17/
ATTACH;FMTTYPE=image/png:/wp-content/uploads/2026/02/event-default-logo.png
END:VEVENT
BEGIN:VEVENT
DTSTART;TZID=America/New_York:20260918T073000
DTEND;TZID=America/New_York:20260918T083000
DTSTAMP:20260421T210013
CREATED:20240711T165450Z
LAST-MODIFIED:20240920T130237Z
UID:10006241-1789716600-1789720200@standrewbytheseaumc.org
SUMMARY:Day Starters AA Group
DESCRIPTION:
URL:https://standrewbytheseaumc.org/event/day-starters-aa-group-3-2/2026-09-18/
LOCATION:Celebration Center
ATTACH;FMTTYPE=image/jpeg:/wp-content/uploads/2024/06/Group_Meeting-1000.jpg
END:VEVENT
BEGIN:VEVENT
DTSTART;TZID=America/New_York:20260918T083000
DTEND;TZID=America/New_York:20260918T110000
DTSTAMP:20260421T210013
CREATED:20240509T232637Z
LAST-MODIFIED:20250221T153539Z
UID:10014222-1789720200-1789729200@standrewbytheseaumc.org
SUMMARY:Soup Kitchen
DESCRIPTION:The Soup Kitchen is a weekly ministry that serves persons in need in our community by sharing the love of God\, and providing food for nourishment\, kindness\, and hope for the future. \nDoors open at 8:30 am\, hot meals served 9:30-10:30 am\, pantry at 10:30 am.
URL:https://standrewbytheseaumc.org/event/soup-kitchen-2/2026-09-18/
ATTACH;FMTTYPE=image/jpeg:/wp-content/uploads/2024/05/Soup-Kitchen-e1720639777791.jpg
END:VEVENT
BEGIN:VEVENT
DTSTART;TZID=America/New_York:20260918T130000
DTEND;TZID=America/New_York:20260918T140000
DTSTAMP:20260421T210013
CREATED:20260213T161040Z
LAST-MODIFIED:20260213T161040Z
UID:10018537-1789736400-1789740000@standrewbytheseaumc.org
SUMMARY:Disciple Fast Track 3 Bible Study
DESCRIPTION:
URL:https://standrewbytheseaumc.org/event/disciple-fast-track-3-bible-study/2026-09-18/
LOCATION:Admin. Bldg. – Conference Room
ATTACH;FMTTYPE=image/png:/wp-content/uploads/2026/02/event-default-logo.png
ORGANIZER;CN="Kerry Tilden":MAILTO:kerry@lovetheocean.com
END:VEVENT
BEGIN:VEVENT
DTSTART;TZID=America/New_York:20260920T090000
DTEND;TZID=America/New_York:20260920T100000
DTSTAMP:20260421T210013
CREATED:20260417T143930Z
LAST-MODIFIED:20260417T143930Z
UID:10013785-1789894800-1789898400@standrewbytheseaumc.org
SUMMARY:TRADITIONAL Worship
DESCRIPTION:Worship with us in the sanctuary as we gather for praise\, hear God’s Word\, respond to God’s Word\, and go forth to serve God’s world\, led by our pastors and our chancel choir\, accompanied by organ and piano.
URL:https://standrewbytheseaumc.org/event/traditional-worship-2-2-2-2-2-2-2-2/2026-09-20/
ATTACH;FMTTYPE=image/png:/wp-content/uploads/2026/02/event-default-logo.png
END:VEVENT
BEGIN:VEVENT
DTSTART;TZID=America/New_York:20260920T101500
DTEND;TZID=America/New_York:20260920T110000
DTSTAMP:20260421T210013
CREATED:20260213T162730Z
LAST-MODIFIED:20260417T144429Z
UID:10018613-1789899300-1789902000@standrewbytheseaumc.org
SUMMARY:Adult Studies + Classes
DESCRIPTION:
URL:https://standrewbytheseaumc.org/event/adult-studies-classes/2026-09-20/
ATTACH;FMTTYPE=image/png:/wp-content/uploads/2026/02/event-default-logo.png
END:VEVENT
BEGIN:VEVENT
DTSTART;TZID=America/New_York:20260920T110900
DTEND;TZID=America/New_York:20260920T121500
DTSTAMP:20260421T210013
CREATED:20260417T144050Z
LAST-MODIFIED:20260417T144050Z
UID:10005038-1789902540-1789906500@standrewbytheseaumc.org
SUMMARY:MODERN Worship
DESCRIPTION:Worship with us in the sanctuary as we gather for praise\, hear God’s Word\, respond to God’s Word\, and go forth to serve God’s world\, led by our pastors and our praise team on guitar and keyboard.
URL:https://standrewbytheseaumc.org/event/modern-worship-26-2-2-2-2/2026-09-20/
ATTACH;FMTTYPE=image/jpeg:/wp-content/uploads/2024/05/Modern-Worship-1000.jpg
END:VEVENT
BEGIN:VEVENT
DTSTART;TZID=America/New_York:20260921T073000
DTEND;TZID=America/New_York:20260921T083000
DTSTAMP:20260421T210013
CREATED:20240711T165450Z
LAST-MODIFIED:20240920T130237Z
UID:10006244-1789975800-1789979400@standrewbytheseaumc.org
SUMMARY:Day Starters AA Group
DESCRIPTION:
URL:https://standrewbytheseaumc.org/event/day-starters-aa-group-3-2/2026-09-21/
LOCATION:Celebration Center
ATTACH;FMTTYPE=image/jpeg:/wp-content/uploads/2024/06/Group_Meeting-1000.jpg
END:VEVENT
BEGIN:VEVENT
DTSTART;TZID=America/New_York:20260922T073000
DTEND;TZID=America/New_York:20260922T083000
DTSTAMP:20260421T210013
CREATED:20240711T165450Z
LAST-MODIFIED:20240920T130237Z
UID:10006245-1790062200-1790065800@standrewbytheseaumc.org
SUMMARY:Day Starters AA Group
DESCRIPTION:
URL:https://standrewbytheseaumc.org/event/day-starters-aa-group-3-2/2026-09-22/
LOCATION:Celebration Center
ATTACH;FMTTYPE=image/jpeg:/wp-content/uploads/2024/06/Group_Meeting-1000.jpg
END:VEVENT
BEGIN:VEVENT
DTSTART;TZID=America/New_York:20260922T083000
DTEND;TZID=America/New_York:20260922T110000
DTSTAMP:20260421T210013
CREATED:20240509T232637Z
LAST-MODIFIED:20250221T153539Z
UID:10014223-1790065800-1790074800@standrewbytheseaumc.org
SUMMARY:Soup Kitchen
DESCRIPTION:The Soup Kitchen is a weekly ministry that serves persons in need in our community by sharing the love of God\, and providing food for nourishment\, kindness\, and hope for the future. \nDoors open at 8:30 am\, hot meals served 9:30-10:30 am\, pantry at 10:30 am.
URL:https://standrewbytheseaumc.org/event/soup-kitchen-2/2026-09-22/
ATTACH;FMTTYPE=image/jpeg:/wp-content/uploads/2024/05/Soup-Kitchen-e1720639777791.jpg
END:VEVENT
BEGIN:VEVENT
DTSTART;TZID=America/New_York:20260922T100000
DTEND;TZID=America/New_York:20260922T110000
DTSTAMP:20260421T210013
CREATED:20241205T210503Z
LAST-MODIFIED:20260213T181308Z
UID:10004260-1790071200-1790074800@standrewbytheseaumc.org
SUMMARY:Fellowship Friends Weekly Zoom Chat
DESCRIPTION:
URL:https://standrewbytheseaumc.org/event/fellowship-friends-weekly-zoom-chat-21/2026-09-22/
ATTACH;FMTTYPE=image/png:/wp-content/uploads/2026/02/event-default-logo.png
END:VEVENT
BEGIN:VEVENT
DTSTART;TZID=America/New_York:20260922T120000
DTEND;TZID=America/New_York:20260922T130000
DTSTAMP:20260421T210013
CREATED:20240606T184706Z
LAST-MODIFIED:20260213T160259Z
UID:10018178-1790078400-1790082000@standrewbytheseaumc.org
SUMMARY:Staff Meeting
DESCRIPTION:
URL:https://standrewbytheseaumc.org/event/staff-meeting-24-2/2026-09-22/
ATTACH;FMTTYPE=image/png:/wp-content/uploads/2026/02/event-default-logo.png
END:VEVENT
BEGIN:VEVENT
DTSTART;TZID=America/New_York:20260922T130000
DTEND;TZID=America/New_York:20260922T140000
DTSTAMP:20260421T210013
CREATED:20260213T160643Z
LAST-MODIFIED:20260213T160643Z
UID:10018439-1790082000-1790085600@standrewbytheseaumc.org
SUMMARY:Devotions + Laughter Women's Bible Study
DESCRIPTION:
URL:https://standrewbytheseaumc.org/event/devotions-laughter-womens-bible-study/2026-09-22/
LOCATION:Admin. Bldg. Library
ATTACH;FMTTYPE=image/png:/wp-content/uploads/2026/02/event-default-logo.png
ORGANIZER;CN="Kerry Tilden":MAILTO:kerry@lovetheocean.com
END:VEVENT
BEGIN:VEVENT
DTSTART;TZID=America/New_York:20260922T140000
DTEND;TZID=America/New_York:20260922T150000
DTSTAMP:20260421T210013
CREATED:20250905T165318Z
LAST-MODIFIED:20250905T165318Z
UID:10017219-1790085600-1790089200@standrewbytheseaumc.org
SUMMARY:Seaside Bell Choir Rehearsal
DESCRIPTION:
URL:https://standrewbytheseaumc.org/event/seaside-bell-choir-rehearsal/2026-09-22/
ATTACH;FMTTYPE=image/png:/wp-content/uploads/2026/02/event-default-logo.png
END:VEVENT
BEGIN:VEVENT
DTSTART;TZID=America/New_York:20260922T183000
DTEND;TZID=America/New_York:20260922T203000
DTSTAMP:20260421T210013
CREATED:20240517T145923Z
LAST-MODIFIED:20260213T163944Z
UID:10004520-1790101800-1790109000@standrewbytheseaumc.org
SUMMARY:Men's open gym
DESCRIPTION:
URL:https://standrewbytheseaumc.org/event/mens-open-gym/2026-09-22/
ATTACH;FMTTYPE=image/png:/wp-content/uploads/2026/02/event-default-logo.png
END:VEVENT
BEGIN:VEVENT
DTSTART;TZID=America/New_York:20260923T073000
DTEND;TZID=America/New_York:20260923T083000
DTSTAMP:20260421T210013
CREATED:20240711T165450Z
LAST-MODIFIED:20240920T130237Z
UID:10006246-1790148600-1790152200@standrewbytheseaumc.org
SUMMARY:Day Starters AA Group
DESCRIPTION:
URL:https://standrewbytheseaumc.org/event/day-starters-aa-group-3-2/2026-09-23/
LOCATION:Celebration Center
ATTACH;FMTTYPE=image/jpeg:/wp-content/uploads/2024/06/Group_Meeting-1000.jpg
END:VEVENT
END:VCALENDAR