BEGIN:VCALENDAR
VERSION:2.0
PRODID:-//St. Andrew By-The-Sea United Methodist Church - ECPv6.15.20//NONSGML v1.0//EN
CALSCALE:GREGORIAN
METHOD:PUBLISH
X-WR-CALNAME:St. Andrew By-The-Sea United Methodist Church
X-ORIGINAL-URL:https://standrewbytheseaumc.org
X-WR-CALDESC:Events for St. Andrew By-The-Sea United Methodist Church
REFRESH-INTERVAL;VALUE=DURATION:PT1H
X-Robots-Tag:noindex
X-PUBLISHED-TTL:PT1H
BEGIN:VTIMEZONE
TZID:America/New_York
BEGIN:DAYLIGHT
TZOFFSETFROM:-0500
TZOFFSETTO:-0400
TZNAME:EDT
DTSTART:20240310T070000
END:DAYLIGHT
BEGIN:STANDARD
TZOFFSETFROM:-0400
TZOFFSETTO:-0500
TZNAME:EST
DTSTART:20241103T060000
END:STANDARD
BEGIN:DAYLIGHT
TZOFFSETFROM:-0500
TZOFFSETTO:-0400
TZNAME:EDT
DTSTART:20250309T070000
END:DAYLIGHT
BEGIN:STANDARD
TZOFFSETFROM:-0400
TZOFFSETTO:-0500
TZNAME:EST
DTSTART:20251102T060000
END:STANDARD
BEGIN:DAYLIGHT
TZOFFSETFROM:-0500
TZOFFSETTO:-0400
TZNAME:EDT
DTSTART:20260308T070000
END:DAYLIGHT
BEGIN:STANDARD
TZOFFSETFROM:-0400
TZOFFSETTO:-0500
TZNAME:EST
DTSTART:20261101T060000
END:STANDARD
END:VTIMEZONE
BEGIN:VEVENT
DTSTART;TZID=America/New_York:20251116T090000
DTEND;TZID=America/New_York:20251116T100000
DTSTAMP:20260422T075726
CREATED:20250612T184817Z
LAST-MODIFIED:20251204T194047Z
UID:10013741-1763283600-1763287200@standrewbytheseaumc.org
SUMMARY:TRADITIONAL Worship
DESCRIPTION:Worship with us in the sanctuary as we gather for praise\, hear God’s Word\, respond to God’s Word\, and go forth to serve God’s world\, led by our pastors and our chancel choir\, accompanied by organ and piano.
URL:https://standrewbytheseaumc.org/event/traditional-worship-2-2-2-2-2-2-2/2025-11-16/
ATTACH;FMTTYPE=image/png:/wp-content/uploads/2026/02/event-default-logo.png
END:VEVENT
BEGIN:VEVENT
DTSTART;TZID=America/New_York:20251114T083000
DTEND;TZID=America/New_York:20251114T110000
DTSTAMP:20260422T075726
CREATED:20240509T232637Z
LAST-MODIFIED:20250221T153539Z
UID:10014134-1763109000-1763118000@standrewbytheseaumc.org
SUMMARY:Soup Kitchen
DESCRIPTION:The Soup Kitchen is a weekly ministry that serves persons in need in our community by sharing the love of God\, and providing food for nourishment\, kindness\, and hope for the future. \nDoors open at 8:30 am\, hot meals served 9:30-10:30 am\, pantry at 10:30 am.
URL:https://standrewbytheseaumc.org/event/soup-kitchen-2/2025-11-14/
ATTACH;FMTTYPE=image/jpeg:/wp-content/uploads/2024/05/Soup-Kitchen-e1720639777791.jpg
END:VEVENT
BEGIN:VEVENT
DTSTART;TZID=America/New_York:20251114T073000
DTEND;TZID=America/New_York:20251114T083000
DTSTAMP:20260422T075726
CREATED:20240711T165450Z
LAST-MODIFIED:20240920T130237Z
UID:10005933-1763105400-1763109000@standrewbytheseaumc.org
SUMMARY:Day Starters AA Group
DESCRIPTION:
URL:https://standrewbytheseaumc.org/event/day-starters-aa-group-3-2/2025-11-14/
LOCATION:Celebration Center
ATTACH;FMTTYPE=image/jpeg:/wp-content/uploads/2024/06/Group_Meeting-1000.jpg
END:VEVENT
BEGIN:VEVENT
DTSTART;TZID=America/New_York:20251113T100000
DTEND;TZID=America/New_York:20251113T110000
DTSTAMP:20260422T075726
CREATED:20240517T145924Z
LAST-MODIFIED:20251204T193802Z
UID:10017494-1763028000-1763031600@standrewbytheseaumc.org
SUMMARY:Creating for Good
DESCRIPTION:
URL:https://standrewbytheseaumc.org/event/creating-for-good-b104/2025-11-13/
LOCATION:Admin. Bldg.
ATTACH;FMTTYPE=image/png:/wp-content/uploads/2026/02/event-default-logo.png
ORGANIZER;CN="Connie Borgianini":MAILTO:conniebhhiumc@gmail.com
END:VEVENT
BEGIN:VEVENT
DTSTART;TZID=America/New_York:20251113T080000
DTEND;TZID=America/New_York:20251113T090000
DTSTAMP:20260422T075726
CREATED:20240517T145923Z
LAST-MODIFIED:20251204T194950Z
UID:10004735-1763020800-1763024400@standrewbytheseaumc.org
SUMMARY:Men's Devotional Group
DESCRIPTION:
URL:https://standrewbytheseaumc.org/event/mens-devotional-group/2025-11-13/
ATTACH;FMTTYPE=image/png:/wp-content/uploads/2026/02/event-default-logo.png
END:VEVENT
BEGIN:VEVENT
DTSTART;TZID=America/New_York:20251113T073000
DTEND;TZID=America/New_York:20251113T083000
DTSTAMP:20260422T075726
CREATED:20240711T165450Z
LAST-MODIFIED:20240920T130237Z
UID:10005932-1763019000-1763022600@standrewbytheseaumc.org
SUMMARY:Day Starters AA Group
DESCRIPTION:
URL:https://standrewbytheseaumc.org/event/day-starters-aa-group-3-2/2025-11-13/
LOCATION:Celebration Center
ATTACH;FMTTYPE=image/jpeg:/wp-content/uploads/2024/06/Group_Meeting-1000.jpg
END:VEVENT
BEGIN:VEVENT
DTSTART;TZID=America/New_York:20251112T173000
DTEND;TZID=America/New_York:20251112T190000
DTSTAMP:20260422T075726
CREATED:20250508T182139Z
LAST-MODIFIED:20250919T152812Z
UID:10017104-1762968600-1762974000@standrewbytheseaumc.org
SUMMARY:Seaside Chancel Choir rehearsal
DESCRIPTION:
URL:https://standrewbytheseaumc.org/event/seaside-chancel-choir-rehearsal-2/2025-11-12/
LOCATION:Music Room
ATTACH;FMTTYPE=image/png:/wp-content/uploads/2026/02/event-default-logo.png
END:VEVENT
BEGIN:VEVENT
DTSTART;TZID=America/New_York:20251112T110000
DTEND;TZID=America/New_York:20251112T140000
DTSTAMP:20260422T075726
CREATED:20250815T142823Z
LAST-MODIFIED:20250815T143017Z
UID:10017075-1762945200-1762956000@standrewbytheseaumc.org
SUMMARY:Soup Kitchen Volunteer Lunch
DESCRIPTION:
URL:https://standrewbytheseaumc.org/event/soup-kitchen-volunteer-lunch/
ATTACH;FMTTYPE=image/png:/wp-content/uploads/2026/02/event-default-logo.png
END:VEVENT
BEGIN:VEVENT
DTSTART;TZID=America/New_York:20251112T073000
DTEND;TZID=America/New_York:20251112T083000
DTSTAMP:20260422T075726
CREATED:20240711T165450Z
LAST-MODIFIED:20240920T130237Z
UID:10005931-1762932600-1762936200@standrewbytheseaumc.org
SUMMARY:Day Starters AA Group
DESCRIPTION:
URL:https://standrewbytheseaumc.org/event/day-starters-aa-group-3-2/2025-11-12/
LOCATION:Celebration Center
ATTACH;FMTTYPE=image/jpeg:/wp-content/uploads/2024/06/Group_Meeting-1000.jpg
END:VEVENT
BEGIN:VEVENT
DTSTART;TZID=America/New_York:20251111T183000
DTEND;TZID=America/New_York:20251111T203000
DTSTAMP:20260422T075726
CREATED:20240517T145923Z
LAST-MODIFIED:20260213T163944Z
UID:10004475-1762885800-1762893000@standrewbytheseaumc.org
SUMMARY:Men's open gym
DESCRIPTION:
URL:https://standrewbytheseaumc.org/event/mens-open-gym/2025-11-11/
ATTACH;FMTTYPE=image/png:/wp-content/uploads/2026/02/event-default-logo.png
END:VEVENT
BEGIN:VEVENT
DTSTART;TZID=America/New_York:20251111T140000
DTEND;TZID=America/New_York:20251111T150000
DTSTAMP:20260422T075726
CREATED:20250905T165318Z
LAST-MODIFIED:20250905T165318Z
UID:10017174-1762869600-1762873200@standrewbytheseaumc.org
SUMMARY:Seaside Bell Choir Rehearsal
DESCRIPTION:
URL:https://standrewbytheseaumc.org/event/seaside-bell-choir-rehearsal/2025-11-11/
ATTACH;FMTTYPE=image/png:/wp-content/uploads/2026/02/event-default-logo.png
END:VEVENT
BEGIN:VEVENT
DTSTART;TZID=America/New_York:20251111T130000
DTEND;TZID=America/New_York:20251111T140000
DTSTAMP:20260422T075726
CREATED:20250919T144904Z
LAST-MODIFIED:20250919T144904Z
UID:10017466-1762866000-1762869600@standrewbytheseaumc.org
SUMMARY:Devotions and Laughter Study
DESCRIPTION:
URL:https://standrewbytheseaumc.org/event/devotions-and-laughter-study/2025-11-11/
LOCATION:Admin. Bldg. Library
ATTACH;FMTTYPE=image/jpeg:/wp-content/uploads/2025/04/pond-river-ocean-rain-book-cover.jpg
ORGANIZER;CN="Kerry Tilden":MAILTO:kerry@lovetheocean.com
END:VEVENT
BEGIN:VEVENT
DTSTART;TZID=America/New_York:20251111T120000
DTEND;TZID=America/New_York:20251111T130000
DTSTAMP:20260422T075726
CREATED:20240606T184706Z
LAST-MODIFIED:20260213T160259Z
UID:10018135-1762862400-1762866000@standrewbytheseaumc.org
SUMMARY:Staff Meeting
DESCRIPTION:
URL:https://standrewbytheseaumc.org/event/staff-meeting-24-2/2025-11-11/
ATTACH;FMTTYPE=image/png:/wp-content/uploads/2026/02/event-default-logo.png
END:VEVENT
BEGIN:VEVENT
DTSTART;TZID=America/New_York:20251111T100000
DTEND;TZID=America/New_York:20251111T110000
DTSTAMP:20260422T075726
CREATED:20241205T210503Z
LAST-MODIFIED:20260213T181308Z
UID:10004215-1762855200-1762858800@standrewbytheseaumc.org
SUMMARY:Fellowship Friends Weekly Zoom Chat
DESCRIPTION:
URL:https://standrewbytheseaumc.org/event/fellowship-friends-weekly-zoom-chat-21/2025-11-11/
ATTACH;FMTTYPE=image/png:/wp-content/uploads/2026/02/event-default-logo.png
END:VEVENT
BEGIN:VEVENT
DTSTART;TZID=America/New_York:20251111T083000
DTEND;TZID=America/New_York:20251111T110000
DTSTAMP:20260422T075726
CREATED:20240509T232637Z
LAST-MODIFIED:20250221T153539Z
UID:10014133-1762849800-1762858800@standrewbytheseaumc.org
SUMMARY:Soup Kitchen
DESCRIPTION:The Soup Kitchen is a weekly ministry that serves persons in need in our community by sharing the love of God\, and providing food for nourishment\, kindness\, and hope for the future. \nDoors open at 8:30 am\, hot meals served 9:30-10:30 am\, pantry at 10:30 am.
URL:https://standrewbytheseaumc.org/event/soup-kitchen-2/2025-11-11/
ATTACH;FMTTYPE=image/jpeg:/wp-content/uploads/2024/05/Soup-Kitchen-e1720639777791.jpg
END:VEVENT
BEGIN:VEVENT
DTSTART;TZID=America/New_York:20251111T073000
DTEND;TZID=America/New_York:20251111T083000
DTSTAMP:20260422T075726
CREATED:20240711T165450Z
LAST-MODIFIED:20240920T130237Z
UID:10005930-1762846200-1762849800@standrewbytheseaumc.org
SUMMARY:Day Starters AA Group
DESCRIPTION:
URL:https://standrewbytheseaumc.org/event/day-starters-aa-group-3-2/2025-11-11/
LOCATION:Celebration Center
ATTACH;FMTTYPE=image/jpeg:/wp-content/uploads/2024/06/Group_Meeting-1000.jpg
END:VEVENT
BEGIN:VEVENT
DTSTART;TZID=America/New_York:20251110T190000
DTEND;TZID=America/New_York:20251110T210000
DTSTAMP:20260422T075726
CREATED:20240710T201412Z
LAST-MODIFIED:20240710T201721Z
UID:10007578-1762801200-1762808400@standrewbytheseaumc.org
SUMMARY:Masons
DESCRIPTION:
URL:https://standrewbytheseaumc.org/event/masons-2/2025-11-10/
LOCATION:Admin. Bldg.
ATTACH;FMTTYPE=image/png:/wp-content/uploads/2026/02/event-default-logo.png
END:VEVENT
BEGIN:VEVENT
DTSTART;TZID=America/New_York:20251110T163000
DTEND;TZID=America/New_York:20251110T173000
DTSTAMP:20260422T075726
CREATED:20250919T145123Z
LAST-MODIFIED:20250919T145123Z
UID:10017477-1762792200-1762795800@standrewbytheseaumc.org
SUMMARY:Book Discussion Group - The Widening of God's Mercy
DESCRIPTION:
URL:https://standrewbytheseaumc.org/event/book-discussion-group-the-widening-of-gods-mercy/2025-11-10/
LOCATION:Celebration Center
ATTACH;FMTTYPE=image/jpeg:/wp-content/uploads/2025/08/The-Widening-of-Gods-Mercy.jpg
ORGANIZER;CN="Kerry Tilden":MAILTO:kerry@lovetheocean.com
END:VEVENT
BEGIN:VEVENT
DTSTART;TZID=America/New_York:20251110T073000
DTEND;TZID=America/New_York:20251110T083000
DTSTAMP:20260422T075726
CREATED:20240711T165450Z
LAST-MODIFIED:20240920T130237Z
UID:10005929-1762759800-1762763400@standrewbytheseaumc.org
SUMMARY:Day Starters AA Group
DESCRIPTION:
URL:https://standrewbytheseaumc.org/event/day-starters-aa-group-3-2/2025-11-10/
LOCATION:Celebration Center
ATTACH;FMTTYPE=image/jpeg:/wp-content/uploads/2024/06/Group_Meeting-1000.jpg
END:VEVENT
BEGIN:VEVENT
DTSTART;TZID=America/New_York:20251109T110900
DTEND;TZID=America/New_York:20251109T121500
DTSTAMP:20260422T075726
CREATED:20241205T205556Z
LAST-MODIFIED:20251204T194200Z
UID:10004993-1762686540-1762690500@standrewbytheseaumc.org
SUMMARY:MODERN Worship
DESCRIPTION:Worship with us in the sanctuary as we gather for praise\, hear God’s Word\, respond to God’s Word\, and go forth to serve God’s world\, led by our pastors and our praise team on guitar and keyboard.
URL:https://standrewbytheseaumc.org/event/modern-worship-26-2-2-2/2025-11-09/
ATTACH;FMTTYPE=image/jpeg:/wp-content/uploads/2024/05/Modern-Worship-1000.jpg
END:VEVENT
BEGIN:VEVENT
DTSTART;TZID=America/New_York:20251109T090000
DTEND;TZID=America/New_York:20251109T100000
DTSTAMP:20260422T075726
CREATED:20250612T184817Z
LAST-MODIFIED:20251204T194047Z
UID:10013740-1762678800-1762682400@standrewbytheseaumc.org
SUMMARY:TRADITIONAL Worship
DESCRIPTION:Worship with us in the sanctuary as we gather for praise\, hear God’s Word\, respond to God’s Word\, and go forth to serve God’s world\, led by our pastors and our chancel choir\, accompanied by organ and piano.
URL:https://standrewbytheseaumc.org/event/traditional-worship-2-2-2-2-2-2-2/2025-11-09/
ATTACH;FMTTYPE=image/png:/wp-content/uploads/2026/02/event-default-logo.png
END:VEVENT
BEGIN:VEVENT
DTSTART;TZID=America/New_York:20251107T083000
DTEND;TZID=America/New_York:20251107T110000
DTSTAMP:20260422T075726
CREATED:20240509T232637Z
LAST-MODIFIED:20250221T153539Z
UID:10014132-1762504200-1762513200@standrewbytheseaumc.org
SUMMARY:Soup Kitchen
DESCRIPTION:The Soup Kitchen is a weekly ministry that serves persons in need in our community by sharing the love of God\, and providing food for nourishment\, kindness\, and hope for the future. \nDoors open at 8:30 am\, hot meals served 9:30-10:30 am\, pantry at 10:30 am.
URL:https://standrewbytheseaumc.org/event/soup-kitchen-2/2025-11-07/
ATTACH;FMTTYPE=image/jpeg:/wp-content/uploads/2024/05/Soup-Kitchen-e1720639777791.jpg
END:VEVENT
BEGIN:VEVENT
DTSTART;TZID=America/New_York:20251107T073000
DTEND;TZID=America/New_York:20251107T083000
DTSTAMP:20260422T075726
CREATED:20240711T165450Z
LAST-MODIFIED:20240920T130237Z
UID:10005926-1762500600-1762504200@standrewbytheseaumc.org
SUMMARY:Day Starters AA Group
DESCRIPTION:
URL:https://standrewbytheseaumc.org/event/day-starters-aa-group-3-2/2025-11-07/
LOCATION:Celebration Center
ATTACH;FMTTYPE=image/jpeg:/wp-content/uploads/2024/06/Group_Meeting-1000.jpg
END:VEVENT
BEGIN:VEVENT
DTSTART;TZID=America/New_York:20251106T100000
DTEND;TZID=America/New_York:20251106T110000
DTSTAMP:20260422T075726
CREATED:20240517T145924Z
LAST-MODIFIED:20251204T193802Z
UID:10017493-1762423200-1762426800@standrewbytheseaumc.org
SUMMARY:Creating for Good
DESCRIPTION:
URL:https://standrewbytheseaumc.org/event/creating-for-good-b104/2025-11-06/
LOCATION:Admin. Bldg.
ATTACH;FMTTYPE=image/png:/wp-content/uploads/2026/02/event-default-logo.png
ORGANIZER;CN="Connie Borgianini":MAILTO:conniebhhiumc@gmail.com
END:VEVENT
BEGIN:VEVENT
DTSTART;TZID=America/New_York:20251106T080000
DTEND;TZID=America/New_York:20251106T090000
DTSTAMP:20260422T075726
CREATED:20240517T145923Z
LAST-MODIFIED:20251204T194950Z
UID:10004734-1762416000-1762419600@standrewbytheseaumc.org
SUMMARY:Men's Devotional Group
DESCRIPTION:
URL:https://standrewbytheseaumc.org/event/mens-devotional-group/2025-11-06/
ATTACH;FMTTYPE=image/png:/wp-content/uploads/2026/02/event-default-logo.png
END:VEVENT
BEGIN:VEVENT
DTSTART;TZID=America/New_York:20251106T073000
DTEND;TZID=America/New_York:20251106T083000
DTSTAMP:20260422T075726
CREATED:20240711T165450Z
LAST-MODIFIED:20240920T130237Z
UID:10005925-1762414200-1762417800@standrewbytheseaumc.org
SUMMARY:Day Starters AA Group
DESCRIPTION:
URL:https://standrewbytheseaumc.org/event/day-starters-aa-group-3-2/2025-11-06/
LOCATION:Celebration Center
ATTACH;FMTTYPE=image/jpeg:/wp-content/uploads/2024/06/Group_Meeting-1000.jpg
END:VEVENT
BEGIN:VEVENT
DTSTART;TZID=America/New_York:20251105T173000
DTEND;TZID=America/New_York:20251105T190000
DTSTAMP:20260422T075726
CREATED:20250508T182139Z
LAST-MODIFIED:20250919T152812Z
UID:10017103-1762363800-1762369200@standrewbytheseaumc.org
SUMMARY:Seaside Chancel Choir rehearsal
DESCRIPTION:
URL:https://standrewbytheseaumc.org/event/seaside-chancel-choir-rehearsal-2/2025-11-05/
LOCATION:Music Room
ATTACH;FMTTYPE=image/png:/wp-content/uploads/2026/02/event-default-logo.png
END:VEVENT
BEGIN:VEVENT
DTSTART;TZID=America/New_York:20251105T073000
DTEND;TZID=America/New_York:20251105T083000
DTSTAMP:20260422T075726
CREATED:20240711T165450Z
LAST-MODIFIED:20240920T130237Z
UID:10005924-1762327800-1762331400@standrewbytheseaumc.org
SUMMARY:Day Starters AA Group
DESCRIPTION:
URL:https://standrewbytheseaumc.org/event/day-starters-aa-group-3-2/2025-11-05/
LOCATION:Celebration Center
ATTACH;FMTTYPE=image/jpeg:/wp-content/uploads/2024/06/Group_Meeting-1000.jpg
END:VEVENT
BEGIN:VEVENT
DTSTART;TZID=America/New_York:20251104T183000
DTEND;TZID=America/New_York:20251104T203000
DTSTAMP:20260422T075726
CREATED:20240517T145923Z
LAST-MODIFIED:20260213T163944Z
UID:10004474-1762281000-1762288200@standrewbytheseaumc.org
SUMMARY:Men's open gym
DESCRIPTION:
URL:https://standrewbytheseaumc.org/event/mens-open-gym/2025-11-04/
ATTACH;FMTTYPE=image/png:/wp-content/uploads/2026/02/event-default-logo.png
END:VEVENT
BEGIN:VEVENT
DTSTART;TZID=America/New_York:20251104T140000
DTEND;TZID=America/New_York:20251104T150000
DTSTAMP:20260422T075726
CREATED:20250905T165318Z
LAST-MODIFIED:20250905T165318Z
UID:10017173-1762264800-1762268400@standrewbytheseaumc.org
SUMMARY:Seaside Bell Choir Rehearsal
DESCRIPTION:
URL:https://standrewbytheseaumc.org/event/seaside-bell-choir-rehearsal/2025-11-04/
ATTACH;FMTTYPE=image/png:/wp-content/uploads/2026/02/event-default-logo.png
END:VEVENT
END:VCALENDAR