BEGIN:VCALENDAR
VERSION:2.0
PRODID:-//St. Andrew By-The-Sea United Methodist Church - ECPv6.15.20//NONSGML v1.0//EN
CALSCALE:GREGORIAN
METHOD:PUBLISH
X-ORIGINAL-URL:https://standrewbytheseaumc.org
X-WR-CALDESC:Events for St. Andrew By-The-Sea United Methodist Church
REFRESH-INTERVAL;VALUE=DURATION:PT1H
X-Robots-Tag:noindex
X-PUBLISHED-TTL:PT1H
BEGIN:VTIMEZONE
TZID:America/New_York
BEGIN:DAYLIGHT
TZOFFSETFROM:-0500
TZOFFSETTO:-0400
TZNAME:EDT
DTSTART:20250309T070000
END:DAYLIGHT
BEGIN:STANDARD
TZOFFSETFROM:-0400
TZOFFSETTO:-0500
TZNAME:EST
DTSTART:20251102T060000
END:STANDARD
BEGIN:DAYLIGHT
TZOFFSETFROM:-0500
TZOFFSETTO:-0400
TZNAME:EDT
DTSTART:20260308T070000
END:DAYLIGHT
BEGIN:STANDARD
TZOFFSETFROM:-0400
TZOFFSETTO:-0500
TZNAME:EST
DTSTART:20261101T060000
END:STANDARD
BEGIN:DAYLIGHT
TZOFFSETFROM:-0500
TZOFFSETTO:-0400
TZNAME:EDT
DTSTART:20270314T070000
END:DAYLIGHT
BEGIN:STANDARD
TZOFFSETFROM:-0400
TZOFFSETTO:-0500
TZNAME:EST
DTSTART:20271107T060000
END:STANDARD
END:VTIMEZONE
BEGIN:VEVENT
DTSTART;TZID=America/New_York:20261016T073000
DTEND;TZID=America/New_York:20261016T083000
DTSTAMP:20260422T105425
CREATED:20240711T165450Z
LAST-MODIFIED:20240920T130237Z
UID:10006269-1792135800-1792139400@standrewbytheseaumc.org
SUMMARY:Day Starters AA Group
DESCRIPTION:
URL:https://standrewbytheseaumc.org/event/day-starters-aa-group-3-2/2026-10-16/
LOCATION:Celebration Center
ATTACH;FMTTYPE=image/jpeg:/wp-content/uploads/2024/06/Group_Meeting-1000.jpg
END:VEVENT
BEGIN:VEVENT
DTSTART;TZID=America/New_York:20261016T083000
DTEND;TZID=America/New_York:20261016T110000
DTSTAMP:20260422T105425
CREATED:20240509T232637Z
LAST-MODIFIED:20250221T153539Z
UID:10014230-1792139400-1792148400@standrewbytheseaumc.org
SUMMARY:Soup Kitchen
DESCRIPTION:The Soup Kitchen is a weekly ministry that serves persons in need in our community by sharing the love of God\, and providing food for nourishment\, kindness\, and hope for the future. \nDoors open at 8:30 am\, hot meals served 9:30-10:30 am\, pantry at 10:30 am.
URL:https://standrewbytheseaumc.org/event/soup-kitchen-2/2026-10-16/
ATTACH;FMTTYPE=image/jpeg:/wp-content/uploads/2024/05/Soup-Kitchen-e1720639777791.jpg
END:VEVENT
BEGIN:VEVENT
DTSTART;TZID=America/New_York:20261016T130000
DTEND;TZID=America/New_York:20261016T140000
DTSTAMP:20260422T105425
CREATED:20260213T161040Z
LAST-MODIFIED:20260213T161040Z
UID:10018541-1792155600-1792159200@standrewbytheseaumc.org
SUMMARY:Disciple Fast Track 3 Bible Study
DESCRIPTION:
URL:https://standrewbytheseaumc.org/event/disciple-fast-track-3-bible-study/2026-10-16/
LOCATION:Admin. Bldg. – Conference Room
ATTACH;FMTTYPE=image/png:/wp-content/uploads/2026/02/event-default-logo.png
ORGANIZER;CN="Kerry Tilden":MAILTO:kerry@lovetheocean.com
END:VEVENT
BEGIN:VEVENT
DTSTART;TZID=America/New_York:20261018T090000
DTEND;TZID=America/New_York:20261018T100000
DTSTAMP:20260422T105425
CREATED:20260417T143930Z
LAST-MODIFIED:20260417T143930Z
UID:10013789-1792314000-1792317600@standrewbytheseaumc.org
SUMMARY:TRADITIONAL Worship
DESCRIPTION:Worship with us in the sanctuary as we gather for praise\, hear God’s Word\, respond to God’s Word\, and go forth to serve God’s world\, led by our pastors and our chancel choir\, accompanied by organ and piano.
URL:https://standrewbytheseaumc.org/event/traditional-worship-2-2-2-2-2-2-2-2/2026-10-18/
ATTACH;FMTTYPE=image/png:/wp-content/uploads/2026/02/event-default-logo.png
END:VEVENT
BEGIN:VEVENT
DTSTART;TZID=America/New_York:20261018T101500
DTEND;TZID=America/New_York:20261018T110000
DTSTAMP:20260422T105425
CREATED:20260213T162730Z
LAST-MODIFIED:20260417T144429Z
UID:10018617-1792318500-1792321200@standrewbytheseaumc.org
SUMMARY:Adult Studies + Classes
DESCRIPTION:
URL:https://standrewbytheseaumc.org/event/adult-studies-classes/2026-10-18/
ATTACH;FMTTYPE=image/png:/wp-content/uploads/2026/02/event-default-logo.png
END:VEVENT
BEGIN:VEVENT
DTSTART;TZID=America/New_York:20261018T110900
DTEND;TZID=America/New_York:20261018T121500
DTSTAMP:20260422T105425
CREATED:20260417T144050Z
LAST-MODIFIED:20260417T144050Z
UID:10005042-1792321740-1792325700@standrewbytheseaumc.org
SUMMARY:MODERN Worship
DESCRIPTION:Worship with us in the sanctuary as we gather for praise\, hear God’s Word\, respond to God’s Word\, and go forth to serve God’s world\, led by our pastors and our praise team on guitar and keyboard.
URL:https://standrewbytheseaumc.org/event/modern-worship-26-2-2-2-2/2026-10-18/
ATTACH;FMTTYPE=image/jpeg:/wp-content/uploads/2024/05/Modern-Worship-1000.jpg
END:VEVENT
BEGIN:VEVENT
DTSTART;TZID=America/New_York:20261019T073000
DTEND;TZID=America/New_York:20261019T083000
DTSTAMP:20260422T105425
CREATED:20240711T165450Z
LAST-MODIFIED:20240920T130237Z
UID:10006272-1792395000-1792398600@standrewbytheseaumc.org
SUMMARY:Day Starters AA Group
DESCRIPTION:
URL:https://standrewbytheseaumc.org/event/day-starters-aa-group-3-2/2026-10-19/
LOCATION:Celebration Center
ATTACH;FMTTYPE=image/jpeg:/wp-content/uploads/2024/06/Group_Meeting-1000.jpg
END:VEVENT
BEGIN:VEVENT
DTSTART;TZID=America/New_York:20261020T073000
DTEND;TZID=America/New_York:20261020T083000
DTSTAMP:20260422T105425
CREATED:20240711T165450Z
LAST-MODIFIED:20240920T130237Z
UID:10006273-1792481400-1792485000@standrewbytheseaumc.org
SUMMARY:Day Starters AA Group
DESCRIPTION:
URL:https://standrewbytheseaumc.org/event/day-starters-aa-group-3-2/2026-10-20/
LOCATION:Celebration Center
ATTACH;FMTTYPE=image/jpeg:/wp-content/uploads/2024/06/Group_Meeting-1000.jpg
END:VEVENT
BEGIN:VEVENT
DTSTART;TZID=America/New_York:20261020T083000
DTEND;TZID=America/New_York:20261020T110000
DTSTAMP:20260422T105425
CREATED:20240509T232637Z
LAST-MODIFIED:20250221T153539Z
UID:10014231-1792485000-1792494000@standrewbytheseaumc.org
SUMMARY:Soup Kitchen
DESCRIPTION:The Soup Kitchen is a weekly ministry that serves persons in need in our community by sharing the love of God\, and providing food for nourishment\, kindness\, and hope for the future. \nDoors open at 8:30 am\, hot meals served 9:30-10:30 am\, pantry at 10:30 am.
URL:https://standrewbytheseaumc.org/event/soup-kitchen-2/2026-10-20/
ATTACH;FMTTYPE=image/jpeg:/wp-content/uploads/2024/05/Soup-Kitchen-e1720639777791.jpg
END:VEVENT
BEGIN:VEVENT
DTSTART;TZID=America/New_York:20261020T100000
DTEND;TZID=America/New_York:20261020T110000
DTSTAMP:20260422T105425
CREATED:20241205T210503Z
LAST-MODIFIED:20260213T181308Z
UID:10004264-1792490400-1792494000@standrewbytheseaumc.org
SUMMARY:Fellowship Friends Weekly Zoom Chat
DESCRIPTION:
URL:https://standrewbytheseaumc.org/event/fellowship-friends-weekly-zoom-chat-21/2026-10-20/
ATTACH;FMTTYPE=image/png:/wp-content/uploads/2026/02/event-default-logo.png
END:VEVENT
BEGIN:VEVENT
DTSTART;TZID=America/New_York:20261020T120000
DTEND;TZID=America/New_York:20261020T130000
DTSTAMP:20260422T105425
CREATED:20240606T184706Z
LAST-MODIFIED:20260213T160259Z
UID:10018182-1792497600-1792501200@standrewbytheseaumc.org
SUMMARY:Staff Meeting
DESCRIPTION:
URL:https://standrewbytheseaumc.org/event/staff-meeting-24-2/2026-10-20/
ATTACH;FMTTYPE=image/png:/wp-content/uploads/2026/02/event-default-logo.png
END:VEVENT
BEGIN:VEVENT
DTSTART;TZID=America/New_York:20261020T130000
DTEND;TZID=America/New_York:20261020T140000
DTSTAMP:20260422T105425
CREATED:20260213T160643Z
LAST-MODIFIED:20260213T160643Z
UID:10018443-1792501200-1792504800@standrewbytheseaumc.org
SUMMARY:Devotions + Laughter Women's Bible Study
DESCRIPTION:
URL:https://standrewbytheseaumc.org/event/devotions-laughter-womens-bible-study/2026-10-20/
LOCATION:Admin. Bldg. Library
ATTACH;FMTTYPE=image/png:/wp-content/uploads/2026/02/event-default-logo.png
ORGANIZER;CN="Kerry Tilden":MAILTO:kerry@lovetheocean.com
END:VEVENT
BEGIN:VEVENT
DTSTART;TZID=America/New_York:20261020T140000
DTEND;TZID=America/New_York:20261020T150000
DTSTAMP:20260422T105425
CREATED:20250905T165318Z
LAST-MODIFIED:20250905T165318Z
UID:10017223-1792504800-1792508400@standrewbytheseaumc.org
SUMMARY:Seaside Bell Choir Rehearsal
DESCRIPTION:
URL:https://standrewbytheseaumc.org/event/seaside-bell-choir-rehearsal/2026-10-20/
ATTACH;FMTTYPE=image/png:/wp-content/uploads/2026/02/event-default-logo.png
END:VEVENT
BEGIN:VEVENT
DTSTART;TZID=America/New_York:20261020T183000
DTEND;TZID=America/New_York:20261020T203000
DTSTAMP:20260422T105425
CREATED:20240517T145923Z
LAST-MODIFIED:20260213T163944Z
UID:10004524-1792521000-1792528200@standrewbytheseaumc.org
SUMMARY:Men's open gym
DESCRIPTION:
URL:https://standrewbytheseaumc.org/event/mens-open-gym/2026-10-20/
ATTACH;FMTTYPE=image/png:/wp-content/uploads/2026/02/event-default-logo.png
END:VEVENT
BEGIN:VEVENT
DTSTART;TZID=America/New_York:20261021T073000
DTEND;TZID=America/New_York:20261021T083000
DTSTAMP:20260422T105425
CREATED:20240711T165450Z
LAST-MODIFIED:20240920T130237Z
UID:10006274-1792567800-1792571400@standrewbytheseaumc.org
SUMMARY:Day Starters AA Group
DESCRIPTION:
URL:https://standrewbytheseaumc.org/event/day-starters-aa-group-3-2/2026-10-21/
LOCATION:Celebration Center
ATTACH;FMTTYPE=image/jpeg:/wp-content/uploads/2024/06/Group_Meeting-1000.jpg
END:VEVENT
BEGIN:VEVENT
DTSTART;TZID=America/New_York:20261021T120000
DTEND;TZID=America/New_York:20261021T130000
DTSTAMP:20260422T105425
CREATED:20260213T165043Z
LAST-MODIFIED:20260213T165043Z
UID:10018880-1792584000-1792587600@standrewbytheseaumc.org
SUMMARY:Healing + Wholeness Service
DESCRIPTION:
URL:https://standrewbytheseaumc.org/event/healing-wholeness-service/2026-10-21/
ATTACH;FMTTYPE=image/jpeg:/wp-content/uploads/2025/07/Healing-and-Wholeness-full-image-with-content-2024.jpg
END:VEVENT
BEGIN:VEVENT
DTSTART;TZID=America/New_York:20261021T173000
DTEND;TZID=America/New_York:20261021T190000
DTSTAMP:20260422T105425
CREATED:20250508T182139Z
LAST-MODIFIED:20250919T152812Z
UID:10017153-1792603800-1792609200@standrewbytheseaumc.org
SUMMARY:Seaside Chancel Choir rehearsal
DESCRIPTION:
URL:https://standrewbytheseaumc.org/event/seaside-chancel-choir-rehearsal-2/2026-10-21/
LOCATION:Music Room
ATTACH;FMTTYPE=image/png:/wp-content/uploads/2026/02/event-default-logo.png
END:VEVENT
BEGIN:VEVENT
DTSTART;TZID=America/New_York:20261022T073000
DTEND;TZID=America/New_York:20261022T083000
DTSTAMP:20260422T105425
CREATED:20240711T165450Z
LAST-MODIFIED:20240920T130237Z
UID:10006275-1792654200-1792657800@standrewbytheseaumc.org
SUMMARY:Day Starters AA Group
DESCRIPTION:
URL:https://standrewbytheseaumc.org/event/day-starters-aa-group-3-2/2026-10-22/
LOCATION:Celebration Center
ATTACH;FMTTYPE=image/jpeg:/wp-content/uploads/2024/06/Group_Meeting-1000.jpg
END:VEVENT
BEGIN:VEVENT
DTSTART;TZID=America/New_York:20261022T080000
DTEND;TZID=America/New_York:20261022T090000
DTSTAMP:20260422T105425
CREATED:20240517T145923Z
LAST-MODIFIED:20251204T194950Z
UID:10004784-1792656000-1792659600@standrewbytheseaumc.org
SUMMARY:Men's Devotional Group
DESCRIPTION:
URL:https://standrewbytheseaumc.org/event/mens-devotional-group/2026-10-22/
ATTACH;FMTTYPE=image/png:/wp-content/uploads/2026/02/event-default-logo.png
END:VEVENT
BEGIN:VEVENT
DTSTART;TZID=America/New_York:20261023T073000
DTEND;TZID=America/New_York:20261023T083000
DTSTAMP:20260422T105425
CREATED:20240711T165450Z
LAST-MODIFIED:20240920T130237Z
UID:10006276-1792740600-1792744200@standrewbytheseaumc.org
SUMMARY:Day Starters AA Group
DESCRIPTION:
URL:https://standrewbytheseaumc.org/event/day-starters-aa-group-3-2/2026-10-23/
LOCATION:Celebration Center
ATTACH;FMTTYPE=image/jpeg:/wp-content/uploads/2024/06/Group_Meeting-1000.jpg
END:VEVENT
BEGIN:VEVENT
DTSTART;TZID=America/New_York:20261023T083000
DTEND;TZID=America/New_York:20261023T110000
DTSTAMP:20260422T105425
CREATED:20240509T232637Z
LAST-MODIFIED:20250221T153539Z
UID:10014232-1792744200-1792753200@standrewbytheseaumc.org
SUMMARY:Soup Kitchen
DESCRIPTION:The Soup Kitchen is a weekly ministry that serves persons in need in our community by sharing the love of God\, and providing food for nourishment\, kindness\, and hope for the future. \nDoors open at 8:30 am\, hot meals served 9:30-10:30 am\, pantry at 10:30 am.
URL:https://standrewbytheseaumc.org/event/soup-kitchen-2/2026-10-23/
ATTACH;FMTTYPE=image/jpeg:/wp-content/uploads/2024/05/Soup-Kitchen-e1720639777791.jpg
END:VEVENT
BEGIN:VEVENT
DTSTART;TZID=America/New_York:20261023T130000
DTEND;TZID=America/New_York:20261023T140000
DTSTAMP:20260422T105425
CREATED:20260213T161040Z
LAST-MODIFIED:20260213T161040Z
UID:10018542-1792760400-1792764000@standrewbytheseaumc.org
SUMMARY:Disciple Fast Track 3 Bible Study
DESCRIPTION:
URL:https://standrewbytheseaumc.org/event/disciple-fast-track-3-bible-study/2026-10-23/
LOCATION:Admin. Bldg. – Conference Room
ATTACH;FMTTYPE=image/png:/wp-content/uploads/2026/02/event-default-logo.png
ORGANIZER;CN="Kerry Tilden":MAILTO:kerry@lovetheocean.com
END:VEVENT
BEGIN:VEVENT
DTSTART;VALUE=DATE:20261025
DTEND;VALUE=DATE:20261026
DTSTAMP:20260422T105425
CREATED:20251204T201314Z
LAST-MODIFIED:20251204T201314Z
UID:10017966-1792915200-1792947600@standrewbytheseaumc.org
SUMMARY:Suds Sunday
DESCRIPTION:
URL:https://standrewbytheseaumc.org/event/suds-sunday-2/2026-10-25/
ATTACH;FMTTYPE=image/png:/wp-content/uploads/2026/02/event-default-logo.png
END:VEVENT
BEGIN:VEVENT
DTSTART;TZID=America/New_York:20261025T090000
DTEND;TZID=America/New_York:20261025T100000
DTSTAMP:20260422T105425
CREATED:20260417T143930Z
LAST-MODIFIED:20260417T143930Z
UID:10013790-1792918800-1792922400@standrewbytheseaumc.org
SUMMARY:TRADITIONAL Worship
DESCRIPTION:Worship with us in the sanctuary as we gather for praise\, hear God’s Word\, respond to God’s Word\, and go forth to serve God’s world\, led by our pastors and our chancel choir\, accompanied by organ and piano.
URL:https://standrewbytheseaumc.org/event/traditional-worship-2-2-2-2-2-2-2-2/2026-10-25/
ATTACH;FMTTYPE=image/png:/wp-content/uploads/2026/02/event-default-logo.png
END:VEVENT
BEGIN:VEVENT
DTSTART;TZID=America/New_York:20261025T101500
DTEND;TZID=America/New_York:20261025T110000
DTSTAMP:20260422T105425
CREATED:20260213T162730Z
LAST-MODIFIED:20260417T144429Z
UID:10018618-1792923300-1792926000@standrewbytheseaumc.org
SUMMARY:Adult Studies + Classes
DESCRIPTION:
URL:https://standrewbytheseaumc.org/event/adult-studies-classes/2026-10-25/
ATTACH;FMTTYPE=image/png:/wp-content/uploads/2026/02/event-default-logo.png
END:VEVENT
BEGIN:VEVENT
DTSTART;TZID=America/New_York:20261025T110900
DTEND;TZID=America/New_York:20261025T121500
DTSTAMP:20260422T105425
CREATED:20260417T144050Z
LAST-MODIFIED:20260417T144050Z
UID:10005043-1792926540-1792930500@standrewbytheseaumc.org
SUMMARY:MODERN Worship
DESCRIPTION:Worship with us in the sanctuary as we gather for praise\, hear God’s Word\, respond to God’s Word\, and go forth to serve God’s world\, led by our pastors and our praise team on guitar and keyboard.
URL:https://standrewbytheseaumc.org/event/modern-worship-26-2-2-2-2/2026-10-25/
ATTACH;FMTTYPE=image/jpeg:/wp-content/uploads/2024/05/Modern-Worship-1000.jpg
END:VEVENT
BEGIN:VEVENT
DTSTART;TZID=America/New_York:20261026T073000
DTEND;TZID=America/New_York:20261026T083000
DTSTAMP:20260422T105425
CREATED:20240711T165450Z
LAST-MODIFIED:20240920T130237Z
UID:10006279-1792999800-1793003400@standrewbytheseaumc.org
SUMMARY:Day Starters AA Group
DESCRIPTION:
URL:https://standrewbytheseaumc.org/event/day-starters-aa-group-3-2/2026-10-26/
LOCATION:Celebration Center
ATTACH;FMTTYPE=image/jpeg:/wp-content/uploads/2024/06/Group_Meeting-1000.jpg
END:VEVENT
BEGIN:VEVENT
DTSTART;TZID=America/New_York:20261026T163000
DTEND;TZID=America/New_York:20261026T173000
DTSTAMP:20260422T105425
CREATED:20260209T200525Z
LAST-MODIFIED:20260209T200559Z
UID:10018042-1793032200-1793035800@standrewbytheseaumc.org
SUMMARY:Church Council 2026 Meeting
DESCRIPTION:
URL:https://standrewbytheseaumc.org/event/church-council-2026-meetings/2026-10-26/
LOCATION:The Wesley Room – C111
ATTACH;FMTTYPE=image/png:/wp-content/uploads/2026/02/event-default-logo.png
END:VEVENT
BEGIN:VEVENT
DTSTART;TZID=America/New_York:20261027T073000
DTEND;TZID=America/New_York:20261027T083000
DTSTAMP:20260422T105425
CREATED:20240711T165450Z
LAST-MODIFIED:20240920T130237Z
UID:10006280-1793086200-1793089800@standrewbytheseaumc.org
SUMMARY:Day Starters AA Group
DESCRIPTION:
URL:https://standrewbytheseaumc.org/event/day-starters-aa-group-3-2/2026-10-27/
LOCATION:Celebration Center
ATTACH;FMTTYPE=image/jpeg:/wp-content/uploads/2024/06/Group_Meeting-1000.jpg
END:VEVENT
BEGIN:VEVENT
DTSTART;TZID=America/New_York:20261027T083000
DTEND;TZID=America/New_York:20261027T110000
DTSTAMP:20260422T105425
CREATED:20240509T232637Z
LAST-MODIFIED:20250221T153539Z
UID:10014233-1793089800-1793098800@standrewbytheseaumc.org
SUMMARY:Soup Kitchen
DESCRIPTION:The Soup Kitchen is a weekly ministry that serves persons in need in our community by sharing the love of God\, and providing food for nourishment\, kindness\, and hope for the future. \nDoors open at 8:30 am\, hot meals served 9:30-10:30 am\, pantry at 10:30 am.
URL:https://standrewbytheseaumc.org/event/soup-kitchen-2/2026-10-27/
ATTACH;FMTTYPE=image/jpeg:/wp-content/uploads/2024/05/Soup-Kitchen-e1720639777791.jpg
END:VEVENT
END:VCALENDAR