BEGIN:VCALENDAR
VERSION:2.0
PRODID:-//St. Andrew By-The-Sea United Methodist Church - ECPv6.15.20//NONSGML v1.0//EN
CALSCALE:GREGORIAN
METHOD:PUBLISH
X-WR-CALNAME:St. Andrew By-The-Sea United Methodist Church
X-ORIGINAL-URL:https://standrewbytheseaumc.org
X-WR-CALDESC:Events for St. Andrew By-The-Sea United Methodist Church
REFRESH-INTERVAL;VALUE=DURATION:PT1H
X-Robots-Tag:noindex
X-PUBLISHED-TTL:PT1H
BEGIN:VTIMEZONE
TZID:America/New_York
BEGIN:DAYLIGHT
TZOFFSETFROM:-0500
TZOFFSETTO:-0400
TZNAME:EDT
DTSTART:20250309T070000
END:DAYLIGHT
BEGIN:STANDARD
TZOFFSETFROM:-0400
TZOFFSETTO:-0500
TZNAME:EST
DTSTART:20251102T060000
END:STANDARD
BEGIN:DAYLIGHT
TZOFFSETFROM:-0500
TZOFFSETTO:-0400
TZNAME:EDT
DTSTART:20260308T070000
END:DAYLIGHT
BEGIN:STANDARD
TZOFFSETFROM:-0400
TZOFFSETTO:-0500
TZNAME:EST
DTSTART:20261101T060000
END:STANDARD
BEGIN:DAYLIGHT
TZOFFSETFROM:-0500
TZOFFSETTO:-0400
TZNAME:EDT
DTSTART:20270314T070000
END:DAYLIGHT
BEGIN:STANDARD
TZOFFSETFROM:-0400
TZOFFSETTO:-0500
TZNAME:EST
DTSTART:20271107T060000
END:STANDARD
END:VTIMEZONE
BEGIN:VEVENT
DTSTART;TZID=America/New_York:20261106T083000
DTEND;TZID=America/New_York:20261106T110000
DTSTAMP:20260422T183147
CREATED:20240509T232637Z
LAST-MODIFIED:20250221T153539Z
UID:10014236-1793953800-1793962800@standrewbytheseaumc.org
SUMMARY:Soup Kitchen
DESCRIPTION:The Soup Kitchen is a weekly ministry that serves persons in need in our community by sharing the love of God\, and providing food for nourishment\, kindness\, and hope for the future. \nDoors open at 8:30 am\, hot meals served 9:30-10:30 am\, pantry at 10:30 am.
URL:https://standrewbytheseaumc.org/event/soup-kitchen-2/2026-11-06/
ATTACH;FMTTYPE=image/jpeg:/wp-content/uploads/2024/05/Soup-Kitchen-e1720639777791.jpg
END:VEVENT
BEGIN:VEVENT
DTSTART;TZID=America/New_York:20261106T130000
DTEND;TZID=America/New_York:20261106T140000
DTSTAMP:20260422T183147
CREATED:20260213T161040Z
LAST-MODIFIED:20260213T161040Z
UID:10018544-1793970000-1793973600@standrewbytheseaumc.org
SUMMARY:Disciple Fast Track 3 Bible Study
DESCRIPTION:
URL:https://standrewbytheseaumc.org/event/disciple-fast-track-3-bible-study/2026-11-06/
LOCATION:Admin. Bldg. – Conference Room
ATTACH;FMTTYPE=image/png:/wp-content/uploads/2026/02/event-default-logo.png
ORGANIZER;CN="Kerry Tilden":MAILTO:kerry@lovetheocean.com
END:VEVENT
BEGIN:VEVENT
DTSTART;TZID=America/New_York:20261108T090000
DTEND;TZID=America/New_York:20261108T100000
DTSTAMP:20260422T183147
CREATED:20260417T143930Z
LAST-MODIFIED:20260417T143930Z
UID:10013792-1794128400-1794132000@standrewbytheseaumc.org
SUMMARY:TRADITIONAL Worship
DESCRIPTION:Worship with us in the sanctuary as we gather for praise\, hear God’s Word\, respond to God’s Word\, and go forth to serve God’s world\, led by our pastors and our chancel choir\, accompanied by organ and piano.
URL:https://standrewbytheseaumc.org/event/traditional-worship-2-2-2-2-2-2-2-2/2026-11-08/
ATTACH;FMTTYPE=image/png:/wp-content/uploads/2026/02/event-default-logo.png
END:VEVENT
BEGIN:VEVENT
DTSTART;TZID=America/New_York:20261108T101500
DTEND;TZID=America/New_York:20261108T110000
DTSTAMP:20260422T183147
CREATED:20260213T162730Z
LAST-MODIFIED:20260417T144429Z
UID:10018620-1794132900-1794135600@standrewbytheseaumc.org
SUMMARY:Adult Studies + Classes
DESCRIPTION:
URL:https://standrewbytheseaumc.org/event/adult-studies-classes/2026-11-08/
ATTACH;FMTTYPE=image/png:/wp-content/uploads/2026/02/event-default-logo.png
END:VEVENT
BEGIN:VEVENT
DTSTART;TZID=America/New_York:20261108T110900
DTEND;TZID=America/New_York:20261108T121500
DTSTAMP:20260422T183147
CREATED:20260417T144050Z
LAST-MODIFIED:20260417T144050Z
UID:10005045-1794136140-1794140100@standrewbytheseaumc.org
SUMMARY:MODERN Worship
DESCRIPTION:Worship with us in the sanctuary as we gather for praise\, hear God’s Word\, respond to God’s Word\, and go forth to serve God’s world\, led by our pastors and our praise team on guitar and keyboard.
URL:https://standrewbytheseaumc.org/event/modern-worship-26-2-2-2-2/2026-11-08/
ATTACH;FMTTYPE=image/jpeg:/wp-content/uploads/2024/05/Modern-Worship-1000.jpg
END:VEVENT
BEGIN:VEVENT
DTSTART;TZID=America/New_York:20261109T073000
DTEND;TZID=America/New_York:20261109T083000
DTSTAMP:20260422T183147
CREATED:20240711T165450Z
LAST-MODIFIED:20240920T130237Z
UID:10006293-1794209400-1794213000@standrewbytheseaumc.org
SUMMARY:Day Starters AA Group
DESCRIPTION:
URL:https://standrewbytheseaumc.org/event/day-starters-aa-group-3-2/2026-11-09/
LOCATION:Celebration Center
ATTACH;FMTTYPE=image/jpeg:/wp-content/uploads/2024/06/Group_Meeting-1000.jpg
END:VEVENT
BEGIN:VEVENT
DTSTART;TZID=America/New_York:20261109T190000
DTEND;TZID=America/New_York:20261109T210000
DTSTAMP:20260422T183147
CREATED:20240710T201412Z
LAST-MODIFIED:20240710T201721Z
UID:10007590-1794250800-1794258000@standrewbytheseaumc.org
SUMMARY:Masons
DESCRIPTION:
URL:https://standrewbytheseaumc.org/event/masons-2/2026-11-09/
LOCATION:Admin. Bldg.
ATTACH;FMTTYPE=image/png:/wp-content/uploads/2026/02/event-default-logo.png
END:VEVENT
BEGIN:VEVENT
DTSTART;TZID=America/New_York:20261110T073000
DTEND;TZID=America/New_York:20261110T083000
DTSTAMP:20260422T183147
CREATED:20240711T165450Z
LAST-MODIFIED:20240920T130237Z
UID:10006294-1794295800-1794299400@standrewbytheseaumc.org
SUMMARY:Day Starters AA Group
DESCRIPTION:
URL:https://standrewbytheseaumc.org/event/day-starters-aa-group-3-2/2026-11-10/
LOCATION:Celebration Center
ATTACH;FMTTYPE=image/jpeg:/wp-content/uploads/2024/06/Group_Meeting-1000.jpg
END:VEVENT
BEGIN:VEVENT
DTSTART;TZID=America/New_York:20261110T083000
DTEND;TZID=America/New_York:20261110T110000
DTSTAMP:20260422T183147
CREATED:20240509T232637Z
LAST-MODIFIED:20250221T153539Z
UID:10014237-1794299400-1794308400@standrewbytheseaumc.org
SUMMARY:Soup Kitchen
DESCRIPTION:The Soup Kitchen is a weekly ministry that serves persons in need in our community by sharing the love of God\, and providing food for nourishment\, kindness\, and hope for the future. \nDoors open at 8:30 am\, hot meals served 9:30-10:30 am\, pantry at 10:30 am.
URL:https://standrewbytheseaumc.org/event/soup-kitchen-2/2026-11-10/
ATTACH;FMTTYPE=image/jpeg:/wp-content/uploads/2024/05/Soup-Kitchen-e1720639777791.jpg
END:VEVENT
BEGIN:VEVENT
DTSTART;TZID=America/New_York:20261110T100000
DTEND;TZID=America/New_York:20261110T110000
DTSTAMP:20260422T183147
CREATED:20241205T210503Z
LAST-MODIFIED:20260213T181308Z
UID:10004267-1794304800-1794308400@standrewbytheseaumc.org
SUMMARY:Fellowship Friends Weekly Zoom Chat
DESCRIPTION:
URL:https://standrewbytheseaumc.org/event/fellowship-friends-weekly-zoom-chat-21/2026-11-10/
ATTACH;FMTTYPE=image/png:/wp-content/uploads/2026/02/event-default-logo.png
END:VEVENT
BEGIN:VEVENT
DTSTART;TZID=America/New_York:20261110T120000
DTEND;TZID=America/New_York:20261110T130000
DTSTAMP:20260422T183147
CREATED:20240606T184706Z
LAST-MODIFIED:20260213T160259Z
UID:10018185-1794312000-1794315600@standrewbytheseaumc.org
SUMMARY:Staff Meeting
DESCRIPTION:
URL:https://standrewbytheseaumc.org/event/staff-meeting-24-2/2026-11-10/
ATTACH;FMTTYPE=image/png:/wp-content/uploads/2026/02/event-default-logo.png
END:VEVENT
BEGIN:VEVENT
DTSTART;TZID=America/New_York:20261110T130000
DTEND;TZID=America/New_York:20261110T140000
DTSTAMP:20260422T183147
CREATED:20260213T160643Z
LAST-MODIFIED:20260213T160643Z
UID:10018446-1794315600-1794319200@standrewbytheseaumc.org
SUMMARY:Devotions + Laughter Women's Bible Study
DESCRIPTION:
URL:https://standrewbytheseaumc.org/event/devotions-laughter-womens-bible-study/2026-11-10/
LOCATION:Admin. Bldg. Library
ATTACH;FMTTYPE=image/png:/wp-content/uploads/2026/02/event-default-logo.png
ORGANIZER;CN="Kerry Tilden":MAILTO:kerry@lovetheocean.com
END:VEVENT
BEGIN:VEVENT
DTSTART;TZID=America/New_York:20261110T140000
DTEND;TZID=America/New_York:20261110T150000
DTSTAMP:20260422T183147
CREATED:20250905T165318Z
LAST-MODIFIED:20250905T165318Z
UID:10017226-1794319200-1794322800@standrewbytheseaumc.org
SUMMARY:Seaside Bell Choir Rehearsal
DESCRIPTION:
URL:https://standrewbytheseaumc.org/event/seaside-bell-choir-rehearsal/2026-11-10/
ATTACH;FMTTYPE=image/png:/wp-content/uploads/2026/02/event-default-logo.png
END:VEVENT
BEGIN:VEVENT
DTSTART;TZID=America/New_York:20261110T173000
DTEND;TZID=America/New_York:20261110T190000
DTSTAMP:20260422T183147
CREATED:20260116T190906Z
LAST-MODIFIED:20260116T190906Z
UID:10017986-1794331800-1794337200@standrewbytheseaumc.org
SUMMARY:SPPRC Committee Meeting
DESCRIPTION:
URL:https://standrewbytheseaumc.org/event/spprc-committee-meeting/2026-11-10/
LOCATION:Celebration Center
ATTACH;FMTTYPE=image/png:/wp-content/uploads/2026/02/event-default-logo.png
END:VEVENT
BEGIN:VEVENT
DTSTART;TZID=America/New_York:20261110T183000
DTEND;TZID=America/New_York:20261110T203000
DTSTAMP:20260422T183147
CREATED:20240517T145923Z
LAST-MODIFIED:20260213T163944Z
UID:10004527-1794335400-1794342600@standrewbytheseaumc.org
SUMMARY:Men's open gym
DESCRIPTION:
URL:https://standrewbytheseaumc.org/event/mens-open-gym/2026-11-10/
ATTACH;FMTTYPE=image/png:/wp-content/uploads/2026/02/event-default-logo.png
END:VEVENT
BEGIN:VEVENT
DTSTART;TZID=America/New_York:20261111T073000
DTEND;TZID=America/New_York:20261111T083000
DTSTAMP:20260422T183147
CREATED:20240711T165450Z
LAST-MODIFIED:20240920T130237Z
UID:10006295-1794382200-1794385800@standrewbytheseaumc.org
SUMMARY:Day Starters AA Group
DESCRIPTION:
URL:https://standrewbytheseaumc.org/event/day-starters-aa-group-3-2/2026-11-11/
LOCATION:Celebration Center
ATTACH;FMTTYPE=image/jpeg:/wp-content/uploads/2024/06/Group_Meeting-1000.jpg
END:VEVENT
BEGIN:VEVENT
DTSTART;TZID=America/New_York:20261111T120000
DTEND;TZID=America/New_York:20261111T130000
DTSTAMP:20260422T183147
CREATED:20260213T165043Z
LAST-MODIFIED:20260213T165043Z
UID:10018883-1794398400-1794402000@standrewbytheseaumc.org
SUMMARY:Healing + Wholeness Service
DESCRIPTION:
URL:https://standrewbytheseaumc.org/event/healing-wholeness-service/2026-11-11/
ATTACH;FMTTYPE=image/jpeg:/wp-content/uploads/2025/07/Healing-and-Wholeness-full-image-with-content-2024.jpg
END:VEVENT
BEGIN:VEVENT
DTSTART;TZID=America/New_York:20261111T173000
DTEND;TZID=America/New_York:20261111T190000
DTSTAMP:20260422T183147
CREATED:20250508T182139Z
LAST-MODIFIED:20250919T152812Z
UID:10017156-1794418200-1794423600@standrewbytheseaumc.org
SUMMARY:Seaside Chancel Choir rehearsal
DESCRIPTION:
URL:https://standrewbytheseaumc.org/event/seaside-chancel-choir-rehearsal-2/2026-11-11/
LOCATION:Music Room
ATTACH;FMTTYPE=image/png:/wp-content/uploads/2026/02/event-default-logo.png
END:VEVENT
BEGIN:VEVENT
DTSTART;TZID=America/New_York:20261112T073000
DTEND;TZID=America/New_York:20261112T083000
DTSTAMP:20260422T183147
CREATED:20240711T165450Z
LAST-MODIFIED:20240920T130237Z
UID:10006296-1794468600-1794472200@standrewbytheseaumc.org
SUMMARY:Day Starters AA Group
DESCRIPTION:
URL:https://standrewbytheseaumc.org/event/day-starters-aa-group-3-2/2026-11-12/
LOCATION:Celebration Center
ATTACH;FMTTYPE=image/jpeg:/wp-content/uploads/2024/06/Group_Meeting-1000.jpg
END:VEVENT
BEGIN:VEVENT
DTSTART;TZID=America/New_York:20261112T080000
DTEND;TZID=America/New_York:20261112T090000
DTSTAMP:20260422T183147
CREATED:20240517T145923Z
LAST-MODIFIED:20251204T194950Z
UID:10004787-1794470400-1794474000@standrewbytheseaumc.org
SUMMARY:Men's Devotional Group
DESCRIPTION:
URL:https://standrewbytheseaumc.org/event/mens-devotional-group/2026-11-12/
ATTACH;FMTTYPE=image/png:/wp-content/uploads/2026/02/event-default-logo.png
END:VEVENT
BEGIN:VEVENT
DTSTART;TZID=America/New_York:20261112T090000
DTEND;TZID=America/New_York:20261112T100000
DTSTAMP:20260422T183147
CREATED:20260213T160100Z
LAST-MODIFIED:20260213T160100Z
UID:10018063-1794474000-1794477600@standrewbytheseaumc.org
SUMMARY:Trustees Meeting
DESCRIPTION:
URL:https://standrewbytheseaumc.org/event/trustees-meeting-4/2026-11-12/
LOCATION:Admin. Bldg. – Conference Room
ATTACH;FMTTYPE=image/png:/wp-content/uploads/2025/06/Trustees-Logo.png
ORGANIZER;CN="Lois Chandler":MAILTO:standrewbythesea@gmail.com
END:VEVENT
BEGIN:VEVENT
DTSTART;TZID=America/New_York:20261113T073000
DTEND;TZID=America/New_York:20261113T083000
DTSTAMP:20260422T183147
CREATED:20240711T165450Z
LAST-MODIFIED:20240920T130237Z
UID:10006297-1794555000-1794558600@standrewbytheseaumc.org
SUMMARY:Day Starters AA Group
DESCRIPTION:
URL:https://standrewbytheseaumc.org/event/day-starters-aa-group-3-2/2026-11-13/
LOCATION:Celebration Center
ATTACH;FMTTYPE=image/jpeg:/wp-content/uploads/2024/06/Group_Meeting-1000.jpg
END:VEVENT
BEGIN:VEVENT
DTSTART;TZID=America/New_York:20261113T083000
DTEND;TZID=America/New_York:20261113T110000
DTSTAMP:20260422T183147
CREATED:20240509T232637Z
LAST-MODIFIED:20250221T153539Z
UID:10014238-1794558600-1794567600@standrewbytheseaumc.org
SUMMARY:Soup Kitchen
DESCRIPTION:The Soup Kitchen is a weekly ministry that serves persons in need in our community by sharing the love of God\, and providing food for nourishment\, kindness\, and hope for the future. \nDoors open at 8:30 am\, hot meals served 9:30-10:30 am\, pantry at 10:30 am.
URL:https://standrewbytheseaumc.org/event/soup-kitchen-2/2026-11-13/
ATTACH;FMTTYPE=image/jpeg:/wp-content/uploads/2024/05/Soup-Kitchen-e1720639777791.jpg
END:VEVENT
BEGIN:VEVENT
DTSTART;TZID=America/New_York:20261113T130000
DTEND;TZID=America/New_York:20261113T140000
DTSTAMP:20260422T183147
CREATED:20260213T161040Z
LAST-MODIFIED:20260213T161040Z
UID:10018545-1794574800-1794578400@standrewbytheseaumc.org
SUMMARY:Disciple Fast Track 3 Bible Study
DESCRIPTION:
URL:https://standrewbytheseaumc.org/event/disciple-fast-track-3-bible-study/2026-11-13/
LOCATION:Admin. Bldg. – Conference Room
ATTACH;FMTTYPE=image/png:/wp-content/uploads/2026/02/event-default-logo.png
ORGANIZER;CN="Kerry Tilden":MAILTO:kerry@lovetheocean.com
END:VEVENT
BEGIN:VEVENT
DTSTART;TZID=America/New_York:20261115T090000
DTEND;TZID=America/New_York:20261115T100000
DTSTAMP:20260422T183147
CREATED:20260417T143930Z
LAST-MODIFIED:20260417T143930Z
UID:10013793-1794733200-1794736800@standrewbytheseaumc.org
SUMMARY:TRADITIONAL Worship
DESCRIPTION:Worship with us in the sanctuary as we gather for praise\, hear God’s Word\, respond to God’s Word\, and go forth to serve God’s world\, led by our pastors and our chancel choir\, accompanied by organ and piano.
URL:https://standrewbytheseaumc.org/event/traditional-worship-2-2-2-2-2-2-2-2/2026-11-15/
ATTACH;FMTTYPE=image/png:/wp-content/uploads/2026/02/event-default-logo.png
END:VEVENT
BEGIN:VEVENT
DTSTART;TZID=America/New_York:20261115T101500
DTEND;TZID=America/New_York:20261115T110000
DTSTAMP:20260422T183147
CREATED:20260213T162730Z
LAST-MODIFIED:20260417T144429Z
UID:10018621-1794737700-1794740400@standrewbytheseaumc.org
SUMMARY:Adult Studies + Classes
DESCRIPTION:
URL:https://standrewbytheseaumc.org/event/adult-studies-classes/2026-11-15/
ATTACH;FMTTYPE=image/png:/wp-content/uploads/2026/02/event-default-logo.png
END:VEVENT
BEGIN:VEVENT
DTSTART;TZID=America/New_York:20261115T110900
DTEND;TZID=America/New_York:20261115T121500
DTSTAMP:20260422T183147
CREATED:20260417T144050Z
LAST-MODIFIED:20260417T144050Z
UID:10005046-1794740940-1794744900@standrewbytheseaumc.org
SUMMARY:MODERN Worship
DESCRIPTION:Worship with us in the sanctuary as we gather for praise\, hear God’s Word\, respond to God’s Word\, and go forth to serve God’s world\, led by our pastors and our praise team on guitar and keyboard.
URL:https://standrewbytheseaumc.org/event/modern-worship-26-2-2-2-2/2026-11-15/
ATTACH;FMTTYPE=image/jpeg:/wp-content/uploads/2024/05/Modern-Worship-1000.jpg
END:VEVENT
BEGIN:VEVENT
DTSTART;TZID=America/New_York:20261116T073000
DTEND;TZID=America/New_York:20261116T083000
DTSTAMP:20260422T183147
CREATED:20240711T165450Z
LAST-MODIFIED:20240920T130237Z
UID:10006300-1794814200-1794817800@standrewbytheseaumc.org
SUMMARY:Day Starters AA Group
DESCRIPTION:
URL:https://standrewbytheseaumc.org/event/day-starters-aa-group-3-2/2026-11-16/
LOCATION:Celebration Center
ATTACH;FMTTYPE=image/jpeg:/wp-content/uploads/2024/06/Group_Meeting-1000.jpg
END:VEVENT
BEGIN:VEVENT
DTSTART;TZID=America/New_York:20261117T073000
DTEND;TZID=America/New_York:20261117T083000
DTSTAMP:20260422T183147
CREATED:20240711T165450Z
LAST-MODIFIED:20240920T130237Z
UID:10006301-1794900600-1794904200@standrewbytheseaumc.org
SUMMARY:Day Starters AA Group
DESCRIPTION:
URL:https://standrewbytheseaumc.org/event/day-starters-aa-group-3-2/2026-11-17/
LOCATION:Celebration Center
ATTACH;FMTTYPE=image/jpeg:/wp-content/uploads/2024/06/Group_Meeting-1000.jpg
END:VEVENT
BEGIN:VEVENT
DTSTART;TZID=America/New_York:20261117T083000
DTEND;TZID=America/New_York:20261117T110000
DTSTAMP:20260422T183147
CREATED:20240509T232637Z
LAST-MODIFIED:20250221T153539Z
UID:10014239-1794904200-1794913200@standrewbytheseaumc.org
SUMMARY:Soup Kitchen
DESCRIPTION:The Soup Kitchen is a weekly ministry that serves persons in need in our community by sharing the love of God\, and providing food for nourishment\, kindness\, and hope for the future. \nDoors open at 8:30 am\, hot meals served 9:30-10:30 am\, pantry at 10:30 am.
URL:https://standrewbytheseaumc.org/event/soup-kitchen-2/2026-11-17/
ATTACH;FMTTYPE=image/jpeg:/wp-content/uploads/2024/05/Soup-Kitchen-e1720639777791.jpg
END:VEVENT
END:VCALENDAR