BEGIN:VCALENDAR
VERSION:2.0
PRODID:-//St. Andrew By-The-Sea United Methodist Church - ECPv6.15.20//NONSGML v1.0//EN
CALSCALE:GREGORIAN
METHOD:PUBLISH
X-WR-CALNAME:St. Andrew By-The-Sea United Methodist Church
X-ORIGINAL-URL:https://standrewbytheseaumc.org
X-WR-CALDESC:Events for St. Andrew By-The-Sea United Methodist Church
REFRESH-INTERVAL;VALUE=DURATION:PT1H
X-Robots-Tag:noindex
X-PUBLISHED-TTL:PT1H
BEGIN:VTIMEZONE
TZID:America/New_York
BEGIN:DAYLIGHT
TZOFFSETFROM:-0500
TZOFFSETTO:-0400
TZNAME:EDT
DTSTART:20250309T070000
END:DAYLIGHT
BEGIN:STANDARD
TZOFFSETFROM:-0400
TZOFFSETTO:-0500
TZNAME:EST
DTSTART:20251102T060000
END:STANDARD
BEGIN:DAYLIGHT
TZOFFSETFROM:-0500
TZOFFSETTO:-0400
TZNAME:EDT
DTSTART:20260308T070000
END:DAYLIGHT
BEGIN:STANDARD
TZOFFSETFROM:-0400
TZOFFSETTO:-0500
TZNAME:EST
DTSTART:20261101T060000
END:STANDARD
BEGIN:DAYLIGHT
TZOFFSETFROM:-0500
TZOFFSETTO:-0400
TZNAME:EDT
DTSTART:20270314T070000
END:DAYLIGHT
BEGIN:STANDARD
TZOFFSETFROM:-0400
TZOFFSETTO:-0500
TZNAME:EST
DTSTART:20271107T060000
END:STANDARD
END:VTIMEZONE
BEGIN:VEVENT
DTSTART;TZID=America/New_York:20261118T173000
DTEND;TZID=America/New_York:20261118T190000
DTSTAMP:20260423T003933
CREATED:20250508T182139Z
LAST-MODIFIED:20250919T152812Z
UID:10017157-1795023000-1795028400@standrewbytheseaumc.org
SUMMARY:Seaside Chancel Choir rehearsal
DESCRIPTION:
URL:https://standrewbytheseaumc.org/event/seaside-chancel-choir-rehearsal-2/2026-11-18/
LOCATION:Music Room
ATTACH;FMTTYPE=image/png:/wp-content/uploads/2026/02/event-default-logo.png
END:VEVENT
BEGIN:VEVENT
DTSTART;TZID=America/New_York:20261119T073000
DTEND;TZID=America/New_York:20261119T083000
DTSTAMP:20260423T003933
CREATED:20240711T165450Z
LAST-MODIFIED:20240920T130237Z
UID:10006303-1795073400-1795077000@standrewbytheseaumc.org
SUMMARY:Day Starters AA Group
DESCRIPTION:
URL:https://standrewbytheseaumc.org/event/day-starters-aa-group-3-2/2026-11-19/
LOCATION:Celebration Center
ATTACH;FMTTYPE=image/jpeg:/wp-content/uploads/2024/06/Group_Meeting-1000.jpg
END:VEVENT
BEGIN:VEVENT
DTSTART;TZID=America/New_York:20261119T080000
DTEND;TZID=America/New_York:20261119T090000
DTSTAMP:20260423T003933
CREATED:20240517T145923Z
LAST-MODIFIED:20251204T194950Z
UID:10004788-1795075200-1795078800@standrewbytheseaumc.org
SUMMARY:Men's Devotional Group
DESCRIPTION:
URL:https://standrewbytheseaumc.org/event/mens-devotional-group/2026-11-19/
ATTACH;FMTTYPE=image/png:/wp-content/uploads/2026/02/event-default-logo.png
END:VEVENT
BEGIN:VEVENT
DTSTART;TZID=America/New_York:20261120T073000
DTEND;TZID=America/New_York:20261120T083000
DTSTAMP:20260423T003933
CREATED:20240711T165450Z
LAST-MODIFIED:20240920T130237Z
UID:10006304-1795159800-1795163400@standrewbytheseaumc.org
SUMMARY:Day Starters AA Group
DESCRIPTION:
URL:https://standrewbytheseaumc.org/event/day-starters-aa-group-3-2/2026-11-20/
LOCATION:Celebration Center
ATTACH;FMTTYPE=image/jpeg:/wp-content/uploads/2024/06/Group_Meeting-1000.jpg
END:VEVENT
BEGIN:VEVENT
DTSTART;TZID=America/New_York:20261120T083000
DTEND;TZID=America/New_York:20261120T110000
DTSTAMP:20260423T003933
CREATED:20240509T232637Z
LAST-MODIFIED:20250221T153539Z
UID:10014240-1795163400-1795172400@standrewbytheseaumc.org
SUMMARY:Soup Kitchen
DESCRIPTION:The Soup Kitchen is a weekly ministry that serves persons in need in our community by sharing the love of God\, and providing food for nourishment\, kindness\, and hope for the future. \nDoors open at 8:30 am\, hot meals served 9:30-10:30 am\, pantry at 10:30 am.
URL:https://standrewbytheseaumc.org/event/soup-kitchen-2/2026-11-20/
ATTACH;FMTTYPE=image/jpeg:/wp-content/uploads/2024/05/Soup-Kitchen-e1720639777791.jpg
END:VEVENT
BEGIN:VEVENT
DTSTART;TZID=America/New_York:20261120T130000
DTEND;TZID=America/New_York:20261120T140000
DTSTAMP:20260423T003933
CREATED:20260213T161040Z
LAST-MODIFIED:20260213T161040Z
UID:10018546-1795179600-1795183200@standrewbytheseaumc.org
SUMMARY:Disciple Fast Track 3 Bible Study
DESCRIPTION:
URL:https://standrewbytheseaumc.org/event/disciple-fast-track-3-bible-study/2026-11-20/
LOCATION:Admin. Bldg. – Conference Room
ATTACH;FMTTYPE=image/png:/wp-content/uploads/2026/02/event-default-logo.png
ORGANIZER;CN="Kerry Tilden":MAILTO:kerry@lovetheocean.com
END:VEVENT
BEGIN:VEVENT
DTSTART;TZID=America/New_York:20261122T090000
DTEND;TZID=America/New_York:20261122T100000
DTSTAMP:20260423T003933
CREATED:20260417T143930Z
LAST-MODIFIED:20260417T143930Z
UID:10013794-1795338000-1795341600@standrewbytheseaumc.org
SUMMARY:TRADITIONAL Worship
DESCRIPTION:Worship with us in the sanctuary as we gather for praise\, hear God’s Word\, respond to God’s Word\, and go forth to serve God’s world\, led by our pastors and our chancel choir\, accompanied by organ and piano.
URL:https://standrewbytheseaumc.org/event/traditional-worship-2-2-2-2-2-2-2-2/2026-11-22/
ATTACH;FMTTYPE=image/png:/wp-content/uploads/2026/02/event-default-logo.png
END:VEVENT
BEGIN:VEVENT
DTSTART;TZID=America/New_York:20261122T101500
DTEND;TZID=America/New_York:20261122T110000
DTSTAMP:20260423T003933
CREATED:20260213T162730Z
LAST-MODIFIED:20260417T144429Z
UID:10018622-1795342500-1795345200@standrewbytheseaumc.org
SUMMARY:Adult Studies + Classes
DESCRIPTION:
URL:https://standrewbytheseaumc.org/event/adult-studies-classes/2026-11-22/
ATTACH;FMTTYPE=image/png:/wp-content/uploads/2026/02/event-default-logo.png
END:VEVENT
BEGIN:VEVENT
DTSTART;TZID=America/New_York:20261122T110900
DTEND;TZID=America/New_York:20261122T121500
DTSTAMP:20260423T003933
CREATED:20260417T144050Z
LAST-MODIFIED:20260417T144050Z
UID:10005047-1795345740-1795349700@standrewbytheseaumc.org
SUMMARY:MODERN Worship
DESCRIPTION:Worship with us in the sanctuary as we gather for praise\, hear God’s Word\, respond to God’s Word\, and go forth to serve God’s world\, led by our pastors and our praise team on guitar and keyboard.
URL:https://standrewbytheseaumc.org/event/modern-worship-26-2-2-2-2/2026-11-22/
ATTACH;FMTTYPE=image/jpeg:/wp-content/uploads/2024/05/Modern-Worship-1000.jpg
END:VEVENT
BEGIN:VEVENT
DTSTART;TZID=America/New_York:20261123T073000
DTEND;TZID=America/New_York:20261123T083000
DTSTAMP:20260423T003933
CREATED:20240711T165450Z
LAST-MODIFIED:20240920T130237Z
UID:10006307-1795419000-1795422600@standrewbytheseaumc.org
SUMMARY:Day Starters AA Group
DESCRIPTION:
URL:https://standrewbytheseaumc.org/event/day-starters-aa-group-3-2/2026-11-23/
LOCATION:Celebration Center
ATTACH;FMTTYPE=image/jpeg:/wp-content/uploads/2024/06/Group_Meeting-1000.jpg
END:VEVENT
BEGIN:VEVENT
DTSTART;TZID=America/New_York:20261124T073000
DTEND;TZID=America/New_York:20261124T083000
DTSTAMP:20260423T003933
CREATED:20240711T165450Z
LAST-MODIFIED:20240920T130237Z
UID:10006308-1795505400-1795509000@standrewbytheseaumc.org
SUMMARY:Day Starters AA Group
DESCRIPTION:
URL:https://standrewbytheseaumc.org/event/day-starters-aa-group-3-2/2026-11-24/
LOCATION:Celebration Center
ATTACH;FMTTYPE=image/jpeg:/wp-content/uploads/2024/06/Group_Meeting-1000.jpg
END:VEVENT
BEGIN:VEVENT
DTSTART;TZID=America/New_York:20261124T083000
DTEND;TZID=America/New_York:20261124T110000
DTSTAMP:20260423T003933
CREATED:20240509T232637Z
LAST-MODIFIED:20250221T153539Z
UID:10014241-1795509000-1795518000@standrewbytheseaumc.org
SUMMARY:Soup Kitchen
DESCRIPTION:The Soup Kitchen is a weekly ministry that serves persons in need in our community by sharing the love of God\, and providing food for nourishment\, kindness\, and hope for the future. \nDoors open at 8:30 am\, hot meals served 9:30-10:30 am\, pantry at 10:30 am.
URL:https://standrewbytheseaumc.org/event/soup-kitchen-2/2026-11-24/
ATTACH;FMTTYPE=image/jpeg:/wp-content/uploads/2024/05/Soup-Kitchen-e1720639777791.jpg
END:VEVENT
BEGIN:VEVENT
DTSTART;TZID=America/New_York:20261124T100000
DTEND;TZID=America/New_York:20261124T110000
DTSTAMP:20260423T003933
CREATED:20241205T210503Z
LAST-MODIFIED:20260213T181308Z
UID:10004269-1795514400-1795518000@standrewbytheseaumc.org
SUMMARY:Fellowship Friends Weekly Zoom Chat
DESCRIPTION:
URL:https://standrewbytheseaumc.org/event/fellowship-friends-weekly-zoom-chat-21/2026-11-24/
ATTACH;FMTTYPE=image/png:/wp-content/uploads/2026/02/event-default-logo.png
END:VEVENT
BEGIN:VEVENT
DTSTART;TZID=America/New_York:20261124T120000
DTEND;TZID=America/New_York:20261124T130000
DTSTAMP:20260423T003933
CREATED:20240606T184706Z
LAST-MODIFIED:20260213T160259Z
UID:10018187-1795521600-1795525200@standrewbytheseaumc.org
SUMMARY:Staff Meeting
DESCRIPTION:
URL:https://standrewbytheseaumc.org/event/staff-meeting-24-2/2026-11-24/
ATTACH;FMTTYPE=image/png:/wp-content/uploads/2026/02/event-default-logo.png
END:VEVENT
BEGIN:VEVENT
DTSTART;TZID=America/New_York:20261124T130000
DTEND;TZID=America/New_York:20261124T140000
DTSTAMP:20260423T003933
CREATED:20260213T160643Z
LAST-MODIFIED:20260213T160643Z
UID:10018448-1795525200-1795528800@standrewbytheseaumc.org
SUMMARY:Devotions + Laughter Women's Bible Study
DESCRIPTION:
URL:https://standrewbytheseaumc.org/event/devotions-laughter-womens-bible-study/2026-11-24/
LOCATION:Admin. Bldg. Library
ATTACH;FMTTYPE=image/png:/wp-content/uploads/2026/02/event-default-logo.png
ORGANIZER;CN="Kerry Tilden":MAILTO:kerry@lovetheocean.com
END:VEVENT
BEGIN:VEVENT
DTSTART;TZID=America/New_York:20261124T140000
DTEND;TZID=America/New_York:20261124T150000
DTSTAMP:20260423T003933
CREATED:20250905T165318Z
LAST-MODIFIED:20250905T165318Z
UID:10017228-1795528800-1795532400@standrewbytheseaumc.org
SUMMARY:Seaside Bell Choir Rehearsal
DESCRIPTION:
URL:https://standrewbytheseaumc.org/event/seaside-bell-choir-rehearsal/2026-11-24/
ATTACH;FMTTYPE=image/png:/wp-content/uploads/2026/02/event-default-logo.png
END:VEVENT
BEGIN:VEVENT
DTSTART;TZID=America/New_York:20261124T183000
DTEND;TZID=America/New_York:20261124T203000
DTSTAMP:20260423T003933
CREATED:20240517T145923Z
LAST-MODIFIED:20260213T163944Z
UID:10004529-1795545000-1795552200@standrewbytheseaumc.org
SUMMARY:Men's open gym
DESCRIPTION:
URL:https://standrewbytheseaumc.org/event/mens-open-gym/2026-11-24/
ATTACH;FMTTYPE=image/png:/wp-content/uploads/2026/02/event-default-logo.png
END:VEVENT
BEGIN:VEVENT
DTSTART;TZID=America/New_York:20261125T073000
DTEND;TZID=America/New_York:20261125T083000
DTSTAMP:20260423T003933
CREATED:20240711T165450Z
LAST-MODIFIED:20240920T130237Z
UID:10006309-1795591800-1795595400@standrewbytheseaumc.org
SUMMARY:Day Starters AA Group
DESCRIPTION:
URL:https://standrewbytheseaumc.org/event/day-starters-aa-group-3-2/2026-11-25/
LOCATION:Celebration Center
ATTACH;FMTTYPE=image/jpeg:/wp-content/uploads/2024/06/Group_Meeting-1000.jpg
END:VEVENT
BEGIN:VEVENT
DTSTART;TZID=America/New_York:20261125T120000
DTEND;TZID=America/New_York:20261125T130000
DTSTAMP:20260423T003933
CREATED:20260213T165043Z
LAST-MODIFIED:20260213T165043Z
UID:10018885-1795608000-1795611600@standrewbytheseaumc.org
SUMMARY:Healing + Wholeness Service
DESCRIPTION:
URL:https://standrewbytheseaumc.org/event/healing-wholeness-service/2026-11-25/
ATTACH;FMTTYPE=image/jpeg:/wp-content/uploads/2025/07/Healing-and-Wholeness-full-image-with-content-2024.jpg
END:VEVENT
BEGIN:VEVENT
DTSTART;TZID=America/New_York:20261125T173000
DTEND;TZID=America/New_York:20261125T190000
DTSTAMP:20260423T003933
CREATED:20250508T182139Z
LAST-MODIFIED:20250919T152812Z
UID:10017158-1795627800-1795633200@standrewbytheseaumc.org
SUMMARY:Seaside Chancel Choir rehearsal
DESCRIPTION:
URL:https://standrewbytheseaumc.org/event/seaside-chancel-choir-rehearsal-2/2026-11-25/
LOCATION:Music Room
ATTACH;FMTTYPE=image/png:/wp-content/uploads/2026/02/event-default-logo.png
END:VEVENT
BEGIN:VEVENT
DTSTART;VALUE=DATE:20261126
DTEND;VALUE=DATE:20261128
DTSTAMP:20260423T003933
CREATED:20250508T182621Z
LAST-MODIFIED:20250508T182621Z
UID:10014863-1795651200-1795823999@standrewbytheseaumc.org
SUMMARY:Thanksgiving
DESCRIPTION:
URL:https://standrewbytheseaumc.org/event/thanksgiving/2026-11-26/
ATTACH;FMTTYPE=image/png:/wp-content/uploads/2026/02/event-default-logo.png
END:VEVENT
BEGIN:VEVENT
DTSTART;TZID=America/New_York:20261126T073000
DTEND;TZID=America/New_York:20261126T083000
DTSTAMP:20260423T003933
CREATED:20240711T165450Z
LAST-MODIFIED:20240920T130237Z
UID:10006310-1795678200-1795681800@standrewbytheseaumc.org
SUMMARY:Day Starters AA Group
DESCRIPTION:
URL:https://standrewbytheseaumc.org/event/day-starters-aa-group-3-2/2026-11-26/
LOCATION:Celebration Center
ATTACH;FMTTYPE=image/jpeg:/wp-content/uploads/2024/06/Group_Meeting-1000.jpg
END:VEVENT
BEGIN:VEVENT
DTSTART;TZID=America/New_York:20261126T080000
DTEND;TZID=America/New_York:20261126T090000
DTSTAMP:20260423T003933
CREATED:20240517T145923Z
LAST-MODIFIED:20251204T194950Z
UID:10004789-1795680000-1795683600@standrewbytheseaumc.org
SUMMARY:Men's Devotional Group
DESCRIPTION:
URL:https://standrewbytheseaumc.org/event/mens-devotional-group/2026-11-26/
ATTACH;FMTTYPE=image/png:/wp-content/uploads/2026/02/event-default-logo.png
END:VEVENT
BEGIN:VEVENT
DTSTART;TZID=America/New_York:20261127T073000
DTEND;TZID=America/New_York:20261127T083000
DTSTAMP:20260423T003933
CREATED:20240711T165450Z
LAST-MODIFIED:20240920T130237Z
UID:10006311-1795764600-1795768200@standrewbytheseaumc.org
SUMMARY:Day Starters AA Group
DESCRIPTION:
URL:https://standrewbytheseaumc.org/event/day-starters-aa-group-3-2/2026-11-27/
LOCATION:Celebration Center
ATTACH;FMTTYPE=image/jpeg:/wp-content/uploads/2024/06/Group_Meeting-1000.jpg
END:VEVENT
BEGIN:VEVENT
DTSTART;TZID=America/New_York:20261127T083000
DTEND;TZID=America/New_York:20261127T110000
DTSTAMP:20260423T003933
CREATED:20240509T232637Z
LAST-MODIFIED:20250221T153539Z
UID:10014242-1795768200-1795777200@standrewbytheseaumc.org
SUMMARY:Soup Kitchen
DESCRIPTION:The Soup Kitchen is a weekly ministry that serves persons in need in our community by sharing the love of God\, and providing food for nourishment\, kindness\, and hope for the future. \nDoors open at 8:30 am\, hot meals served 9:30-10:30 am\, pantry at 10:30 am.
URL:https://standrewbytheseaumc.org/event/soup-kitchen-2/2026-11-27/
ATTACH;FMTTYPE=image/jpeg:/wp-content/uploads/2024/05/Soup-Kitchen-e1720639777791.jpg
END:VEVENT
BEGIN:VEVENT
DTSTART;TZID=America/New_York:20261127T130000
DTEND;TZID=America/New_York:20261127T140000
DTSTAMP:20260423T003933
CREATED:20260213T161040Z
LAST-MODIFIED:20260213T161040Z
UID:10018547-1795784400-1795788000@standrewbytheseaumc.org
SUMMARY:Disciple Fast Track 3 Bible Study
DESCRIPTION:
URL:https://standrewbytheseaumc.org/event/disciple-fast-track-3-bible-study/2026-11-27/
LOCATION:Admin. Bldg. – Conference Room
ATTACH;FMTTYPE=image/png:/wp-content/uploads/2026/02/event-default-logo.png
ORGANIZER;CN="Kerry Tilden":MAILTO:kerry@lovetheocean.com
END:VEVENT
BEGIN:VEVENT
DTSTART;TZID=America/New_York:20261129T090000
DTEND;TZID=America/New_York:20261129T100000
DTSTAMP:20260423T003933
CREATED:20260417T143930Z
LAST-MODIFIED:20260417T143930Z
UID:10013795-1795942800-1795946400@standrewbytheseaumc.org
SUMMARY:TRADITIONAL Worship
DESCRIPTION:Worship with us in the sanctuary as we gather for praise\, hear God’s Word\, respond to God’s Word\, and go forth to serve God’s world\, led by our pastors and our chancel choir\, accompanied by organ and piano.
URL:https://standrewbytheseaumc.org/event/traditional-worship-2-2-2-2-2-2-2-2/2026-11-29/
ATTACH;FMTTYPE=image/png:/wp-content/uploads/2026/02/event-default-logo.png
END:VEVENT
BEGIN:VEVENT
DTSTART;TZID=America/New_York:20261129T101500
DTEND;TZID=America/New_York:20261129T110000
DTSTAMP:20260423T003933
CREATED:20260213T162730Z
LAST-MODIFIED:20260417T144429Z
UID:10018623-1795947300-1795950000@standrewbytheseaumc.org
SUMMARY:Adult Studies + Classes
DESCRIPTION:
URL:https://standrewbytheseaumc.org/event/adult-studies-classes/2026-11-29/
ATTACH;FMTTYPE=image/png:/wp-content/uploads/2026/02/event-default-logo.png
END:VEVENT
BEGIN:VEVENT
DTSTART;TZID=America/New_York:20261129T110900
DTEND;TZID=America/New_York:20261129T121500
DTSTAMP:20260423T003933
CREATED:20260417T144050Z
LAST-MODIFIED:20260417T144050Z
UID:10005048-1795950540-1795954500@standrewbytheseaumc.org
SUMMARY:MODERN Worship
DESCRIPTION:Worship with us in the sanctuary as we gather for praise\, hear God’s Word\, respond to God’s Word\, and go forth to serve God’s world\, led by our pastors and our praise team on guitar and keyboard.
URL:https://standrewbytheseaumc.org/event/modern-worship-26-2-2-2-2/2026-11-29/
ATTACH;FMTTYPE=image/jpeg:/wp-content/uploads/2024/05/Modern-Worship-1000.jpg
END:VEVENT
BEGIN:VEVENT
DTSTART;TZID=America/New_York:20261130T073000
DTEND;TZID=America/New_York:20261130T083000
DTSTAMP:20260423T003933
CREATED:20240711T165450Z
LAST-MODIFIED:20240920T130237Z
UID:10006314-1796023800-1796027400@standrewbytheseaumc.org
SUMMARY:Day Starters AA Group
DESCRIPTION:
URL:https://standrewbytheseaumc.org/event/day-starters-aa-group-3-2/2026-11-30/
LOCATION:Celebration Center
ATTACH;FMTTYPE=image/jpeg:/wp-content/uploads/2024/06/Group_Meeting-1000.jpg
END:VEVENT
END:VCALENDAR