BEGIN:VCALENDAR
VERSION:2.0
PRODID:-//St. Andrew By-The-Sea United Methodist Church - ECPv6.15.20//NONSGML v1.0//EN
CALSCALE:GREGORIAN
METHOD:PUBLISH
X-WR-CALNAME:St. Andrew By-The-Sea United Methodist Church
X-ORIGINAL-URL:https://standrewbytheseaumc.org
X-WR-CALDESC:Events for St. Andrew By-The-Sea United Methodist Church
REFRESH-INTERVAL;VALUE=DURATION:PT1H
X-Robots-Tag:noindex
X-PUBLISHED-TTL:PT1H
BEGIN:VTIMEZONE
TZID:America/New_York
BEGIN:DAYLIGHT
TZOFFSETFROM:-0500
TZOFFSETTO:-0400
TZNAME:EDT
DTSTART:20260308T070000
END:DAYLIGHT
BEGIN:STANDARD
TZOFFSETFROM:-0400
TZOFFSETTO:-0500
TZNAME:EST
DTSTART:20261101T060000
END:STANDARD
BEGIN:DAYLIGHT
TZOFFSETFROM:-0500
TZOFFSETTO:-0400
TZNAME:EDT
DTSTART:20270314T070000
END:DAYLIGHT
BEGIN:STANDARD
TZOFFSETFROM:-0400
TZOFFSETTO:-0500
TZNAME:EST
DTSTART:20271107T060000
END:STANDARD
BEGIN:DAYLIGHT
TZOFFSETFROM:-0500
TZOFFSETTO:-0400
TZNAME:EDT
DTSTART:20280312T070000
END:DAYLIGHT
BEGIN:STANDARD
TZOFFSETFROM:-0400
TZOFFSETTO:-0500
TZNAME:EST
DTSTART:20281105T060000
END:STANDARD
END:VTIMEZONE
BEGIN:VEVENT
DTSTART;TZID=America/New_York:20270301T073000
DTEND;TZID=America/New_York:20270301T083000
DTSTAMP:20260424T080912
CREATED:20240711T165450Z
LAST-MODIFIED:20240920T130237Z
UID:10006405-1803886200-1803889800@standrewbytheseaumc.org
SUMMARY:Day Starters AA Group
DESCRIPTION:
URL:https://standrewbytheseaumc.org/event/day-starters-aa-group-3-2/2027-03-01/
LOCATION:Celebration Center
ATTACH;FMTTYPE=image/jpeg:/wp-content/uploads/2024/06/Group_Meeting-1000.jpg
END:VEVENT
BEGIN:VEVENT
DTSTART;TZID=America/New_York:20270302T073000
DTEND;TZID=America/New_York:20270302T083000
DTSTAMP:20260424T080912
CREATED:20240711T165450Z
LAST-MODIFIED:20240920T130237Z
UID:10006406-1803972600-1803976200@standrewbytheseaumc.org
SUMMARY:Day Starters AA Group
DESCRIPTION:
URL:https://standrewbytheseaumc.org/event/day-starters-aa-group-3-2/2027-03-02/
LOCATION:Celebration Center
ATTACH;FMTTYPE=image/jpeg:/wp-content/uploads/2024/06/Group_Meeting-1000.jpg
END:VEVENT
BEGIN:VEVENT
DTSTART;TZID=America/New_York:20270302T083000
DTEND;TZID=America/New_York:20270302T110000
DTSTAMP:20260424T080912
CREATED:20240509T232637Z
LAST-MODIFIED:20250221T153539Z
UID:10014269-1803976200-1803985200@standrewbytheseaumc.org
SUMMARY:Soup Kitchen
DESCRIPTION:The Soup Kitchen is a weekly ministry that serves persons in need in our community by sharing the love of God\, and providing food for nourishment\, kindness\, and hope for the future. \nDoors open at 8:30 am\, hot meals served 9:30-10:30 am\, pantry at 10:30 am.
URL:https://standrewbytheseaumc.org/event/soup-kitchen-2/2027-03-02/
ATTACH;FMTTYPE=image/jpeg:/wp-content/uploads/2024/05/Soup-Kitchen-e1720639777791.jpg
END:VEVENT
BEGIN:VEVENT
DTSTART;TZID=America/New_York:20270302T100000
DTEND;TZID=America/New_York:20270302T110000
DTSTAMP:20260424T080912
CREATED:20241205T210503Z
LAST-MODIFIED:20260213T181308Z
UID:10004283-1803981600-1803985200@standrewbytheseaumc.org
SUMMARY:Fellowship Friends Weekly Zoom Chat
DESCRIPTION:
URL:https://standrewbytheseaumc.org/event/fellowship-friends-weekly-zoom-chat-21/2027-03-02/
ATTACH;FMTTYPE=image/png:/wp-content/uploads/2026/02/event-default-logo.png
END:VEVENT
BEGIN:VEVENT
DTSTART;TZID=America/New_York:20270302T120000
DTEND;TZID=America/New_York:20270302T130000
DTSTAMP:20260424T080912
CREATED:20240606T184706Z
LAST-MODIFIED:20260213T160259Z
UID:10018201-1803988800-1803992400@standrewbytheseaumc.org
SUMMARY:Staff Meeting
DESCRIPTION:
URL:https://standrewbytheseaumc.org/event/staff-meeting-24-2/2027-03-02/
ATTACH;FMTTYPE=image/png:/wp-content/uploads/2026/02/event-default-logo.png
END:VEVENT
BEGIN:VEVENT
DTSTART;TZID=America/New_York:20270302T130000
DTEND;TZID=America/New_York:20270302T140000
DTSTAMP:20260424T080912
CREATED:20260213T160643Z
LAST-MODIFIED:20260213T160643Z
UID:10018462-1803992400-1803996000@standrewbytheseaumc.org
SUMMARY:Devotions + Laughter Women's Bible Study
DESCRIPTION:
URL:https://standrewbytheseaumc.org/event/devotions-laughter-womens-bible-study/2027-03-02/
LOCATION:Admin. Bldg. Library
ATTACH;FMTTYPE=image/png:/wp-content/uploads/2026/02/event-default-logo.png
ORGANIZER;CN="Kerry Tilden":MAILTO:kerry@lovetheocean.com
END:VEVENT
BEGIN:VEVENT
DTSTART;TZID=America/New_York:20270302T140000
DTEND;TZID=America/New_York:20270302T150000
DTSTAMP:20260424T080912
CREATED:20250905T165318Z
LAST-MODIFIED:20250905T165318Z
UID:10017242-1803996000-1803999600@standrewbytheseaumc.org
SUMMARY:Seaside Bell Choir Rehearsal
DESCRIPTION:
URL:https://standrewbytheseaumc.org/event/seaside-bell-choir-rehearsal/2027-03-02/
ATTACH;FMTTYPE=image/png:/wp-content/uploads/2026/02/event-default-logo.png
END:VEVENT
BEGIN:VEVENT
DTSTART;TZID=America/New_York:20270302T183000
DTEND;TZID=America/New_York:20270302T203000
DTSTAMP:20260424T080912
CREATED:20240517T145923Z
LAST-MODIFIED:20260213T163944Z
UID:10004543-1804012200-1804019400@standrewbytheseaumc.org
SUMMARY:Men's open gym
DESCRIPTION:
URL:https://standrewbytheseaumc.org/event/mens-open-gym/2027-03-02/
ATTACH;FMTTYPE=image/png:/wp-content/uploads/2026/02/event-default-logo.png
END:VEVENT
BEGIN:VEVENT
DTSTART;TZID=America/New_York:20270303T073000
DTEND;TZID=America/New_York:20270303T083000
DTSTAMP:20260424T080912
CREATED:20240711T165450Z
LAST-MODIFIED:20240920T130237Z
UID:10006407-1804059000-1804062600@standrewbytheseaumc.org
SUMMARY:Day Starters AA Group
DESCRIPTION:
URL:https://standrewbytheseaumc.org/event/day-starters-aa-group-3-2/2027-03-03/
LOCATION:Celebration Center
ATTACH;FMTTYPE=image/jpeg:/wp-content/uploads/2024/06/Group_Meeting-1000.jpg
END:VEVENT
BEGIN:VEVENT
DTSTART;TZID=America/New_York:20270304T073000
DTEND;TZID=America/New_York:20270304T083000
DTSTAMP:20260424T080912
CREATED:20240711T165450Z
LAST-MODIFIED:20240920T130237Z
UID:10006408-1804145400-1804149000@standrewbytheseaumc.org
SUMMARY:Day Starters AA Group
DESCRIPTION:
URL:https://standrewbytheseaumc.org/event/day-starters-aa-group-3-2/2027-03-04/
LOCATION:Celebration Center
ATTACH;FMTTYPE=image/jpeg:/wp-content/uploads/2024/06/Group_Meeting-1000.jpg
END:VEVENT
BEGIN:VEVENT
DTSTART;TZID=America/New_York:20270304T080000
DTEND;TZID=America/New_York:20270304T090000
DTSTAMP:20260424T080912
CREATED:20240517T145923Z
LAST-MODIFIED:20251204T194950Z
UID:10004803-1804147200-1804150800@standrewbytheseaumc.org
SUMMARY:Men's Devotional Group
DESCRIPTION:
URL:https://standrewbytheseaumc.org/event/mens-devotional-group/2027-03-04/
ATTACH;FMTTYPE=image/png:/wp-content/uploads/2026/02/event-default-logo.png
END:VEVENT
BEGIN:VEVENT
DTSTART;TZID=America/New_York:20270305T073000
DTEND;TZID=America/New_York:20270305T083000
DTSTAMP:20260424T080912
CREATED:20240711T165450Z
LAST-MODIFIED:20240920T130237Z
UID:10006409-1804231800-1804235400@standrewbytheseaumc.org
SUMMARY:Day Starters AA Group
DESCRIPTION:
URL:https://standrewbytheseaumc.org/event/day-starters-aa-group-3-2/2027-03-05/
LOCATION:Celebration Center
ATTACH;FMTTYPE=image/jpeg:/wp-content/uploads/2024/06/Group_Meeting-1000.jpg
END:VEVENT
BEGIN:VEVENT
DTSTART;TZID=America/New_York:20270305T083000
DTEND;TZID=America/New_York:20270305T110000
DTSTAMP:20260424T080912
CREATED:20240509T232637Z
LAST-MODIFIED:20250221T153539Z
UID:10014270-1804235400-1804244400@standrewbytheseaumc.org
SUMMARY:Soup Kitchen
DESCRIPTION:The Soup Kitchen is a weekly ministry that serves persons in need in our community by sharing the love of God\, and providing food for nourishment\, kindness\, and hope for the future. \nDoors open at 8:30 am\, hot meals served 9:30-10:30 am\, pantry at 10:30 am.
URL:https://standrewbytheseaumc.org/event/soup-kitchen-2/2027-03-05/
ATTACH;FMTTYPE=image/jpeg:/wp-content/uploads/2024/05/Soup-Kitchen-e1720639777791.jpg
END:VEVENT
BEGIN:VEVENT
DTSTART;TZID=America/New_York:20270305T130000
DTEND;TZID=America/New_York:20270305T140000
DTSTAMP:20260424T080912
CREATED:20260213T161040Z
LAST-MODIFIED:20260213T161040Z
UID:10018561-1804251600-1804255200@standrewbytheseaumc.org
SUMMARY:Disciple Fast Track 3 Bible Study
DESCRIPTION:
URL:https://standrewbytheseaumc.org/event/disciple-fast-track-3-bible-study/2027-03-05/
LOCATION:Admin. Bldg. – Conference Room
ATTACH;FMTTYPE=image/png:/wp-content/uploads/2026/02/event-default-logo.png
ORGANIZER;CN="Kerry Tilden":MAILTO:kerry@lovetheocean.com
END:VEVENT
BEGIN:VEVENT
DTSTART;VALUE=DATE:20270307
DTEND;VALUE=DATE:20270308
DTSTAMP:20260424T080912
CREATED:20250508T180228Z
LAST-MODIFIED:20251204T193552Z
UID:10014743-1804377600-1804463999@standrewbytheseaumc.org
SUMMARY:Communion
DESCRIPTION:
URL:https://standrewbytheseaumc.org/event/communion-9/2027-03-07/
ATTACH;FMTTYPE=image/jpeg:/wp-content/uploads/2025/05/bread_and_cup_title_still_hd.jpg
END:VEVENT
BEGIN:VEVENT
DTSTART;TZID=America/New_York:20270307T090000
DTEND;TZID=America/New_York:20270307T100000
DTSTAMP:20260424T080912
CREATED:20260417T143930Z
LAST-MODIFIED:20260417T143930Z
UID:10013809-1804410000-1804413600@standrewbytheseaumc.org
SUMMARY:TRADITIONAL Worship
DESCRIPTION:Worship with us in the sanctuary as we gather for praise\, hear God’s Word\, respond to God’s Word\, and go forth to serve God’s world\, led by our pastors and our chancel choir\, accompanied by organ and piano.
URL:https://standrewbytheseaumc.org/event/traditional-worship-2-2-2-2-2-2-2-2/2027-03-07/
ATTACH;FMTTYPE=image/png:/wp-content/uploads/2026/02/event-default-logo.png
END:VEVENT
BEGIN:VEVENT
DTSTART;TZID=America/New_York:20270307T110900
DTEND;TZID=America/New_York:20270307T121500
DTSTAMP:20260424T080912
CREATED:20260417T144050Z
LAST-MODIFIED:20260417T144050Z
UID:10005062-1804417740-1804421700@standrewbytheseaumc.org
SUMMARY:MODERN Worship
DESCRIPTION:Worship with us in the sanctuary as we gather for praise\, hear God’s Word\, respond to God’s Word\, and go forth to serve God’s world\, led by our pastors and our praise team on guitar and keyboard.
URL:https://standrewbytheseaumc.org/event/modern-worship-26-2-2-2-2/2027-03-07/
ATTACH;FMTTYPE=image/jpeg:/wp-content/uploads/2024/05/Modern-Worship-1000.jpg
END:VEVENT
BEGIN:VEVENT
DTSTART;TZID=America/New_York:20270308T073000
DTEND;TZID=America/New_York:20270308T083000
DTSTAMP:20260424T080912
CREATED:20240711T165450Z
LAST-MODIFIED:20240920T130237Z
UID:10006412-1804491000-1804494600@standrewbytheseaumc.org
SUMMARY:Day Starters AA Group
DESCRIPTION:
URL:https://standrewbytheseaumc.org/event/day-starters-aa-group-3-2/2027-03-08/
LOCATION:Celebration Center
ATTACH;FMTTYPE=image/jpeg:/wp-content/uploads/2024/06/Group_Meeting-1000.jpg
END:VEVENT
BEGIN:VEVENT
DTSTART;TZID=America/New_York:20270308T190000
DTEND;TZID=America/New_York:20270308T210000
DTSTAMP:20260424T080912
CREATED:20240710T201412Z
LAST-MODIFIED:20240710T201721Z
UID:10007594-1804532400-1804539600@standrewbytheseaumc.org
SUMMARY:Masons
DESCRIPTION:
URL:https://standrewbytheseaumc.org/event/masons-2/2027-03-08/
LOCATION:Admin. Bldg.
ATTACH;FMTTYPE=image/png:/wp-content/uploads/2026/02/event-default-logo.png
END:VEVENT
BEGIN:VEVENT
DTSTART;TZID=America/New_York:20270309T073000
DTEND;TZID=America/New_York:20270309T083000
DTSTAMP:20260424T080912
CREATED:20240711T165450Z
LAST-MODIFIED:20240920T130237Z
UID:10006413-1804577400-1804581000@standrewbytheseaumc.org
SUMMARY:Day Starters AA Group
DESCRIPTION:
URL:https://standrewbytheseaumc.org/event/day-starters-aa-group-3-2/2027-03-09/
LOCATION:Celebration Center
ATTACH;FMTTYPE=image/jpeg:/wp-content/uploads/2024/06/Group_Meeting-1000.jpg
END:VEVENT
BEGIN:VEVENT
DTSTART;TZID=America/New_York:20270309T083000
DTEND;TZID=America/New_York:20270309T110000
DTSTAMP:20260424T080912
CREATED:20240509T232637Z
LAST-MODIFIED:20250221T153539Z
UID:10014271-1804581000-1804590000@standrewbytheseaumc.org
SUMMARY:Soup Kitchen
DESCRIPTION:The Soup Kitchen is a weekly ministry that serves persons in need in our community by sharing the love of God\, and providing food for nourishment\, kindness\, and hope for the future. \nDoors open at 8:30 am\, hot meals served 9:30-10:30 am\, pantry at 10:30 am.
URL:https://standrewbytheseaumc.org/event/soup-kitchen-2/2027-03-09/
ATTACH;FMTTYPE=image/jpeg:/wp-content/uploads/2024/05/Soup-Kitchen-e1720639777791.jpg
END:VEVENT
BEGIN:VEVENT
DTSTART;TZID=America/New_York:20270309T100000
DTEND;TZID=America/New_York:20270309T110000
DTSTAMP:20260424T080912
CREATED:20241205T210503Z
LAST-MODIFIED:20260213T181308Z
UID:10004284-1804586400-1804590000@standrewbytheseaumc.org
SUMMARY:Fellowship Friends Weekly Zoom Chat
DESCRIPTION:
URL:https://standrewbytheseaumc.org/event/fellowship-friends-weekly-zoom-chat-21/2027-03-09/
ATTACH;FMTTYPE=image/png:/wp-content/uploads/2026/02/event-default-logo.png
END:VEVENT
BEGIN:VEVENT
DTSTART;TZID=America/New_York:20270309T120000
DTEND;TZID=America/New_York:20270309T130000
DTSTAMP:20260424T080912
CREATED:20240606T184706Z
LAST-MODIFIED:20260213T160259Z
UID:10018202-1804593600-1804597200@standrewbytheseaumc.org
SUMMARY:Staff Meeting
DESCRIPTION:
URL:https://standrewbytheseaumc.org/event/staff-meeting-24-2/2027-03-09/
ATTACH;FMTTYPE=image/png:/wp-content/uploads/2026/02/event-default-logo.png
END:VEVENT
BEGIN:VEVENT
DTSTART;TZID=America/New_York:20270309T130000
DTEND;TZID=America/New_York:20270309T140000
DTSTAMP:20260424T080912
CREATED:20260213T160643Z
LAST-MODIFIED:20260213T160643Z
UID:10018463-1804597200-1804600800@standrewbytheseaumc.org
SUMMARY:Devotions + Laughter Women's Bible Study
DESCRIPTION:
URL:https://standrewbytheseaumc.org/event/devotions-laughter-womens-bible-study/2027-03-09/
LOCATION:Admin. Bldg. Library
ATTACH;FMTTYPE=image/png:/wp-content/uploads/2026/02/event-default-logo.png
ORGANIZER;CN="Kerry Tilden":MAILTO:kerry@lovetheocean.com
END:VEVENT
BEGIN:VEVENT
DTSTART;TZID=America/New_York:20270309T140000
DTEND;TZID=America/New_York:20270309T150000
DTSTAMP:20260424T080912
CREATED:20250905T165318Z
LAST-MODIFIED:20250905T165318Z
UID:10017243-1804600800-1804604400@standrewbytheseaumc.org
SUMMARY:Seaside Bell Choir Rehearsal
DESCRIPTION:
URL:https://standrewbytheseaumc.org/event/seaside-bell-choir-rehearsal/2027-03-09/
ATTACH;FMTTYPE=image/png:/wp-content/uploads/2026/02/event-default-logo.png
END:VEVENT
BEGIN:VEVENT
DTSTART;TZID=America/New_York:20270309T183000
DTEND;TZID=America/New_York:20270309T203000
DTSTAMP:20260424T080912
CREATED:20240517T145923Z
LAST-MODIFIED:20260213T163944Z
UID:10004544-1804617000-1804624200@standrewbytheseaumc.org
SUMMARY:Men's open gym
DESCRIPTION:
URL:https://standrewbytheseaumc.org/event/mens-open-gym/2027-03-09/
ATTACH;FMTTYPE=image/png:/wp-content/uploads/2026/02/event-default-logo.png
END:VEVENT
BEGIN:VEVENT
DTSTART;TZID=America/New_York:20270310T073000
DTEND;TZID=America/New_York:20270310T083000
DTSTAMP:20260424T080912
CREATED:20240711T165450Z
LAST-MODIFIED:20240920T130237Z
UID:10006414-1804663800-1804667400@standrewbytheseaumc.org
SUMMARY:Day Starters AA Group
DESCRIPTION:
URL:https://standrewbytheseaumc.org/event/day-starters-aa-group-3-2/2027-03-10/
LOCATION:Celebration Center
ATTACH;FMTTYPE=image/jpeg:/wp-content/uploads/2024/06/Group_Meeting-1000.jpg
END:VEVENT
BEGIN:VEVENT
DTSTART;TZID=America/New_York:20270311T073000
DTEND;TZID=America/New_York:20270311T083000
DTSTAMP:20260424T080912
CREATED:20240711T165450Z
LAST-MODIFIED:20240920T130237Z
UID:10006415-1804750200-1804753800@standrewbytheseaumc.org
SUMMARY:Day Starters AA Group
DESCRIPTION:
URL:https://standrewbytheseaumc.org/event/day-starters-aa-group-3-2/2027-03-11/
LOCATION:Celebration Center
ATTACH;FMTTYPE=image/jpeg:/wp-content/uploads/2024/06/Group_Meeting-1000.jpg
END:VEVENT
BEGIN:VEVENT
DTSTART;TZID=America/New_York:20270311T080000
DTEND;TZID=America/New_York:20270311T090000
DTSTAMP:20260424T080912
CREATED:20240517T145923Z
LAST-MODIFIED:20251204T194950Z
UID:10004804-1804752000-1804755600@standrewbytheseaumc.org
SUMMARY:Men's Devotional Group
DESCRIPTION:
URL:https://standrewbytheseaumc.org/event/mens-devotional-group/2027-03-11/
ATTACH;FMTTYPE=image/png:/wp-content/uploads/2026/02/event-default-logo.png
END:VEVENT
BEGIN:VEVENT
DTSTART;TZID=America/New_York:20270312T073000
DTEND;TZID=America/New_York:20270312T083000
DTSTAMP:20260424T080912
CREATED:20240711T165450Z
LAST-MODIFIED:20240920T130237Z
UID:10006416-1804836600-1804840200@standrewbytheseaumc.org
SUMMARY:Day Starters AA Group
DESCRIPTION:
URL:https://standrewbytheseaumc.org/event/day-starters-aa-group-3-2/2027-03-12/
LOCATION:Celebration Center
ATTACH;FMTTYPE=image/jpeg:/wp-content/uploads/2024/06/Group_Meeting-1000.jpg
END:VEVENT
END:VCALENDAR