BEGIN:VCALENDAR
VERSION:2.0
PRODID:-//St. Andrew By-The-Sea United Methodist Church - ECPv6.15.20//NONSGML v1.0//EN
CALSCALE:GREGORIAN
METHOD:PUBLISH
X-ORIGINAL-URL:https://standrewbytheseaumc.org
X-WR-CALDESC:Events for St. Andrew By-The-Sea United Methodist Church
REFRESH-INTERVAL;VALUE=DURATION:PT1H
X-Robots-Tag:noindex
X-PUBLISHED-TTL:PT1H
BEGIN:VTIMEZONE
TZID:America/New_York
BEGIN:DAYLIGHT
TZOFFSETFROM:-0500
TZOFFSETTO:-0400
TZNAME:EDT
DTSTART:20260308T070000
END:DAYLIGHT
BEGIN:STANDARD
TZOFFSETFROM:-0400
TZOFFSETTO:-0500
TZNAME:EST
DTSTART:20261101T060000
END:STANDARD
BEGIN:DAYLIGHT
TZOFFSETFROM:-0500
TZOFFSETTO:-0400
TZNAME:EDT
DTSTART:20270314T070000
END:DAYLIGHT
BEGIN:STANDARD
TZOFFSETFROM:-0400
TZOFFSETTO:-0500
TZNAME:EST
DTSTART:20271107T060000
END:STANDARD
BEGIN:DAYLIGHT
TZOFFSETFROM:-0500
TZOFFSETTO:-0400
TZNAME:EDT
DTSTART:20280312T070000
END:DAYLIGHT
BEGIN:STANDARD
TZOFFSETFROM:-0400
TZOFFSETTO:-0500
TZNAME:EST
DTSTART:20281105T060000
END:STANDARD
END:VTIMEZONE
BEGIN:VEVENT
DTSTART;TZID=America/New_York:20270506T080000
DTEND;TZID=America/New_York:20270506T090000
DTSTAMP:20260425T073313
CREATED:20240517T145923Z
LAST-MODIFIED:20251204T194950Z
UID:10004812-1809590400-1809594000@standrewbytheseaumc.org
SUMMARY:Men's Devotional Group
DESCRIPTION:
URL:https://standrewbytheseaumc.org/event/mens-devotional-group/2027-05-06/
ATTACH;FMTTYPE=image/png:/wp-content/uploads/2026/02/event-default-logo.png
END:VEVENT
BEGIN:VEVENT
DTSTART;TZID=America/New_York:20270507T073000
DTEND;TZID=America/New_York:20270507T083000
DTSTAMP:20260425T073313
CREATED:20240711T165450Z
LAST-MODIFIED:20240920T130237Z
UID:10006472-1809675000-1809678600@standrewbytheseaumc.org
SUMMARY:Day Starters AA Group
DESCRIPTION:
URL:https://standrewbytheseaumc.org/event/day-starters-aa-group-3-2/2027-05-07/
LOCATION:Celebration Center
ATTACH;FMTTYPE=image/jpeg:/wp-content/uploads/2024/06/Group_Meeting-1000.jpg
END:VEVENT
BEGIN:VEVENT
DTSTART;TZID=America/New_York:20270507T083000
DTEND;TZID=America/New_York:20270507T110000
DTSTAMP:20260425T073313
CREATED:20240509T232637Z
LAST-MODIFIED:20250221T153539Z
UID:10014288-1809678600-1809687600@standrewbytheseaumc.org
SUMMARY:Soup Kitchen
DESCRIPTION:The Soup Kitchen is a weekly ministry that serves persons in need in our community by sharing the love of God\, and providing food for nourishment\, kindness\, and hope for the future. \nDoors open at 8:30 am\, hot meals served 9:30-10:30 am\, pantry at 10:30 am.
URL:https://standrewbytheseaumc.org/event/soup-kitchen-2/2027-05-07/
ATTACH;FMTTYPE=image/jpeg:/wp-content/uploads/2024/05/Soup-Kitchen-e1720639777791.jpg
END:VEVENT
BEGIN:VEVENT
DTSTART;TZID=America/New_York:20270509T090000
DTEND;TZID=America/New_York:20270509T100000
DTSTAMP:20260425T073313
CREATED:20260417T143930Z
LAST-MODIFIED:20260417T143930Z
UID:10013818-1809853200-1809856800@standrewbytheseaumc.org
SUMMARY:TRADITIONAL Worship
DESCRIPTION:Worship with us in the sanctuary as we gather for praise\, hear God’s Word\, respond to God’s Word\, and go forth to serve God’s world\, led by our pastors and our chancel choir\, accompanied by organ and piano.
URL:https://standrewbytheseaumc.org/event/traditional-worship-2-2-2-2-2-2-2-2/2027-05-09/
ATTACH;FMTTYPE=image/png:/wp-content/uploads/2026/02/event-default-logo.png
END:VEVENT
BEGIN:VEVENT
DTSTART;TZID=America/New_York:20270509T110900
DTEND;TZID=America/New_York:20270509T121500
DTSTAMP:20260425T073313
CREATED:20260417T144050Z
LAST-MODIFIED:20260417T144050Z
UID:10005071-1809860940-1809864900@standrewbytheseaumc.org
SUMMARY:MODERN Worship
DESCRIPTION:Worship with us in the sanctuary as we gather for praise\, hear God’s Word\, respond to God’s Word\, and go forth to serve God’s world\, led by our pastors and our praise team on guitar and keyboard.
URL:https://standrewbytheseaumc.org/event/modern-worship-26-2-2-2-2/2027-05-09/
ATTACH;FMTTYPE=image/jpeg:/wp-content/uploads/2024/05/Modern-Worship-1000.jpg
END:VEVENT
BEGIN:VEVENT
DTSTART;TZID=America/New_York:20270510T073000
DTEND;TZID=America/New_York:20270510T083000
DTSTAMP:20260425T073313
CREATED:20240711T165450Z
LAST-MODIFIED:20240920T130237Z
UID:10006475-1809934200-1809937800@standrewbytheseaumc.org
SUMMARY:Day Starters AA Group
DESCRIPTION:
URL:https://standrewbytheseaumc.org/event/day-starters-aa-group-3-2/2027-05-10/
LOCATION:Celebration Center
ATTACH;FMTTYPE=image/jpeg:/wp-content/uploads/2024/06/Group_Meeting-1000.jpg
END:VEVENT
BEGIN:VEVENT
DTSTART;TZID=America/New_York:20270510T190000
DTEND;TZID=America/New_York:20270510T210000
DTSTAMP:20260425T073313
CREATED:20240710T201412Z
LAST-MODIFIED:20240710T201721Z
UID:10007596-1809975600-1809982800@standrewbytheseaumc.org
SUMMARY:Masons
DESCRIPTION:
URL:https://standrewbytheseaumc.org/event/masons-2/2027-05-10/
LOCATION:Admin. Bldg.
ATTACH;FMTTYPE=image/png:/wp-content/uploads/2026/02/event-default-logo.png
END:VEVENT
BEGIN:VEVENT
DTSTART;TZID=America/New_York:20270511T073000
DTEND;TZID=America/New_York:20270511T083000
DTSTAMP:20260425T073313
CREATED:20240711T165450Z
LAST-MODIFIED:20240920T130237Z
UID:10006476-1810020600-1810024200@standrewbytheseaumc.org
SUMMARY:Day Starters AA Group
DESCRIPTION:
URL:https://standrewbytheseaumc.org/event/day-starters-aa-group-3-2/2027-05-11/
LOCATION:Celebration Center
ATTACH;FMTTYPE=image/jpeg:/wp-content/uploads/2024/06/Group_Meeting-1000.jpg
END:VEVENT
BEGIN:VEVENT
DTSTART;TZID=America/New_York:20270511T083000
DTEND;TZID=America/New_York:20270511T110000
DTSTAMP:20260425T073313
CREATED:20240509T232637Z
LAST-MODIFIED:20250221T153539Z
UID:10014289-1810024200-1810033200@standrewbytheseaumc.org
SUMMARY:Soup Kitchen
DESCRIPTION:The Soup Kitchen is a weekly ministry that serves persons in need in our community by sharing the love of God\, and providing food for nourishment\, kindness\, and hope for the future. \nDoors open at 8:30 am\, hot meals served 9:30-10:30 am\, pantry at 10:30 am.
URL:https://standrewbytheseaumc.org/event/soup-kitchen-2/2027-05-11/
ATTACH;FMTTYPE=image/jpeg:/wp-content/uploads/2024/05/Soup-Kitchen-e1720639777791.jpg
END:VEVENT
BEGIN:VEVENT
DTSTART;TZID=America/New_York:20270511T100000
DTEND;TZID=America/New_York:20270511T110000
DTSTAMP:20260425T073313
CREATED:20241205T210503Z
LAST-MODIFIED:20260213T181308Z
UID:10004293-1810029600-1810033200@standrewbytheseaumc.org
SUMMARY:Fellowship Friends Weekly Zoom Chat
DESCRIPTION:
URL:https://standrewbytheseaumc.org/event/fellowship-friends-weekly-zoom-chat-21/2027-05-11/
ATTACH;FMTTYPE=image/png:/wp-content/uploads/2026/02/event-default-logo.png
END:VEVENT
BEGIN:VEVENT
DTSTART;TZID=America/New_York:20270511T120000
DTEND;TZID=America/New_York:20270511T130000
DTSTAMP:20260425T073313
CREATED:20240606T184706Z
LAST-MODIFIED:20260213T160259Z
UID:10018211-1810036800-1810040400@standrewbytheseaumc.org
SUMMARY:Staff Meeting
DESCRIPTION:
URL:https://standrewbytheseaumc.org/event/staff-meeting-24-2/2027-05-11/
ATTACH;FMTTYPE=image/png:/wp-content/uploads/2026/02/event-default-logo.png
END:VEVENT
BEGIN:VEVENT
DTSTART;TZID=America/New_York:20270511T130000
DTEND;TZID=America/New_York:20270511T140000
DTSTAMP:20260425T073313
CREATED:20260213T160643Z
LAST-MODIFIED:20260213T160643Z
UID:10018472-1810040400-1810044000@standrewbytheseaumc.org
SUMMARY:Devotions + Laughter Women's Bible Study
DESCRIPTION:
URL:https://standrewbytheseaumc.org/event/devotions-laughter-womens-bible-study/2027-05-11/
LOCATION:Admin. Bldg. Library
ATTACH;FMTTYPE=image/png:/wp-content/uploads/2026/02/event-default-logo.png
ORGANIZER;CN="Kerry Tilden":MAILTO:kerry@lovetheocean.com
END:VEVENT
BEGIN:VEVENT
DTSTART;TZID=America/New_York:20270511T140000
DTEND;TZID=America/New_York:20270511T150000
DTSTAMP:20260425T073313
CREATED:20250905T165318Z
LAST-MODIFIED:20250905T165318Z
UID:10017252-1810044000-1810047600@standrewbytheseaumc.org
SUMMARY:Seaside Bell Choir Rehearsal
DESCRIPTION:
URL:https://standrewbytheseaumc.org/event/seaside-bell-choir-rehearsal/2027-05-11/
ATTACH;FMTTYPE=image/png:/wp-content/uploads/2026/02/event-default-logo.png
END:VEVENT
BEGIN:VEVENT
DTSTART;TZID=America/New_York:20270511T183000
DTEND;TZID=America/New_York:20270511T203000
DTSTAMP:20260425T073313
CREATED:20240517T145923Z
LAST-MODIFIED:20260213T163944Z
UID:10004553-1810060200-1810067400@standrewbytheseaumc.org
SUMMARY:Men's open gym
DESCRIPTION:
URL:https://standrewbytheseaumc.org/event/mens-open-gym/2027-05-11/
ATTACH;FMTTYPE=image/png:/wp-content/uploads/2026/02/event-default-logo.png
END:VEVENT
BEGIN:VEVENT
DTSTART;TZID=America/New_York:20270512T073000
DTEND;TZID=America/New_York:20270512T083000
DTSTAMP:20260425T073313
CREATED:20240711T165450Z
LAST-MODIFIED:20240920T130237Z
UID:10006477-1810107000-1810110600@standrewbytheseaumc.org
SUMMARY:Day Starters AA Group
DESCRIPTION:
URL:https://standrewbytheseaumc.org/event/day-starters-aa-group-3-2/2027-05-12/
LOCATION:Celebration Center
ATTACH;FMTTYPE=image/jpeg:/wp-content/uploads/2024/06/Group_Meeting-1000.jpg
END:VEVENT
BEGIN:VEVENT
DTSTART;TZID=America/New_York:20270513T073000
DTEND;TZID=America/New_York:20270513T083000
DTSTAMP:20260425T073313
CREATED:20240711T165450Z
LAST-MODIFIED:20240920T130237Z
UID:10006478-1810193400-1810197000@standrewbytheseaumc.org
SUMMARY:Day Starters AA Group
DESCRIPTION:
URL:https://standrewbytheseaumc.org/event/day-starters-aa-group-3-2/2027-05-13/
LOCATION:Celebration Center
ATTACH;FMTTYPE=image/jpeg:/wp-content/uploads/2024/06/Group_Meeting-1000.jpg
END:VEVENT
BEGIN:VEVENT
DTSTART;TZID=America/New_York:20270513T080000
DTEND;TZID=America/New_York:20270513T090000
DTSTAMP:20260425T073313
CREATED:20240517T145923Z
LAST-MODIFIED:20251204T194950Z
UID:10004813-1810195200-1810198800@standrewbytheseaumc.org
SUMMARY:Men's Devotional Group
DESCRIPTION:
URL:https://standrewbytheseaumc.org/event/mens-devotional-group/2027-05-13/
ATTACH;FMTTYPE=image/png:/wp-content/uploads/2026/02/event-default-logo.png
END:VEVENT
BEGIN:VEVENT
DTSTART;TZID=America/New_York:20270514T073000
DTEND;TZID=America/New_York:20270514T083000
DTSTAMP:20260425T073313
CREATED:20240711T165450Z
LAST-MODIFIED:20240920T130237Z
UID:10006479-1810279800-1810283400@standrewbytheseaumc.org
SUMMARY:Day Starters AA Group
DESCRIPTION:
URL:https://standrewbytheseaumc.org/event/day-starters-aa-group-3-2/2027-05-14/
LOCATION:Celebration Center
ATTACH;FMTTYPE=image/jpeg:/wp-content/uploads/2024/06/Group_Meeting-1000.jpg
END:VEVENT
BEGIN:VEVENT
DTSTART;TZID=America/New_York:20270514T083000
DTEND;TZID=America/New_York:20270514T110000
DTSTAMP:20260425T073313
CREATED:20240509T232637Z
LAST-MODIFIED:20250221T153539Z
UID:10014290-1810283400-1810292400@standrewbytheseaumc.org
SUMMARY:Soup Kitchen
DESCRIPTION:The Soup Kitchen is a weekly ministry that serves persons in need in our community by sharing the love of God\, and providing food for nourishment\, kindness\, and hope for the future. \nDoors open at 8:30 am\, hot meals served 9:30-10:30 am\, pantry at 10:30 am.
URL:https://standrewbytheseaumc.org/event/soup-kitchen-2/2027-05-14/
ATTACH;FMTTYPE=image/jpeg:/wp-content/uploads/2024/05/Soup-Kitchen-e1720639777791.jpg
END:VEVENT
BEGIN:VEVENT
DTSTART;TZID=America/New_York:20270516T090000
DTEND;TZID=America/New_York:20270516T100000
DTSTAMP:20260425T073313
CREATED:20260417T143930Z
LAST-MODIFIED:20260417T143930Z
UID:10013819-1810458000-1810461600@standrewbytheseaumc.org
SUMMARY:TRADITIONAL Worship
DESCRIPTION:Worship with us in the sanctuary as we gather for praise\, hear God’s Word\, respond to God’s Word\, and go forth to serve God’s world\, led by our pastors and our chancel choir\, accompanied by organ and piano.
URL:https://standrewbytheseaumc.org/event/traditional-worship-2-2-2-2-2-2-2-2/2027-05-16/
ATTACH;FMTTYPE=image/png:/wp-content/uploads/2026/02/event-default-logo.png
END:VEVENT
BEGIN:VEVENT
DTSTART;TZID=America/New_York:20270516T110900
DTEND;TZID=America/New_York:20270516T121500
DTSTAMP:20260425T073313
CREATED:20260417T144050Z
LAST-MODIFIED:20260417T144050Z
UID:10005072-1810465740-1810469700@standrewbytheseaumc.org
SUMMARY:MODERN Worship
DESCRIPTION:Worship with us in the sanctuary as we gather for praise\, hear God’s Word\, respond to God’s Word\, and go forth to serve God’s world\, led by our pastors and our praise team on guitar and keyboard.
URL:https://standrewbytheseaumc.org/event/modern-worship-26-2-2-2-2/2027-05-16/
ATTACH;FMTTYPE=image/jpeg:/wp-content/uploads/2024/05/Modern-Worship-1000.jpg
END:VEVENT
BEGIN:VEVENT
DTSTART;TZID=America/New_York:20270517T073000
DTEND;TZID=America/New_York:20270517T083000
DTSTAMP:20260425T073313
CREATED:20240711T165450Z
LAST-MODIFIED:20240920T130237Z
UID:10006482-1810539000-1810542600@standrewbytheseaumc.org
SUMMARY:Day Starters AA Group
DESCRIPTION:
URL:https://standrewbytheseaumc.org/event/day-starters-aa-group-3-2/2027-05-17/
LOCATION:Celebration Center
ATTACH;FMTTYPE=image/jpeg:/wp-content/uploads/2024/06/Group_Meeting-1000.jpg
END:VEVENT
BEGIN:VEVENT
DTSTART;TZID=America/New_York:20270518T073000
DTEND;TZID=America/New_York:20270518T083000
DTSTAMP:20260425T073313
CREATED:20240711T165450Z
LAST-MODIFIED:20240920T130237Z
UID:10006483-1810625400-1810629000@standrewbytheseaumc.org
SUMMARY:Day Starters AA Group
DESCRIPTION:
URL:https://standrewbytheseaumc.org/event/day-starters-aa-group-3-2/2027-05-18/
LOCATION:Celebration Center
ATTACH;FMTTYPE=image/jpeg:/wp-content/uploads/2024/06/Group_Meeting-1000.jpg
END:VEVENT
BEGIN:VEVENT
DTSTART;TZID=America/New_York:20270518T083000
DTEND;TZID=America/New_York:20270518T110000
DTSTAMP:20260425T073313
CREATED:20240509T232637Z
LAST-MODIFIED:20250221T153539Z
UID:10014291-1810629000-1810638000@standrewbytheseaumc.org
SUMMARY:Soup Kitchen
DESCRIPTION:The Soup Kitchen is a weekly ministry that serves persons in need in our community by sharing the love of God\, and providing food for nourishment\, kindness\, and hope for the future. \nDoors open at 8:30 am\, hot meals served 9:30-10:30 am\, pantry at 10:30 am.
URL:https://standrewbytheseaumc.org/event/soup-kitchen-2/2027-05-18/
ATTACH;FMTTYPE=image/jpeg:/wp-content/uploads/2024/05/Soup-Kitchen-e1720639777791.jpg
END:VEVENT
BEGIN:VEVENT
DTSTART;TZID=America/New_York:20270518T100000
DTEND;TZID=America/New_York:20270518T110000
DTSTAMP:20260425T073313
CREATED:20241205T210503Z
LAST-MODIFIED:20260213T181308Z
UID:10004294-1810634400-1810638000@standrewbytheseaumc.org
SUMMARY:Fellowship Friends Weekly Zoom Chat
DESCRIPTION:
URL:https://standrewbytheseaumc.org/event/fellowship-friends-weekly-zoom-chat-21/2027-05-18/
ATTACH;FMTTYPE=image/png:/wp-content/uploads/2026/02/event-default-logo.png
END:VEVENT
BEGIN:VEVENT
DTSTART;TZID=America/New_York:20270518T120000
DTEND;TZID=America/New_York:20270518T130000
DTSTAMP:20260425T073313
CREATED:20240606T184706Z
LAST-MODIFIED:20260213T160259Z
UID:10018212-1810641600-1810645200@standrewbytheseaumc.org
SUMMARY:Staff Meeting
DESCRIPTION:
URL:https://standrewbytheseaumc.org/event/staff-meeting-24-2/2027-05-18/
ATTACH;FMTTYPE=image/png:/wp-content/uploads/2026/02/event-default-logo.png
END:VEVENT
BEGIN:VEVENT
DTSTART;TZID=America/New_York:20270518T130000
DTEND;TZID=America/New_York:20270518T140000
DTSTAMP:20260425T073313
CREATED:20260213T160643Z
LAST-MODIFIED:20260213T160643Z
UID:10018473-1810645200-1810648800@standrewbytheseaumc.org
SUMMARY:Devotions + Laughter Women's Bible Study
DESCRIPTION:
URL:https://standrewbytheseaumc.org/event/devotions-laughter-womens-bible-study/2027-05-18/
LOCATION:Admin. Bldg. Library
ATTACH;FMTTYPE=image/png:/wp-content/uploads/2026/02/event-default-logo.png
ORGANIZER;CN="Kerry Tilden":MAILTO:kerry@lovetheocean.com
END:VEVENT
BEGIN:VEVENT
DTSTART;TZID=America/New_York:20270518T140000
DTEND;TZID=America/New_York:20270518T150000
DTSTAMP:20260425T073313
CREATED:20250905T165318Z
LAST-MODIFIED:20250905T165318Z
UID:10017253-1810648800-1810652400@standrewbytheseaumc.org
SUMMARY:Seaside Bell Choir Rehearsal
DESCRIPTION:
URL:https://standrewbytheseaumc.org/event/seaside-bell-choir-rehearsal/2027-05-18/
ATTACH;FMTTYPE=image/png:/wp-content/uploads/2026/02/event-default-logo.png
END:VEVENT
BEGIN:VEVENT
DTSTART;TZID=America/New_York:20270518T183000
DTEND;TZID=America/New_York:20270518T203000
DTSTAMP:20260425T073313
CREATED:20240517T145923Z
LAST-MODIFIED:20260213T163944Z
UID:10004554-1810665000-1810672200@standrewbytheseaumc.org
SUMMARY:Men's open gym
DESCRIPTION:
URL:https://standrewbytheseaumc.org/event/mens-open-gym/2027-05-18/
ATTACH;FMTTYPE=image/png:/wp-content/uploads/2026/02/event-default-logo.png
END:VEVENT
BEGIN:VEVENT
DTSTART;TZID=America/New_York:20270519T073000
DTEND;TZID=America/New_York:20270519T083000
DTSTAMP:20260425T073313
CREATED:20240711T165450Z
LAST-MODIFIED:20240920T130237Z
UID:10006484-1810711800-1810715400@standrewbytheseaumc.org
SUMMARY:Day Starters AA Group
DESCRIPTION:
URL:https://standrewbytheseaumc.org/event/day-starters-aa-group-3-2/2027-05-19/
LOCATION:Celebration Center
ATTACH;FMTTYPE=image/jpeg:/wp-content/uploads/2024/06/Group_Meeting-1000.jpg
END:VEVENT
END:VCALENDAR