BEGIN:VCALENDAR
VERSION:2.0
PRODID:-//St. Andrew By-The-Sea United Methodist Church - ECPv6.15.20//NONSGML v1.0//EN
CALSCALE:GREGORIAN
METHOD:PUBLISH
X-ORIGINAL-URL:https://standrewbytheseaumc.org
X-WR-CALDESC:Events for St. Andrew By-The-Sea United Methodist Church
REFRESH-INTERVAL;VALUE=DURATION:PT1H
X-Robots-Tag:noindex
X-PUBLISHED-TTL:PT1H
BEGIN:VTIMEZONE
TZID:America/New_York
BEGIN:DAYLIGHT
TZOFFSETFROM:-0500
TZOFFSETTO:-0400
TZNAME:EDT
DTSTART:20260308T070000
END:DAYLIGHT
BEGIN:STANDARD
TZOFFSETFROM:-0400
TZOFFSETTO:-0500
TZNAME:EST
DTSTART:20261101T060000
END:STANDARD
BEGIN:DAYLIGHT
TZOFFSETFROM:-0500
TZOFFSETTO:-0400
TZNAME:EDT
DTSTART:20270314T070000
END:DAYLIGHT
BEGIN:STANDARD
TZOFFSETFROM:-0400
TZOFFSETTO:-0500
TZNAME:EST
DTSTART:20271107T060000
END:STANDARD
BEGIN:DAYLIGHT
TZOFFSETFROM:-0500
TZOFFSETTO:-0400
TZNAME:EDT
DTSTART:20280312T070000
END:DAYLIGHT
BEGIN:STANDARD
TZOFFSETFROM:-0400
TZOFFSETTO:-0500
TZNAME:EST
DTSTART:20281105T060000
END:STANDARD
END:VTIMEZONE
BEGIN:VEVENT
DTSTART;TZID=America/New_York:20270524T073000
DTEND;TZID=America/New_York:20270524T083000
DTSTAMP:20260425T121226
CREATED:20240711T165450Z
LAST-MODIFIED:20240920T130237Z
UID:10006489-1811143800-1811147400@standrewbytheseaumc.org
SUMMARY:Day Starters AA Group
DESCRIPTION:
URL:https://standrewbytheseaumc.org/event/day-starters-aa-group-3-2/2027-05-24/
LOCATION:Celebration Center
ATTACH;FMTTYPE=image/jpeg:/wp-content/uploads/2024/06/Group_Meeting-1000.jpg
END:VEVENT
BEGIN:VEVENT
DTSTART;TZID=America/New_York:20270525T073000
DTEND;TZID=America/New_York:20270525T083000
DTSTAMP:20260425T121226
CREATED:20240711T165450Z
LAST-MODIFIED:20240920T130237Z
UID:10006490-1811230200-1811233800@standrewbytheseaumc.org
SUMMARY:Day Starters AA Group
DESCRIPTION:
URL:https://standrewbytheseaumc.org/event/day-starters-aa-group-3-2/2027-05-25/
LOCATION:Celebration Center
ATTACH;FMTTYPE=image/jpeg:/wp-content/uploads/2024/06/Group_Meeting-1000.jpg
END:VEVENT
BEGIN:VEVENT
DTSTART;TZID=America/New_York:20270525T083000
DTEND;TZID=America/New_York:20270525T110000
DTSTAMP:20260425T121226
CREATED:20240509T232637Z
LAST-MODIFIED:20250221T153539Z
UID:10014293-1811233800-1811242800@standrewbytheseaumc.org
SUMMARY:Soup Kitchen
DESCRIPTION:The Soup Kitchen is a weekly ministry that serves persons in need in our community by sharing the love of God\, and providing food for nourishment\, kindness\, and hope for the future. \nDoors open at 8:30 am\, hot meals served 9:30-10:30 am\, pantry at 10:30 am.
URL:https://standrewbytheseaumc.org/event/soup-kitchen-2/2027-05-25/
ATTACH;FMTTYPE=image/jpeg:/wp-content/uploads/2024/05/Soup-Kitchen-e1720639777791.jpg
END:VEVENT
BEGIN:VEVENT
DTSTART;TZID=America/New_York:20270525T100000
DTEND;TZID=America/New_York:20270525T110000
DTSTAMP:20260425T121226
CREATED:20241205T210503Z
LAST-MODIFIED:20260213T181308Z
UID:10004295-1811239200-1811242800@standrewbytheseaumc.org
SUMMARY:Fellowship Friends Weekly Zoom Chat
DESCRIPTION:
URL:https://standrewbytheseaumc.org/event/fellowship-friends-weekly-zoom-chat-21/2027-05-25/
ATTACH;FMTTYPE=image/png:/wp-content/uploads/2026/02/event-default-logo.png
END:VEVENT
BEGIN:VEVENT
DTSTART;TZID=America/New_York:20270525T120000
DTEND;TZID=America/New_York:20270525T130000
DTSTAMP:20260425T121226
CREATED:20240606T184706Z
LAST-MODIFIED:20260213T160259Z
UID:10018213-1811246400-1811250000@standrewbytheseaumc.org
SUMMARY:Staff Meeting
DESCRIPTION:
URL:https://standrewbytheseaumc.org/event/staff-meeting-24-2/2027-05-25/
ATTACH;FMTTYPE=image/png:/wp-content/uploads/2026/02/event-default-logo.png
END:VEVENT
BEGIN:VEVENT
DTSTART;TZID=America/New_York:20270525T130000
DTEND;TZID=America/New_York:20270525T140000
DTSTAMP:20260425T121226
CREATED:20260213T160643Z
LAST-MODIFIED:20260213T160643Z
UID:10018474-1811250000-1811253600@standrewbytheseaumc.org
SUMMARY:Devotions + Laughter Women's Bible Study
DESCRIPTION:
URL:https://standrewbytheseaumc.org/event/devotions-laughter-womens-bible-study/2027-05-25/
LOCATION:Admin. Bldg. Library
ATTACH;FMTTYPE=image/png:/wp-content/uploads/2026/02/event-default-logo.png
ORGANIZER;CN="Kerry Tilden":MAILTO:kerry@lovetheocean.com
END:VEVENT
BEGIN:VEVENT
DTSTART;TZID=America/New_York:20270525T140000
DTEND;TZID=America/New_York:20270525T150000
DTSTAMP:20260425T121226
CREATED:20250905T165318Z
LAST-MODIFIED:20250905T165318Z
UID:10017254-1811253600-1811257200@standrewbytheseaumc.org
SUMMARY:Seaside Bell Choir Rehearsal
DESCRIPTION:
URL:https://standrewbytheseaumc.org/event/seaside-bell-choir-rehearsal/2027-05-25/
ATTACH;FMTTYPE=image/png:/wp-content/uploads/2026/02/event-default-logo.png
END:VEVENT
BEGIN:VEVENT
DTSTART;TZID=America/New_York:20270525T183000
DTEND;TZID=America/New_York:20270525T203000
DTSTAMP:20260425T121226
CREATED:20240517T145923Z
LAST-MODIFIED:20260213T163944Z
UID:10004555-1811269800-1811277000@standrewbytheseaumc.org
SUMMARY:Men's open gym
DESCRIPTION:
URL:https://standrewbytheseaumc.org/event/mens-open-gym/2027-05-25/
ATTACH;FMTTYPE=image/png:/wp-content/uploads/2026/02/event-default-logo.png
END:VEVENT
BEGIN:VEVENT
DTSTART;TZID=America/New_York:20270526T073000
DTEND;TZID=America/New_York:20270526T083000
DTSTAMP:20260425T121226
CREATED:20240711T165450Z
LAST-MODIFIED:20240920T130237Z
UID:10006491-1811316600-1811320200@standrewbytheseaumc.org
SUMMARY:Day Starters AA Group
DESCRIPTION:
URL:https://standrewbytheseaumc.org/event/day-starters-aa-group-3-2/2027-05-26/
LOCATION:Celebration Center
ATTACH;FMTTYPE=image/jpeg:/wp-content/uploads/2024/06/Group_Meeting-1000.jpg
END:VEVENT
BEGIN:VEVENT
DTSTART;TZID=America/New_York:20270527T073000
DTEND;TZID=America/New_York:20270527T083000
DTSTAMP:20260425T121226
CREATED:20240711T165450Z
LAST-MODIFIED:20240920T130237Z
UID:10006492-1811403000-1811406600@standrewbytheseaumc.org
SUMMARY:Day Starters AA Group
DESCRIPTION:
URL:https://standrewbytheseaumc.org/event/day-starters-aa-group-3-2/2027-05-27/
LOCATION:Celebration Center
ATTACH;FMTTYPE=image/jpeg:/wp-content/uploads/2024/06/Group_Meeting-1000.jpg
END:VEVENT
BEGIN:VEVENT
DTSTART;TZID=America/New_York:20270527T080000
DTEND;TZID=America/New_York:20270527T090000
DTSTAMP:20260425T121226
CREATED:20240517T145923Z
LAST-MODIFIED:20251204T194950Z
UID:10004815-1811404800-1811408400@standrewbytheseaumc.org
SUMMARY:Men's Devotional Group
DESCRIPTION:
URL:https://standrewbytheseaumc.org/event/mens-devotional-group/2027-05-27/
ATTACH;FMTTYPE=image/png:/wp-content/uploads/2026/02/event-default-logo.png
END:VEVENT
BEGIN:VEVENT
DTSTART;TZID=America/New_York:20270528T073000
DTEND;TZID=America/New_York:20270528T083000
DTSTAMP:20260425T121226
CREATED:20240711T165450Z
LAST-MODIFIED:20240920T130237Z
UID:10006493-1811489400-1811493000@standrewbytheseaumc.org
SUMMARY:Day Starters AA Group
DESCRIPTION:
URL:https://standrewbytheseaumc.org/event/day-starters-aa-group-3-2/2027-05-28/
LOCATION:Celebration Center
ATTACH;FMTTYPE=image/jpeg:/wp-content/uploads/2024/06/Group_Meeting-1000.jpg
END:VEVENT
BEGIN:VEVENT
DTSTART;TZID=America/New_York:20270528T083000
DTEND;TZID=America/New_York:20270528T110000
DTSTAMP:20260425T121226
CREATED:20240509T232637Z
LAST-MODIFIED:20250221T153539Z
UID:10014294-1811493000-1811502000@standrewbytheseaumc.org
SUMMARY:Soup Kitchen
DESCRIPTION:The Soup Kitchen is a weekly ministry that serves persons in need in our community by sharing the love of God\, and providing food for nourishment\, kindness\, and hope for the future. \nDoors open at 8:30 am\, hot meals served 9:30-10:30 am\, pantry at 10:30 am.
URL:https://standrewbytheseaumc.org/event/soup-kitchen-2/2027-05-28/
ATTACH;FMTTYPE=image/jpeg:/wp-content/uploads/2024/05/Soup-Kitchen-e1720639777791.jpg
END:VEVENT
BEGIN:VEVENT
DTSTART;TZID=America/New_York:20270530T090000
DTEND;TZID=America/New_York:20270530T100000
DTSTAMP:20260425T121226
CREATED:20260417T143930Z
LAST-MODIFIED:20260417T143930Z
UID:10013821-1811667600-1811671200@standrewbytheseaumc.org
SUMMARY:TRADITIONAL Worship
DESCRIPTION:Worship with us in the sanctuary as we gather for praise\, hear God’s Word\, respond to God’s Word\, and go forth to serve God’s world\, led by our pastors and our chancel choir\, accompanied by organ and piano.
URL:https://standrewbytheseaumc.org/event/traditional-worship-2-2-2-2-2-2-2-2/2027-05-30/
ATTACH;FMTTYPE=image/png:/wp-content/uploads/2026/02/event-default-logo.png
END:VEVENT
BEGIN:VEVENT
DTSTART;TZID=America/New_York:20270530T110900
DTEND;TZID=America/New_York:20270530T121500
DTSTAMP:20260425T121226
CREATED:20260417T144050Z
LAST-MODIFIED:20260417T144050Z
UID:10005074-1811675340-1811679300@standrewbytheseaumc.org
SUMMARY:MODERN Worship
DESCRIPTION:Worship with us in the sanctuary as we gather for praise\, hear God’s Word\, respond to God’s Word\, and go forth to serve God’s world\, led by our pastors and our praise team on guitar and keyboard.
URL:https://standrewbytheseaumc.org/event/modern-worship-26-2-2-2-2/2027-05-30/
ATTACH;FMTTYPE=image/jpeg:/wp-content/uploads/2024/05/Modern-Worship-1000.jpg
END:VEVENT
BEGIN:VEVENT
DTSTART;TZID=America/New_York:20270531T073000
DTEND;TZID=America/New_York:20270531T083000
DTSTAMP:20260425T121226
CREATED:20240711T165450Z
LAST-MODIFIED:20240920T130237Z
UID:10006496-1811748600-1811752200@standrewbytheseaumc.org
SUMMARY:Day Starters AA Group
DESCRIPTION:
URL:https://standrewbytheseaumc.org/event/day-starters-aa-group-3-2/2027-05-31/
LOCATION:Celebration Center
ATTACH;FMTTYPE=image/jpeg:/wp-content/uploads/2024/06/Group_Meeting-1000.jpg
END:VEVENT
BEGIN:VEVENT
DTSTART;TZID=America/New_York:20270601T073000
DTEND;TZID=America/New_York:20270601T083000
DTSTAMP:20260425T121226
CREATED:20240711T165450Z
LAST-MODIFIED:20240920T130237Z
UID:10006497-1811835000-1811838600@standrewbytheseaumc.org
SUMMARY:Day Starters AA Group
DESCRIPTION:
URL:https://standrewbytheseaumc.org/event/day-starters-aa-group-3-2/2027-06-01/
LOCATION:Celebration Center
ATTACH;FMTTYPE=image/jpeg:/wp-content/uploads/2024/06/Group_Meeting-1000.jpg
END:VEVENT
BEGIN:VEVENT
DTSTART;TZID=America/New_York:20270601T083000
DTEND;TZID=America/New_York:20270601T110000
DTSTAMP:20260425T121226
CREATED:20240509T232637Z
LAST-MODIFIED:20250221T153539Z
UID:10014295-1811838600-1811847600@standrewbytheseaumc.org
SUMMARY:Soup Kitchen
DESCRIPTION:The Soup Kitchen is a weekly ministry that serves persons in need in our community by sharing the love of God\, and providing food for nourishment\, kindness\, and hope for the future. \nDoors open at 8:30 am\, hot meals served 9:30-10:30 am\, pantry at 10:30 am.
URL:https://standrewbytheseaumc.org/event/soup-kitchen-2/2027-06-01/
ATTACH;FMTTYPE=image/jpeg:/wp-content/uploads/2024/05/Soup-Kitchen-e1720639777791.jpg
END:VEVENT
BEGIN:VEVENT
DTSTART;TZID=America/New_York:20270601T100000
DTEND;TZID=America/New_York:20270601T110000
DTSTAMP:20260425T121226
CREATED:20241205T210503Z
LAST-MODIFIED:20260213T181308Z
UID:10004296-1811844000-1811847600@standrewbytheseaumc.org
SUMMARY:Fellowship Friends Weekly Zoom Chat
DESCRIPTION:
URL:https://standrewbytheseaumc.org/event/fellowship-friends-weekly-zoom-chat-21/2027-06-01/
ATTACH;FMTTYPE=image/png:/wp-content/uploads/2026/02/event-default-logo.png
END:VEVENT
BEGIN:VEVENT
DTSTART;TZID=America/New_York:20270601T120000
DTEND;TZID=America/New_York:20270601T130000
DTSTAMP:20260425T121226
CREATED:20240606T184706Z
LAST-MODIFIED:20260213T160259Z
UID:10018214-1811851200-1811854800@standrewbytheseaumc.org
SUMMARY:Staff Meeting
DESCRIPTION:
URL:https://standrewbytheseaumc.org/event/staff-meeting-24-2/2027-06-01/
ATTACH;FMTTYPE=image/png:/wp-content/uploads/2026/02/event-default-logo.png
END:VEVENT
BEGIN:VEVENT
DTSTART;TZID=America/New_York:20270601T130000
DTEND;TZID=America/New_York:20270601T140000
DTSTAMP:20260425T121226
CREATED:20260213T160643Z
LAST-MODIFIED:20260213T160643Z
UID:10018475-1811854800-1811858400@standrewbytheseaumc.org
SUMMARY:Devotions + Laughter Women's Bible Study
DESCRIPTION:
URL:https://standrewbytheseaumc.org/event/devotions-laughter-womens-bible-study/2027-06-01/
LOCATION:Admin. Bldg. Library
ATTACH;FMTTYPE=image/png:/wp-content/uploads/2026/02/event-default-logo.png
ORGANIZER;CN="Kerry Tilden":MAILTO:kerry@lovetheocean.com
END:VEVENT
BEGIN:VEVENT
DTSTART;TZID=America/New_York:20270601T140000
DTEND;TZID=America/New_York:20270601T150000
DTSTAMP:20260425T121226
CREATED:20250905T165318Z
LAST-MODIFIED:20250905T165318Z
UID:10017255-1811858400-1811862000@standrewbytheseaumc.org
SUMMARY:Seaside Bell Choir Rehearsal
DESCRIPTION:
URL:https://standrewbytheseaumc.org/event/seaside-bell-choir-rehearsal/2027-06-01/
ATTACH;FMTTYPE=image/png:/wp-content/uploads/2026/02/event-default-logo.png
END:VEVENT
BEGIN:VEVENT
DTSTART;TZID=America/New_York:20270601T183000
DTEND;TZID=America/New_York:20270601T203000
DTSTAMP:20260425T121226
CREATED:20240517T145923Z
LAST-MODIFIED:20260213T163944Z
UID:10004556-1811874600-1811881800@standrewbytheseaumc.org
SUMMARY:Men's open gym
DESCRIPTION:
URL:https://standrewbytheseaumc.org/event/mens-open-gym/2027-06-01/
ATTACH;FMTTYPE=image/png:/wp-content/uploads/2026/02/event-default-logo.png
END:VEVENT
BEGIN:VEVENT
DTSTART;TZID=America/New_York:20270602T073000
DTEND;TZID=America/New_York:20270602T083000
DTSTAMP:20260425T121226
CREATED:20240711T165450Z
LAST-MODIFIED:20240920T130237Z
UID:10006498-1811921400-1811925000@standrewbytheseaumc.org
SUMMARY:Day Starters AA Group
DESCRIPTION:
URL:https://standrewbytheseaumc.org/event/day-starters-aa-group-3-2/2027-06-02/
LOCATION:Celebration Center
ATTACH;FMTTYPE=image/jpeg:/wp-content/uploads/2024/06/Group_Meeting-1000.jpg
END:VEVENT
BEGIN:VEVENT
DTSTART;TZID=America/New_York:20270603T073000
DTEND;TZID=America/New_York:20270603T083000
DTSTAMP:20260425T121226
CREATED:20240711T165450Z
LAST-MODIFIED:20240920T130237Z
UID:10006499-1812007800-1812011400@standrewbytheseaumc.org
SUMMARY:Day Starters AA Group
DESCRIPTION:
URL:https://standrewbytheseaumc.org/event/day-starters-aa-group-3-2/2027-06-03/
LOCATION:Celebration Center
ATTACH;FMTTYPE=image/jpeg:/wp-content/uploads/2024/06/Group_Meeting-1000.jpg
END:VEVENT
BEGIN:VEVENT
DTSTART;TZID=America/New_York:20270603T080000
DTEND;TZID=America/New_York:20270603T090000
DTSTAMP:20260425T121226
CREATED:20240517T145923Z
LAST-MODIFIED:20251204T194950Z
UID:10004816-1812009600-1812013200@standrewbytheseaumc.org
SUMMARY:Men's Devotional Group
DESCRIPTION:
URL:https://standrewbytheseaumc.org/event/mens-devotional-group/2027-06-03/
ATTACH;FMTTYPE=image/png:/wp-content/uploads/2026/02/event-default-logo.png
END:VEVENT
BEGIN:VEVENT
DTSTART;TZID=America/New_York:20270604T073000
DTEND;TZID=America/New_York:20270604T083000
DTSTAMP:20260425T121226
CREATED:20240711T165450Z
LAST-MODIFIED:20240920T130237Z
UID:10006500-1812094200-1812097800@standrewbytheseaumc.org
SUMMARY:Day Starters AA Group
DESCRIPTION:
URL:https://standrewbytheseaumc.org/event/day-starters-aa-group-3-2/2027-06-04/
LOCATION:Celebration Center
ATTACH;FMTTYPE=image/jpeg:/wp-content/uploads/2024/06/Group_Meeting-1000.jpg
END:VEVENT
BEGIN:VEVENT
DTSTART;TZID=America/New_York:20270604T083000
DTEND;TZID=America/New_York:20270604T110000
DTSTAMP:20260425T121226
CREATED:20240509T232637Z
LAST-MODIFIED:20250221T153539Z
UID:10014296-1812097800-1812106800@standrewbytheseaumc.org
SUMMARY:Soup Kitchen
DESCRIPTION:The Soup Kitchen is a weekly ministry that serves persons in need in our community by sharing the love of God\, and providing food for nourishment\, kindness\, and hope for the future. \nDoors open at 8:30 am\, hot meals served 9:30-10:30 am\, pantry at 10:30 am.
URL:https://standrewbytheseaumc.org/event/soup-kitchen-2/2027-06-04/
ATTACH;FMTTYPE=image/jpeg:/wp-content/uploads/2024/05/Soup-Kitchen-e1720639777791.jpg
END:VEVENT
BEGIN:VEVENT
DTSTART;VALUE=DATE:20270606
DTEND;VALUE=DATE:20270607
DTSTAMP:20260425T121226
CREATED:20250508T180228Z
LAST-MODIFIED:20251204T193552Z
UID:10014746-1812240000-1812326399@standrewbytheseaumc.org
SUMMARY:Communion
DESCRIPTION:
URL:https://standrewbytheseaumc.org/event/communion-9/2027-06-06/
ATTACH;FMTTYPE=image/jpeg:/wp-content/uploads/2025/05/bread_and_cup_title_still_hd.jpg
END:VEVENT
BEGIN:VEVENT
DTSTART;TZID=America/New_York:20270606T090000
DTEND;TZID=America/New_York:20270606T100000
DTSTAMP:20260425T121226
CREATED:20260417T143930Z
LAST-MODIFIED:20260417T143930Z
UID:10013822-1812272400-1812276000@standrewbytheseaumc.org
SUMMARY:TRADITIONAL Worship
DESCRIPTION:Worship with us in the sanctuary as we gather for praise\, hear God’s Word\, respond to God’s Word\, and go forth to serve God’s world\, led by our pastors and our chancel choir\, accompanied by organ and piano.
URL:https://standrewbytheseaumc.org/event/traditional-worship-2-2-2-2-2-2-2-2/2027-06-06/
ATTACH;FMTTYPE=image/png:/wp-content/uploads/2026/02/event-default-logo.png
END:VEVENT
END:VCALENDAR