BEGIN:VCALENDAR
VERSION:2.0
PRODID:-//St. Andrew By-The-Sea United Methodist Church - ECPv6.15.20//NONSGML v1.0//EN
CALSCALE:GREGORIAN
METHOD:PUBLISH
X-WR-CALNAME:St. Andrew By-The-Sea United Methodist Church
X-ORIGINAL-URL:https://standrewbytheseaumc.org
X-WR-CALDESC:Events for St. Andrew By-The-Sea United Methodist Church
REFRESH-INTERVAL;VALUE=DURATION:PT1H
X-Robots-Tag:noindex
X-PUBLISHED-TTL:PT1H
BEGIN:VTIMEZONE
TZID:America/New_York
BEGIN:DAYLIGHT
TZOFFSETFROM:-0500
TZOFFSETTO:-0400
TZNAME:EDT
DTSTART:20260308T070000
END:DAYLIGHT
BEGIN:STANDARD
TZOFFSETFROM:-0400
TZOFFSETTO:-0500
TZNAME:EST
DTSTART:20261101T060000
END:STANDARD
BEGIN:DAYLIGHT
TZOFFSETFROM:-0500
TZOFFSETTO:-0400
TZNAME:EDT
DTSTART:20270314T070000
END:DAYLIGHT
BEGIN:STANDARD
TZOFFSETFROM:-0400
TZOFFSETTO:-0500
TZNAME:EST
DTSTART:20271107T060000
END:STANDARD
BEGIN:DAYLIGHT
TZOFFSETFROM:-0500
TZOFFSETTO:-0400
TZNAME:EDT
DTSTART:20280312T070000
END:DAYLIGHT
BEGIN:STANDARD
TZOFFSETFROM:-0400
TZOFFSETTO:-0500
TZNAME:EST
DTSTART:20281105T060000
END:STANDARD
END:VTIMEZONE
BEGIN:VEVENT
DTSTART;TZID=America/New_York:20270608T073000
DTEND;TZID=America/New_York:20270608T083000
DTSTAMP:20260421T092417
CREATED:20240711T165450Z
LAST-MODIFIED:20240920T130237Z
UID:10006504-1812439800-1812443400@standrewbytheseaumc.org
SUMMARY:Day Starters AA Group
DESCRIPTION:
URL:https://standrewbytheseaumc.org/event/day-starters-aa-group-3-2/2027-06-08/
LOCATION:Celebration Center
ATTACH;FMTTYPE=image/jpeg:/wp-content/uploads/2024/06/Group_Meeting-1000.jpg
END:VEVENT
BEGIN:VEVENT
DTSTART;TZID=America/New_York:20270609T073000
DTEND;TZID=America/New_York:20270609T083000
DTSTAMP:20260421T092417
CREATED:20240711T165450Z
LAST-MODIFIED:20240920T130237Z
UID:10006505-1812526200-1812529800@standrewbytheseaumc.org
SUMMARY:Day Starters AA Group
DESCRIPTION:
URL:https://standrewbytheseaumc.org/event/day-starters-aa-group-3-2/2027-06-09/
LOCATION:Celebration Center
ATTACH;FMTTYPE=image/jpeg:/wp-content/uploads/2024/06/Group_Meeting-1000.jpg
END:VEVENT
BEGIN:VEVENT
DTSTART;TZID=America/New_York:20270610T073000
DTEND;TZID=America/New_York:20270610T083000
DTSTAMP:20260421T092417
CREATED:20240711T165450Z
LAST-MODIFIED:20240920T130237Z
UID:10006506-1812612600-1812616200@standrewbytheseaumc.org
SUMMARY:Day Starters AA Group
DESCRIPTION:
URL:https://standrewbytheseaumc.org/event/day-starters-aa-group-3-2/2027-06-10/
LOCATION:Celebration Center
ATTACH;FMTTYPE=image/jpeg:/wp-content/uploads/2024/06/Group_Meeting-1000.jpg
END:VEVENT
BEGIN:VEVENT
DTSTART;TZID=America/New_York:20270611T073000
DTEND;TZID=America/New_York:20270611T083000
DTSTAMP:20260421T092417
CREATED:20240711T165450Z
LAST-MODIFIED:20240920T130237Z
UID:10006507-1812699000-1812702600@standrewbytheseaumc.org
SUMMARY:Day Starters AA Group
DESCRIPTION:
URL:https://standrewbytheseaumc.org/event/day-starters-aa-group-3-2/2027-06-11/
LOCATION:Celebration Center
ATTACH;FMTTYPE=image/jpeg:/wp-content/uploads/2024/06/Group_Meeting-1000.jpg
END:VEVENT
BEGIN:VEVENT
DTSTART;TZID=America/New_York:20270614T073000
DTEND;TZID=America/New_York:20270614T083000
DTSTAMP:20260421T092417
CREATED:20240711T165450Z
LAST-MODIFIED:20240920T130237Z
UID:10006510-1812958200-1812961800@standrewbytheseaumc.org
SUMMARY:Day Starters AA Group
DESCRIPTION:
URL:https://standrewbytheseaumc.org/event/day-starters-aa-group-3-2/2027-06-14/
LOCATION:Celebration Center
ATTACH;FMTTYPE=image/jpeg:/wp-content/uploads/2024/06/Group_Meeting-1000.jpg
END:VEVENT
BEGIN:VEVENT
DTSTART;TZID=America/New_York:20270615T073000
DTEND;TZID=America/New_York:20270615T083000
DTSTAMP:20260421T092417
CREATED:20240711T165450Z
LAST-MODIFIED:20240920T130237Z
UID:10006511-1813044600-1813048200@standrewbytheseaumc.org
SUMMARY:Day Starters AA Group
DESCRIPTION:
URL:https://standrewbytheseaumc.org/event/day-starters-aa-group-3-2/2027-06-15/
LOCATION:Celebration Center
ATTACH;FMTTYPE=image/jpeg:/wp-content/uploads/2024/06/Group_Meeting-1000.jpg
END:VEVENT
BEGIN:VEVENT
DTSTART;TZID=America/New_York:20270616T073000
DTEND;TZID=America/New_York:20270616T083000
DTSTAMP:20260421T092417
CREATED:20240711T165450Z
LAST-MODIFIED:20240920T130237Z
UID:10006512-1813131000-1813134600@standrewbytheseaumc.org
SUMMARY:Day Starters AA Group
DESCRIPTION:
URL:https://standrewbytheseaumc.org/event/day-starters-aa-group-3-2/2027-06-16/
LOCATION:Celebration Center
ATTACH;FMTTYPE=image/jpeg:/wp-content/uploads/2024/06/Group_Meeting-1000.jpg
END:VEVENT
BEGIN:VEVENT
DTSTART;TZID=America/New_York:20270617T073000
DTEND;TZID=America/New_York:20270617T083000
DTSTAMP:20260421T092417
CREATED:20240711T165450Z
LAST-MODIFIED:20240920T130237Z
UID:10006513-1813217400-1813221000@standrewbytheseaumc.org
SUMMARY:Day Starters AA Group
DESCRIPTION:
URL:https://standrewbytheseaumc.org/event/day-starters-aa-group-3-2/2027-06-17/
LOCATION:Celebration Center
ATTACH;FMTTYPE=image/jpeg:/wp-content/uploads/2024/06/Group_Meeting-1000.jpg
END:VEVENT
BEGIN:VEVENT
DTSTART;TZID=America/New_York:20270618T073000
DTEND;TZID=America/New_York:20270618T083000
DTSTAMP:20260421T092417
CREATED:20240711T165450Z
LAST-MODIFIED:20240920T130237Z
UID:10006514-1813303800-1813307400@standrewbytheseaumc.org
SUMMARY:Day Starters AA Group
DESCRIPTION:
URL:https://standrewbytheseaumc.org/event/day-starters-aa-group-3-2/2027-06-18/
LOCATION:Celebration Center
ATTACH;FMTTYPE=image/jpeg:/wp-content/uploads/2024/06/Group_Meeting-1000.jpg
END:VEVENT
BEGIN:VEVENT
DTSTART;TZID=America/New_York:20270621T073000
DTEND;TZID=America/New_York:20270621T083000
DTSTAMP:20260421T092417
CREATED:20240711T165450Z
LAST-MODIFIED:20240920T130237Z
UID:10006517-1813563000-1813566600@standrewbytheseaumc.org
SUMMARY:Day Starters AA Group
DESCRIPTION:
URL:https://standrewbytheseaumc.org/event/day-starters-aa-group-3-2/2027-06-21/
LOCATION:Celebration Center
ATTACH;FMTTYPE=image/jpeg:/wp-content/uploads/2024/06/Group_Meeting-1000.jpg
END:VEVENT
BEGIN:VEVENT
DTSTART;TZID=America/New_York:20270622T073000
DTEND;TZID=America/New_York:20270622T083000
DTSTAMP:20260421T092417
CREATED:20240711T165450Z
LAST-MODIFIED:20240920T130237Z
UID:10006518-1813649400-1813653000@standrewbytheseaumc.org
SUMMARY:Day Starters AA Group
DESCRIPTION:
URL:https://standrewbytheseaumc.org/event/day-starters-aa-group-3-2/2027-06-22/
LOCATION:Celebration Center
ATTACH;FMTTYPE=image/jpeg:/wp-content/uploads/2024/06/Group_Meeting-1000.jpg
END:VEVENT
BEGIN:VEVENT
DTSTART;TZID=America/New_York:20270623T073000
DTEND;TZID=America/New_York:20270623T083000
DTSTAMP:20260421T092417
CREATED:20240711T165450Z
LAST-MODIFIED:20240920T130237Z
UID:10006519-1813735800-1813739400@standrewbytheseaumc.org
SUMMARY:Day Starters AA Group
DESCRIPTION:
URL:https://standrewbytheseaumc.org/event/day-starters-aa-group-3-2/2027-06-23/
LOCATION:Celebration Center
ATTACH;FMTTYPE=image/jpeg:/wp-content/uploads/2024/06/Group_Meeting-1000.jpg
END:VEVENT
BEGIN:VEVENT
DTSTART;TZID=America/New_York:20270624T073000
DTEND;TZID=America/New_York:20270624T083000
DTSTAMP:20260421T092417
CREATED:20240711T165450Z
LAST-MODIFIED:20240920T130237Z
UID:10006520-1813822200-1813825800@standrewbytheseaumc.org
SUMMARY:Day Starters AA Group
DESCRIPTION:
URL:https://standrewbytheseaumc.org/event/day-starters-aa-group-3-2/2027-06-24/
LOCATION:Celebration Center
ATTACH;FMTTYPE=image/jpeg:/wp-content/uploads/2024/06/Group_Meeting-1000.jpg
END:VEVENT
BEGIN:VEVENT
DTSTART;TZID=America/New_York:20270625T073000
DTEND;TZID=America/New_York:20270625T083000
DTSTAMP:20260421T092417
CREATED:20240711T165450Z
LAST-MODIFIED:20240920T130237Z
UID:10006521-1813908600-1813912200@standrewbytheseaumc.org
SUMMARY:Day Starters AA Group
DESCRIPTION:
URL:https://standrewbytheseaumc.org/event/day-starters-aa-group-3-2/2027-06-25/
LOCATION:Celebration Center
ATTACH;FMTTYPE=image/jpeg:/wp-content/uploads/2024/06/Group_Meeting-1000.jpg
END:VEVENT
BEGIN:VEVENT
DTSTART;TZID=America/New_York:20270628T073000
DTEND;TZID=America/New_York:20270628T083000
DTSTAMP:20260421T092417
CREATED:20240711T165450Z
LAST-MODIFIED:20240920T130237Z
UID:10006524-1814167800-1814171400@standrewbytheseaumc.org
SUMMARY:Day Starters AA Group
DESCRIPTION:
URL:https://standrewbytheseaumc.org/event/day-starters-aa-group-3-2/2027-06-28/
LOCATION:Celebration Center
ATTACH;FMTTYPE=image/jpeg:/wp-content/uploads/2024/06/Group_Meeting-1000.jpg
END:VEVENT
BEGIN:VEVENT
DTSTART;TZID=America/New_York:20270629T073000
DTEND;TZID=America/New_York:20270629T083000
DTSTAMP:20260421T092417
CREATED:20240711T165450Z
LAST-MODIFIED:20240920T130237Z
UID:10006525-1814254200-1814257800@standrewbytheseaumc.org
SUMMARY:Day Starters AA Group
DESCRIPTION:
URL:https://standrewbytheseaumc.org/event/day-starters-aa-group-3-2/2027-06-29/
LOCATION:Celebration Center
ATTACH;FMTTYPE=image/jpeg:/wp-content/uploads/2024/06/Group_Meeting-1000.jpg
END:VEVENT
BEGIN:VEVENT
DTSTART;TZID=America/New_York:20270630T073000
DTEND;TZID=America/New_York:20270630T083000
DTSTAMP:20260421T092417
CREATED:20240711T165450Z
LAST-MODIFIED:20240920T130237Z
UID:10006526-1814340600-1814344200@standrewbytheseaumc.org
SUMMARY:Day Starters AA Group
DESCRIPTION:
URL:https://standrewbytheseaumc.org/event/day-starters-aa-group-3-2/2027-06-30/
LOCATION:Celebration Center
ATTACH;FMTTYPE=image/jpeg:/wp-content/uploads/2024/06/Group_Meeting-1000.jpg
END:VEVENT
BEGIN:VEVENT
DTSTART;TZID=America/New_York:20270701T073000
DTEND;TZID=America/New_York:20270701T083000
DTSTAMP:20260421T092417
CREATED:20240711T165450Z
LAST-MODIFIED:20240920T130237Z
UID:10006527-1814427000-1814430600@standrewbytheseaumc.org
SUMMARY:Day Starters AA Group
DESCRIPTION:
URL:https://standrewbytheseaumc.org/event/day-starters-aa-group-3-2/2027-07-01/
LOCATION:Celebration Center
ATTACH;FMTTYPE=image/jpeg:/wp-content/uploads/2024/06/Group_Meeting-1000.jpg
END:VEVENT
BEGIN:VEVENT
DTSTART;TZID=America/New_York:20270702T073000
DTEND;TZID=America/New_York:20270702T083000
DTSTAMP:20260421T092417
CREATED:20240711T165450Z
LAST-MODIFIED:20240920T130237Z
UID:10006528-1814513400-1814517000@standrewbytheseaumc.org
SUMMARY:Day Starters AA Group
DESCRIPTION:
URL:https://standrewbytheseaumc.org/event/day-starters-aa-group-3-2/2027-07-02/
LOCATION:Celebration Center
ATTACH;FMTTYPE=image/jpeg:/wp-content/uploads/2024/06/Group_Meeting-1000.jpg
END:VEVENT
BEGIN:VEVENT
DTSTART;TZID=America/New_York:20270705T073000
DTEND;TZID=America/New_York:20270705T083000
DTSTAMP:20260421T092417
CREATED:20240711T165450Z
LAST-MODIFIED:20240920T130237Z
UID:10006531-1814772600-1814776200@standrewbytheseaumc.org
SUMMARY:Day Starters AA Group
DESCRIPTION:
URL:https://standrewbytheseaumc.org/event/day-starters-aa-group-3-2/2027-07-05/
LOCATION:Celebration Center
ATTACH;FMTTYPE=image/jpeg:/wp-content/uploads/2024/06/Group_Meeting-1000.jpg
END:VEVENT
BEGIN:VEVENT
DTSTART;TZID=America/New_York:20270706T073000
DTEND;TZID=America/New_York:20270706T083000
DTSTAMP:20260421T092417
CREATED:20240711T165450Z
LAST-MODIFIED:20240920T130237Z
UID:10006532-1814859000-1814862600@standrewbytheseaumc.org
SUMMARY:Day Starters AA Group
DESCRIPTION:
URL:https://standrewbytheseaumc.org/event/day-starters-aa-group-3-2/2027-07-06/
LOCATION:Celebration Center
ATTACH;FMTTYPE=image/jpeg:/wp-content/uploads/2024/06/Group_Meeting-1000.jpg
END:VEVENT
BEGIN:VEVENT
DTSTART;TZID=America/New_York:20270707T073000
DTEND;TZID=America/New_York:20270707T083000
DTSTAMP:20260421T092417
CREATED:20240711T165450Z
LAST-MODIFIED:20240920T130237Z
UID:10006533-1814945400-1814949000@standrewbytheseaumc.org
SUMMARY:Day Starters AA Group
DESCRIPTION:
URL:https://standrewbytheseaumc.org/event/day-starters-aa-group-3-2/2027-07-07/
LOCATION:Celebration Center
ATTACH;FMTTYPE=image/jpeg:/wp-content/uploads/2024/06/Group_Meeting-1000.jpg
END:VEVENT
BEGIN:VEVENT
DTSTART;TZID=America/New_York:20270708T073000
DTEND;TZID=America/New_York:20270708T083000
DTSTAMP:20260421T092417
CREATED:20240711T165450Z
LAST-MODIFIED:20240920T130237Z
UID:10006534-1815031800-1815035400@standrewbytheseaumc.org
SUMMARY:Day Starters AA Group
DESCRIPTION:
URL:https://standrewbytheseaumc.org/event/day-starters-aa-group-3-2/2027-07-08/
LOCATION:Celebration Center
ATTACH;FMTTYPE=image/jpeg:/wp-content/uploads/2024/06/Group_Meeting-1000.jpg
END:VEVENT
BEGIN:VEVENT
DTSTART;TZID=America/New_York:20270709T073000
DTEND;TZID=America/New_York:20270709T083000
DTSTAMP:20260421T092417
CREATED:20240711T165450Z
LAST-MODIFIED:20240920T130237Z
UID:10006535-1815118200-1815121800@standrewbytheseaumc.org
SUMMARY:Day Starters AA Group
DESCRIPTION:
URL:https://standrewbytheseaumc.org/event/day-starters-aa-group-3-2/2027-07-09/
LOCATION:Celebration Center
ATTACH;FMTTYPE=image/jpeg:/wp-content/uploads/2024/06/Group_Meeting-1000.jpg
END:VEVENT
BEGIN:VEVENT
DTSTART;TZID=America/New_York:20270712T073000
DTEND;TZID=America/New_York:20270712T083000
DTSTAMP:20260421T092417
CREATED:20240711T165450Z
LAST-MODIFIED:20240920T130237Z
UID:10006538-1815377400-1815381000@standrewbytheseaumc.org
SUMMARY:Day Starters AA Group
DESCRIPTION:
URL:https://standrewbytheseaumc.org/event/day-starters-aa-group-3-2/2027-07-12/
LOCATION:Celebration Center
ATTACH;FMTTYPE=image/jpeg:/wp-content/uploads/2024/06/Group_Meeting-1000.jpg
END:VEVENT
BEGIN:VEVENT
DTSTART;TZID=America/New_York:20270713T073000
DTEND;TZID=America/New_York:20270713T083000
DTSTAMP:20260421T092417
CREATED:20240711T165450Z
LAST-MODIFIED:20240920T130237Z
UID:10006539-1815463800-1815467400@standrewbytheseaumc.org
SUMMARY:Day Starters AA Group
DESCRIPTION:
URL:https://standrewbytheseaumc.org/event/day-starters-aa-group-3-2/2027-07-13/
LOCATION:Celebration Center
ATTACH;FMTTYPE=image/jpeg:/wp-content/uploads/2024/06/Group_Meeting-1000.jpg
END:VEVENT
BEGIN:VEVENT
DTSTART;TZID=America/New_York:20270714T073000
DTEND;TZID=America/New_York:20270714T083000
DTSTAMP:20260421T092417
CREATED:20240711T165450Z
LAST-MODIFIED:20240920T130237Z
UID:10006540-1815550200-1815553800@standrewbytheseaumc.org
SUMMARY:Day Starters AA Group
DESCRIPTION:
URL:https://standrewbytheseaumc.org/event/day-starters-aa-group-3-2/2027-07-14/
LOCATION:Celebration Center
ATTACH;FMTTYPE=image/jpeg:/wp-content/uploads/2024/06/Group_Meeting-1000.jpg
END:VEVENT
BEGIN:VEVENT
DTSTART;TZID=America/New_York:20270715T073000
DTEND;TZID=America/New_York:20270715T083000
DTSTAMP:20260421T092417
CREATED:20240711T165450Z
LAST-MODIFIED:20240920T130237Z
UID:10006541-1815636600-1815640200@standrewbytheseaumc.org
SUMMARY:Day Starters AA Group
DESCRIPTION:
URL:https://standrewbytheseaumc.org/event/day-starters-aa-group-3-2/2027-07-15/
LOCATION:Celebration Center
ATTACH;FMTTYPE=image/jpeg:/wp-content/uploads/2024/06/Group_Meeting-1000.jpg
END:VEVENT
BEGIN:VEVENT
DTSTART;TZID=America/New_York:20270716T073000
DTEND;TZID=America/New_York:20270716T083000
DTSTAMP:20260421T092417
CREATED:20240711T165450Z
LAST-MODIFIED:20240920T130237Z
UID:10006542-1815723000-1815726600@standrewbytheseaumc.org
SUMMARY:Day Starters AA Group
DESCRIPTION:
URL:https://standrewbytheseaumc.org/event/day-starters-aa-group-3-2/2027-07-16/
LOCATION:Celebration Center
ATTACH;FMTTYPE=image/jpeg:/wp-content/uploads/2024/06/Group_Meeting-1000.jpg
END:VEVENT
BEGIN:VEVENT
DTSTART;TZID=America/New_York:20270719T073000
DTEND;TZID=America/New_York:20270719T083000
DTSTAMP:20260421T092417
CREATED:20240711T165450Z
LAST-MODIFIED:20240920T130237Z
UID:10006545-1815982200-1815985800@standrewbytheseaumc.org
SUMMARY:Day Starters AA Group
DESCRIPTION:
URL:https://standrewbytheseaumc.org/event/day-starters-aa-group-3-2/2027-07-19/
LOCATION:Celebration Center
ATTACH;FMTTYPE=image/jpeg:/wp-content/uploads/2024/06/Group_Meeting-1000.jpg
END:VEVENT
END:VCALENDAR