BEGIN:VCALENDAR
VERSION:2.0
PRODID:-//St. Andrew By-The-Sea United Methodist Church - ECPv6.15.20//NONSGML v1.0//EN
CALSCALE:GREGORIAN
METHOD:PUBLISH
X-WR-CALNAME:St. Andrew By-The-Sea United Methodist Church
X-ORIGINAL-URL:https://standrewbytheseaumc.org
X-WR-CALDESC:Events for St. Andrew By-The-Sea United Methodist Church
REFRESH-INTERVAL;VALUE=DURATION:PT1H
X-Robots-Tag:noindex
X-PUBLISHED-TTL:PT1H
BEGIN:VTIMEZONE
TZID:America/New_York
BEGIN:DAYLIGHT
TZOFFSETFROM:-0500
TZOFFSETTO:-0400
TZNAME:EDT
DTSTART:20260308T070000
END:DAYLIGHT
BEGIN:STANDARD
TZOFFSETFROM:-0400
TZOFFSETTO:-0500
TZNAME:EST
DTSTART:20261101T060000
END:STANDARD
BEGIN:DAYLIGHT
TZOFFSETFROM:-0500
TZOFFSETTO:-0400
TZNAME:EDT
DTSTART:20270314T070000
END:DAYLIGHT
BEGIN:STANDARD
TZOFFSETFROM:-0400
TZOFFSETTO:-0500
TZNAME:EST
DTSTART:20271107T060000
END:STANDARD
BEGIN:DAYLIGHT
TZOFFSETFROM:-0500
TZOFFSETTO:-0400
TZNAME:EDT
DTSTART:20280312T070000
END:DAYLIGHT
BEGIN:STANDARD
TZOFFSETFROM:-0400
TZOFFSETTO:-0500
TZNAME:EST
DTSTART:20281105T060000
END:STANDARD
END:VTIMEZONE
BEGIN:VEVENT
DTSTART;TZID=America/New_York:20271004T073000
DTEND;TZID=America/New_York:20271004T083000
DTSTAMP:20260421T204349
CREATED:20240711T165450Z
LAST-MODIFIED:20240920T130237Z
UID:10006622-1822635000-1822638600@standrewbytheseaumc.org
SUMMARY:Day Starters AA Group
DESCRIPTION:
URL:https://standrewbytheseaumc.org/event/day-starters-aa-group-3-2/2027-10-04/
LOCATION:Celebration Center
ATTACH;FMTTYPE=image/jpeg:/wp-content/uploads/2024/06/Group_Meeting-1000.jpg
END:VEVENT
BEGIN:VEVENT
DTSTART;TZID=America/New_York:20271005T073000
DTEND;TZID=America/New_York:20271005T083000
DTSTAMP:20260421T204349
CREATED:20240711T165450Z
LAST-MODIFIED:20240920T130237Z
UID:10006623-1822721400-1822725000@standrewbytheseaumc.org
SUMMARY:Day Starters AA Group
DESCRIPTION:
URL:https://standrewbytheseaumc.org/event/day-starters-aa-group-3-2/2027-10-05/
LOCATION:Celebration Center
ATTACH;FMTTYPE=image/jpeg:/wp-content/uploads/2024/06/Group_Meeting-1000.jpg
END:VEVENT
BEGIN:VEVENT
DTSTART;TZID=America/New_York:20271006T073000
DTEND;TZID=America/New_York:20271006T083000
DTSTAMP:20260421T204349
CREATED:20240711T165450Z
LAST-MODIFIED:20240920T130237Z
UID:10006624-1822807800-1822811400@standrewbytheseaumc.org
SUMMARY:Day Starters AA Group
DESCRIPTION:
URL:https://standrewbytheseaumc.org/event/day-starters-aa-group-3-2/2027-10-06/
LOCATION:Celebration Center
ATTACH;FMTTYPE=image/jpeg:/wp-content/uploads/2024/06/Group_Meeting-1000.jpg
END:VEVENT
BEGIN:VEVENT
DTSTART;TZID=America/New_York:20271007T073000
DTEND;TZID=America/New_York:20271007T083000
DTSTAMP:20260421T204349
CREATED:20240711T165450Z
LAST-MODIFIED:20240920T130237Z
UID:10006625-1822894200-1822897800@standrewbytheseaumc.org
SUMMARY:Day Starters AA Group
DESCRIPTION:
URL:https://standrewbytheseaumc.org/event/day-starters-aa-group-3-2/2027-10-07/
LOCATION:Celebration Center
ATTACH;FMTTYPE=image/jpeg:/wp-content/uploads/2024/06/Group_Meeting-1000.jpg
END:VEVENT
BEGIN:VEVENT
DTSTART;TZID=America/New_York:20271008T073000
DTEND;TZID=America/New_York:20271008T083000
DTSTAMP:20260421T204349
CREATED:20240711T165450Z
LAST-MODIFIED:20240920T130237Z
UID:10006626-1822980600-1822984200@standrewbytheseaumc.org
SUMMARY:Day Starters AA Group
DESCRIPTION:
URL:https://standrewbytheseaumc.org/event/day-starters-aa-group-3-2/2027-10-08/
LOCATION:Celebration Center
ATTACH;FMTTYPE=image/jpeg:/wp-content/uploads/2024/06/Group_Meeting-1000.jpg
END:VEVENT
BEGIN:VEVENT
DTSTART;TZID=America/New_York:20271011T073000
DTEND;TZID=America/New_York:20271011T083000
DTSTAMP:20260421T204349
CREATED:20240711T165450Z
LAST-MODIFIED:20240920T130237Z
UID:10006629-1823239800-1823243400@standrewbytheseaumc.org
SUMMARY:Day Starters AA Group
DESCRIPTION:
URL:https://standrewbytheseaumc.org/event/day-starters-aa-group-3-2/2027-10-11/
LOCATION:Celebration Center
ATTACH;FMTTYPE=image/jpeg:/wp-content/uploads/2024/06/Group_Meeting-1000.jpg
END:VEVENT
BEGIN:VEVENT
DTSTART;TZID=America/New_York:20271012T073000
DTEND;TZID=America/New_York:20271012T083000
DTSTAMP:20260421T204349
CREATED:20240711T165450Z
LAST-MODIFIED:20240920T130237Z
UID:10006630-1823326200-1823329800@standrewbytheseaumc.org
SUMMARY:Day Starters AA Group
DESCRIPTION:
URL:https://standrewbytheseaumc.org/event/day-starters-aa-group-3-2/2027-10-12/
LOCATION:Celebration Center
ATTACH;FMTTYPE=image/jpeg:/wp-content/uploads/2024/06/Group_Meeting-1000.jpg
END:VEVENT
BEGIN:VEVENT
DTSTART;TZID=America/New_York:20271013T073000
DTEND;TZID=America/New_York:20271013T083000
DTSTAMP:20260421T204349
CREATED:20240711T165450Z
LAST-MODIFIED:20240920T130237Z
UID:10006631-1823412600-1823416200@standrewbytheseaumc.org
SUMMARY:Day Starters AA Group
DESCRIPTION:
URL:https://standrewbytheseaumc.org/event/day-starters-aa-group-3-2/2027-10-13/
LOCATION:Celebration Center
ATTACH;FMTTYPE=image/jpeg:/wp-content/uploads/2024/06/Group_Meeting-1000.jpg
END:VEVENT
BEGIN:VEVENT
DTSTART;TZID=America/New_York:20271014T073000
DTEND;TZID=America/New_York:20271014T083000
DTSTAMP:20260421T204349
CREATED:20240711T165450Z
LAST-MODIFIED:20240920T130237Z
UID:10006632-1823499000-1823502600@standrewbytheseaumc.org
SUMMARY:Day Starters AA Group
DESCRIPTION:
URL:https://standrewbytheseaumc.org/event/day-starters-aa-group-3-2/2027-10-14/
LOCATION:Celebration Center
ATTACH;FMTTYPE=image/jpeg:/wp-content/uploads/2024/06/Group_Meeting-1000.jpg
END:VEVENT
BEGIN:VEVENT
DTSTART;TZID=America/New_York:20271015T073000
DTEND;TZID=America/New_York:20271015T083000
DTSTAMP:20260421T204349
CREATED:20240711T165450Z
LAST-MODIFIED:20240920T130237Z
UID:10006633-1823585400-1823589000@standrewbytheseaumc.org
SUMMARY:Day Starters AA Group
DESCRIPTION:
URL:https://standrewbytheseaumc.org/event/day-starters-aa-group-3-2/2027-10-15/
LOCATION:Celebration Center
ATTACH;FMTTYPE=image/jpeg:/wp-content/uploads/2024/06/Group_Meeting-1000.jpg
END:VEVENT
BEGIN:VEVENT
DTSTART;TZID=America/New_York:20271018T073000
DTEND;TZID=America/New_York:20271018T083000
DTSTAMP:20260421T204349
CREATED:20240711T165450Z
LAST-MODIFIED:20240920T130237Z
UID:10006636-1823844600-1823848200@standrewbytheseaumc.org
SUMMARY:Day Starters AA Group
DESCRIPTION:
URL:https://standrewbytheseaumc.org/event/day-starters-aa-group-3-2/2027-10-18/
LOCATION:Celebration Center
ATTACH;FMTTYPE=image/jpeg:/wp-content/uploads/2024/06/Group_Meeting-1000.jpg
END:VEVENT
BEGIN:VEVENT
DTSTART;TZID=America/New_York:20271019T073000
DTEND;TZID=America/New_York:20271019T083000
DTSTAMP:20260421T204349
CREATED:20240711T165450Z
LAST-MODIFIED:20240920T130237Z
UID:10006637-1823931000-1823934600@standrewbytheseaumc.org
SUMMARY:Day Starters AA Group
DESCRIPTION:
URL:https://standrewbytheseaumc.org/event/day-starters-aa-group-3-2/2027-10-19/
LOCATION:Celebration Center
ATTACH;FMTTYPE=image/jpeg:/wp-content/uploads/2024/06/Group_Meeting-1000.jpg
END:VEVENT
BEGIN:VEVENT
DTSTART;TZID=America/New_York:20271020T073000
DTEND;TZID=America/New_York:20271020T083000
DTSTAMP:20260421T204349
CREATED:20240711T165450Z
LAST-MODIFIED:20240920T130237Z
UID:10006638-1824017400-1824021000@standrewbytheseaumc.org
SUMMARY:Day Starters AA Group
DESCRIPTION:
URL:https://standrewbytheseaumc.org/event/day-starters-aa-group-3-2/2027-10-20/
LOCATION:Celebration Center
ATTACH;FMTTYPE=image/jpeg:/wp-content/uploads/2024/06/Group_Meeting-1000.jpg
END:VEVENT
BEGIN:VEVENT
DTSTART;TZID=America/New_York:20271021T073000
DTEND;TZID=America/New_York:20271021T083000
DTSTAMP:20260421T204349
CREATED:20240711T165450Z
LAST-MODIFIED:20240920T130237Z
UID:10006639-1824103800-1824107400@standrewbytheseaumc.org
SUMMARY:Day Starters AA Group
DESCRIPTION:
URL:https://standrewbytheseaumc.org/event/day-starters-aa-group-3-2/2027-10-21/
LOCATION:Celebration Center
ATTACH;FMTTYPE=image/jpeg:/wp-content/uploads/2024/06/Group_Meeting-1000.jpg
END:VEVENT
BEGIN:VEVENT
DTSTART;TZID=America/New_York:20271022T073000
DTEND;TZID=America/New_York:20271022T083000
DTSTAMP:20260421T204349
CREATED:20240711T165450Z
LAST-MODIFIED:20240920T130237Z
UID:10006640-1824190200-1824193800@standrewbytheseaumc.org
SUMMARY:Day Starters AA Group
DESCRIPTION:
URL:https://standrewbytheseaumc.org/event/day-starters-aa-group-3-2/2027-10-22/
LOCATION:Celebration Center
ATTACH;FMTTYPE=image/jpeg:/wp-content/uploads/2024/06/Group_Meeting-1000.jpg
END:VEVENT
BEGIN:VEVENT
DTSTART;TZID=America/New_York:20271025T073000
DTEND;TZID=America/New_York:20271025T083000
DTSTAMP:20260421T204349
CREATED:20240711T165450Z
LAST-MODIFIED:20240920T130237Z
UID:10006643-1824449400-1824453000@standrewbytheseaumc.org
SUMMARY:Day Starters AA Group
DESCRIPTION:
URL:https://standrewbytheseaumc.org/event/day-starters-aa-group-3-2/2027-10-25/
LOCATION:Celebration Center
ATTACH;FMTTYPE=image/jpeg:/wp-content/uploads/2024/06/Group_Meeting-1000.jpg
END:VEVENT
BEGIN:VEVENT
DTSTART;TZID=America/New_York:20271026T073000
DTEND;TZID=America/New_York:20271026T083000
DTSTAMP:20260421T204349
CREATED:20240711T165450Z
LAST-MODIFIED:20240920T130237Z
UID:10006644-1824535800-1824539400@standrewbytheseaumc.org
SUMMARY:Day Starters AA Group
DESCRIPTION:
URL:https://standrewbytheseaumc.org/event/day-starters-aa-group-3-2/2027-10-26/
LOCATION:Celebration Center
ATTACH;FMTTYPE=image/jpeg:/wp-content/uploads/2024/06/Group_Meeting-1000.jpg
END:VEVENT
BEGIN:VEVENT
DTSTART;TZID=America/New_York:20271027T073000
DTEND;TZID=America/New_York:20271027T083000
DTSTAMP:20260421T204349
CREATED:20240711T165450Z
LAST-MODIFIED:20240920T130237Z
UID:10006645-1824622200-1824625800@standrewbytheseaumc.org
SUMMARY:Day Starters AA Group
DESCRIPTION:
URL:https://standrewbytheseaumc.org/event/day-starters-aa-group-3-2/2027-10-27/
LOCATION:Celebration Center
ATTACH;FMTTYPE=image/jpeg:/wp-content/uploads/2024/06/Group_Meeting-1000.jpg
END:VEVENT
BEGIN:VEVENT
DTSTART;TZID=America/New_York:20271028T073000
DTEND;TZID=America/New_York:20271028T083000
DTSTAMP:20260421T204349
CREATED:20240711T165450Z
LAST-MODIFIED:20240920T130237Z
UID:10006646-1824708600-1824712200@standrewbytheseaumc.org
SUMMARY:Day Starters AA Group
DESCRIPTION:
URL:https://standrewbytheseaumc.org/event/day-starters-aa-group-3-2/2027-10-28/
LOCATION:Celebration Center
ATTACH;FMTTYPE=image/jpeg:/wp-content/uploads/2024/06/Group_Meeting-1000.jpg
END:VEVENT
BEGIN:VEVENT
DTSTART;TZID=America/New_York:20271029T073000
DTEND;TZID=America/New_York:20271029T083000
DTSTAMP:20260421T204349
CREATED:20240711T165450Z
LAST-MODIFIED:20240920T130237Z
UID:10006647-1824795000-1824798600@standrewbytheseaumc.org
SUMMARY:Day Starters AA Group
DESCRIPTION:
URL:https://standrewbytheseaumc.org/event/day-starters-aa-group-3-2/2027-10-29/
LOCATION:Celebration Center
ATTACH;FMTTYPE=image/jpeg:/wp-content/uploads/2024/06/Group_Meeting-1000.jpg
END:VEVENT
BEGIN:VEVENT
DTSTART;TZID=America/New_York:20271101T073000
DTEND;TZID=America/New_York:20271101T083000
DTSTAMP:20260421T204349
CREATED:20240711T165450Z
LAST-MODIFIED:20240920T130237Z
UID:10006650-1825054200-1825057800@standrewbytheseaumc.org
SUMMARY:Day Starters AA Group
DESCRIPTION:
URL:https://standrewbytheseaumc.org/event/day-starters-aa-group-3-2/2027-11-01/
LOCATION:Celebration Center
ATTACH;FMTTYPE=image/jpeg:/wp-content/uploads/2024/06/Group_Meeting-1000.jpg
END:VEVENT
BEGIN:VEVENT
DTSTART;TZID=America/New_York:20271102T073000
DTEND;TZID=America/New_York:20271102T083000
DTSTAMP:20260421T204349
CREATED:20240711T165450Z
LAST-MODIFIED:20240920T130237Z
UID:10006651-1825140600-1825144200@standrewbytheseaumc.org
SUMMARY:Day Starters AA Group
DESCRIPTION:
URL:https://standrewbytheseaumc.org/event/day-starters-aa-group-3-2/2027-11-02/
LOCATION:Celebration Center
ATTACH;FMTTYPE=image/jpeg:/wp-content/uploads/2024/06/Group_Meeting-1000.jpg
END:VEVENT
BEGIN:VEVENT
DTSTART;TZID=America/New_York:20271103T073000
DTEND;TZID=America/New_York:20271103T083000
DTSTAMP:20260421T204349
CREATED:20240711T165450Z
LAST-MODIFIED:20240920T130237Z
UID:10006652-1825227000-1825230600@standrewbytheseaumc.org
SUMMARY:Day Starters AA Group
DESCRIPTION:
URL:https://standrewbytheseaumc.org/event/day-starters-aa-group-3-2/2027-11-03/
LOCATION:Celebration Center
ATTACH;FMTTYPE=image/jpeg:/wp-content/uploads/2024/06/Group_Meeting-1000.jpg
END:VEVENT
BEGIN:VEVENT
DTSTART;TZID=America/New_York:20271104T073000
DTEND;TZID=America/New_York:20271104T083000
DTSTAMP:20260421T204349
CREATED:20240711T165450Z
LAST-MODIFIED:20240920T130237Z
UID:10006653-1825313400-1825317000@standrewbytheseaumc.org
SUMMARY:Day Starters AA Group
DESCRIPTION:
URL:https://standrewbytheseaumc.org/event/day-starters-aa-group-3-2/2027-11-04/
LOCATION:Celebration Center
ATTACH;FMTTYPE=image/jpeg:/wp-content/uploads/2024/06/Group_Meeting-1000.jpg
END:VEVENT
BEGIN:VEVENT
DTSTART;TZID=America/New_York:20271105T073000
DTEND;TZID=America/New_York:20271105T083000
DTSTAMP:20260421T204349
CREATED:20240711T165450Z
LAST-MODIFIED:20240920T130237Z
UID:10006654-1825399800-1825403400@standrewbytheseaumc.org
SUMMARY:Day Starters AA Group
DESCRIPTION:
URL:https://standrewbytheseaumc.org/event/day-starters-aa-group-3-2/2027-11-05/
LOCATION:Celebration Center
ATTACH;FMTTYPE=image/jpeg:/wp-content/uploads/2024/06/Group_Meeting-1000.jpg
END:VEVENT
BEGIN:VEVENT
DTSTART;TZID=America/New_York:20271108T073000
DTEND;TZID=America/New_York:20271108T083000
DTSTAMP:20260421T204349
CREATED:20240711T165450Z
LAST-MODIFIED:20240920T130237Z
UID:10006657-1825659000-1825662600@standrewbytheseaumc.org
SUMMARY:Day Starters AA Group
DESCRIPTION:
URL:https://standrewbytheseaumc.org/event/day-starters-aa-group-3-2/2027-11-08/
LOCATION:Celebration Center
ATTACH;FMTTYPE=image/jpeg:/wp-content/uploads/2024/06/Group_Meeting-1000.jpg
END:VEVENT
BEGIN:VEVENT
DTSTART;TZID=America/New_York:20271109T073000
DTEND;TZID=America/New_York:20271109T083000
DTSTAMP:20260421T204349
CREATED:20240711T165450Z
LAST-MODIFIED:20240920T130237Z
UID:10006658-1825745400-1825749000@standrewbytheseaumc.org
SUMMARY:Day Starters AA Group
DESCRIPTION:
URL:https://standrewbytheseaumc.org/event/day-starters-aa-group-3-2/2027-11-09/
LOCATION:Celebration Center
ATTACH;FMTTYPE=image/jpeg:/wp-content/uploads/2024/06/Group_Meeting-1000.jpg
END:VEVENT
BEGIN:VEVENT
DTSTART;TZID=America/New_York:20271110T073000
DTEND;TZID=America/New_York:20271110T083000
DTSTAMP:20260421T204349
CREATED:20240711T165450Z
LAST-MODIFIED:20240920T130237Z
UID:10006659-1825831800-1825835400@standrewbytheseaumc.org
SUMMARY:Day Starters AA Group
DESCRIPTION:
URL:https://standrewbytheseaumc.org/event/day-starters-aa-group-3-2/2027-11-10/
LOCATION:Celebration Center
ATTACH;FMTTYPE=image/jpeg:/wp-content/uploads/2024/06/Group_Meeting-1000.jpg
END:VEVENT
BEGIN:VEVENT
DTSTART;TZID=America/New_York:20271111T073000
DTEND;TZID=America/New_York:20271111T083000
DTSTAMP:20260421T204349
CREATED:20240711T165450Z
LAST-MODIFIED:20240920T130237Z
UID:10006660-1825918200-1825921800@standrewbytheseaumc.org
SUMMARY:Day Starters AA Group
DESCRIPTION:
URL:https://standrewbytheseaumc.org/event/day-starters-aa-group-3-2/2027-11-11/
LOCATION:Celebration Center
ATTACH;FMTTYPE=image/jpeg:/wp-content/uploads/2024/06/Group_Meeting-1000.jpg
END:VEVENT
BEGIN:VEVENT
DTSTART;TZID=America/New_York:20271112T073000
DTEND;TZID=America/New_York:20271112T083000
DTSTAMP:20260421T204349
CREATED:20240711T165450Z
LAST-MODIFIED:20240920T130237Z
UID:10006661-1826004600-1826008200@standrewbytheseaumc.org
SUMMARY:Day Starters AA Group
DESCRIPTION:
URL:https://standrewbytheseaumc.org/event/day-starters-aa-group-3-2/2027-11-12/
LOCATION:Celebration Center
ATTACH;FMTTYPE=image/jpeg:/wp-content/uploads/2024/06/Group_Meeting-1000.jpg
END:VEVENT
END:VCALENDAR