BEGIN:VCALENDAR
VERSION:2.0
PRODID:-//St. Andrew By-The-Sea United Methodist Church - ECPv6.15.20//NONSGML v1.0//EN
CALSCALE:GREGORIAN
METHOD:PUBLISH
X-WR-CALNAME:St. Andrew By-The-Sea United Methodist Church
X-ORIGINAL-URL:https://standrewbytheseaumc.org
X-WR-CALDESC:Events for St. Andrew By-The-Sea United Methodist Church
REFRESH-INTERVAL;VALUE=DURATION:PT1H
X-Robots-Tag:noindex
X-PUBLISHED-TTL:PT1H
BEGIN:VTIMEZONE
TZID:America/New_York
BEGIN:DAYLIGHT
TZOFFSETFROM:-0500
TZOFFSETTO:-0400
TZNAME:EDT
DTSTART:20260308T070000
END:DAYLIGHT
BEGIN:STANDARD
TZOFFSETFROM:-0400
TZOFFSETTO:-0500
TZNAME:EST
DTSTART:20261101T060000
END:STANDARD
BEGIN:DAYLIGHT
TZOFFSETFROM:-0500
TZOFFSETTO:-0400
TZNAME:EDT
DTSTART:20270314T070000
END:DAYLIGHT
BEGIN:STANDARD
TZOFFSETFROM:-0400
TZOFFSETTO:-0500
TZNAME:EST
DTSTART:20271107T060000
END:STANDARD
BEGIN:DAYLIGHT
TZOFFSETFROM:-0500
TZOFFSETTO:-0400
TZNAME:EDT
DTSTART:20280312T070000
END:DAYLIGHT
BEGIN:STANDARD
TZOFFSETFROM:-0400
TZOFFSETTO:-0500
TZNAME:EST
DTSTART:20281105T060000
END:STANDARD
END:VTIMEZONE
BEGIN:VEVENT
DTSTART;TZID=America/New_York:20271105T073000
DTEND;TZID=America/New_York:20271105T083000
DTSTAMP:20260422T001328
CREATED:20240711T165450Z
LAST-MODIFIED:20240920T130237Z
UID:10006654-1825399800-1825403400@standrewbytheseaumc.org
SUMMARY:Day Starters AA Group
DESCRIPTION:
URL:https://standrewbytheseaumc.org/event/day-starters-aa-group-3-2/2027-11-05/
LOCATION:Celebration Center
ATTACH;FMTTYPE=image/jpeg:/wp-content/uploads/2024/06/Group_Meeting-1000.jpg
END:VEVENT
BEGIN:VEVENT
DTSTART;TZID=America/New_York:20271108T073000
DTEND;TZID=America/New_York:20271108T083000
DTSTAMP:20260422T001328
CREATED:20240711T165450Z
LAST-MODIFIED:20240920T130237Z
UID:10006657-1825659000-1825662600@standrewbytheseaumc.org
SUMMARY:Day Starters AA Group
DESCRIPTION:
URL:https://standrewbytheseaumc.org/event/day-starters-aa-group-3-2/2027-11-08/
LOCATION:Celebration Center
ATTACH;FMTTYPE=image/jpeg:/wp-content/uploads/2024/06/Group_Meeting-1000.jpg
END:VEVENT
BEGIN:VEVENT
DTSTART;TZID=America/New_York:20271109T073000
DTEND;TZID=America/New_York:20271109T083000
DTSTAMP:20260422T001328
CREATED:20240711T165450Z
LAST-MODIFIED:20240920T130237Z
UID:10006658-1825745400-1825749000@standrewbytheseaumc.org
SUMMARY:Day Starters AA Group
DESCRIPTION:
URL:https://standrewbytheseaumc.org/event/day-starters-aa-group-3-2/2027-11-09/
LOCATION:Celebration Center
ATTACH;FMTTYPE=image/jpeg:/wp-content/uploads/2024/06/Group_Meeting-1000.jpg
END:VEVENT
BEGIN:VEVENT
DTSTART;TZID=America/New_York:20271110T073000
DTEND;TZID=America/New_York:20271110T083000
DTSTAMP:20260422T001328
CREATED:20240711T165450Z
LAST-MODIFIED:20240920T130237Z
UID:10006659-1825831800-1825835400@standrewbytheseaumc.org
SUMMARY:Day Starters AA Group
DESCRIPTION:
URL:https://standrewbytheseaumc.org/event/day-starters-aa-group-3-2/2027-11-10/
LOCATION:Celebration Center
ATTACH;FMTTYPE=image/jpeg:/wp-content/uploads/2024/06/Group_Meeting-1000.jpg
END:VEVENT
BEGIN:VEVENT
DTSTART;TZID=America/New_York:20271111T073000
DTEND;TZID=America/New_York:20271111T083000
DTSTAMP:20260422T001328
CREATED:20240711T165450Z
LAST-MODIFIED:20240920T130237Z
UID:10006660-1825918200-1825921800@standrewbytheseaumc.org
SUMMARY:Day Starters AA Group
DESCRIPTION:
URL:https://standrewbytheseaumc.org/event/day-starters-aa-group-3-2/2027-11-11/
LOCATION:Celebration Center
ATTACH;FMTTYPE=image/jpeg:/wp-content/uploads/2024/06/Group_Meeting-1000.jpg
END:VEVENT
BEGIN:VEVENT
DTSTART;TZID=America/New_York:20271112T073000
DTEND;TZID=America/New_York:20271112T083000
DTSTAMP:20260422T001328
CREATED:20240711T165450Z
LAST-MODIFIED:20240920T130237Z
UID:10006661-1826004600-1826008200@standrewbytheseaumc.org
SUMMARY:Day Starters AA Group
DESCRIPTION:
URL:https://standrewbytheseaumc.org/event/day-starters-aa-group-3-2/2027-11-12/
LOCATION:Celebration Center
ATTACH;FMTTYPE=image/jpeg:/wp-content/uploads/2024/06/Group_Meeting-1000.jpg
END:VEVENT
BEGIN:VEVENT
DTSTART;TZID=America/New_York:20271115T073000
DTEND;TZID=America/New_York:20271115T083000
DTSTAMP:20260422T001328
CREATED:20240711T165450Z
LAST-MODIFIED:20240920T130237Z
UID:10006664-1826263800-1826267400@standrewbytheseaumc.org
SUMMARY:Day Starters AA Group
DESCRIPTION:
URL:https://standrewbytheseaumc.org/event/day-starters-aa-group-3-2/2027-11-15/
LOCATION:Celebration Center
ATTACH;FMTTYPE=image/jpeg:/wp-content/uploads/2024/06/Group_Meeting-1000.jpg
END:VEVENT
BEGIN:VEVENT
DTSTART;TZID=America/New_York:20271116T073000
DTEND;TZID=America/New_York:20271116T083000
DTSTAMP:20260422T001328
CREATED:20240711T165450Z
LAST-MODIFIED:20240920T130237Z
UID:10006665-1826350200-1826353800@standrewbytheseaumc.org
SUMMARY:Day Starters AA Group
DESCRIPTION:
URL:https://standrewbytheseaumc.org/event/day-starters-aa-group-3-2/2027-11-16/
LOCATION:Celebration Center
ATTACH;FMTTYPE=image/jpeg:/wp-content/uploads/2024/06/Group_Meeting-1000.jpg
END:VEVENT
BEGIN:VEVENT
DTSTART;TZID=America/New_York:20271117T073000
DTEND;TZID=America/New_York:20271117T083000
DTSTAMP:20260422T001329
CREATED:20240711T165450Z
LAST-MODIFIED:20240920T130237Z
UID:10006666-1826436600-1826440200@standrewbytheseaumc.org
SUMMARY:Day Starters AA Group
DESCRIPTION:
URL:https://standrewbytheseaumc.org/event/day-starters-aa-group-3-2/2027-11-17/
LOCATION:Celebration Center
ATTACH;FMTTYPE=image/jpeg:/wp-content/uploads/2024/06/Group_Meeting-1000.jpg
END:VEVENT
BEGIN:VEVENT
DTSTART;TZID=America/New_York:20271118T073000
DTEND;TZID=America/New_York:20271118T083000
DTSTAMP:20260422T001329
CREATED:20240711T165450Z
LAST-MODIFIED:20240920T130237Z
UID:10006667-1826523000-1826526600@standrewbytheseaumc.org
SUMMARY:Day Starters AA Group
DESCRIPTION:
URL:https://standrewbytheseaumc.org/event/day-starters-aa-group-3-2/2027-11-18/
LOCATION:Celebration Center
ATTACH;FMTTYPE=image/jpeg:/wp-content/uploads/2024/06/Group_Meeting-1000.jpg
END:VEVENT
BEGIN:VEVENT
DTSTART;TZID=America/New_York:20271119T073000
DTEND;TZID=America/New_York:20271119T083000
DTSTAMP:20260422T001329
CREATED:20240711T165450Z
LAST-MODIFIED:20240920T130237Z
UID:10006668-1826609400-1826613000@standrewbytheseaumc.org
SUMMARY:Day Starters AA Group
DESCRIPTION:
URL:https://standrewbytheseaumc.org/event/day-starters-aa-group-3-2/2027-11-19/
LOCATION:Celebration Center
ATTACH;FMTTYPE=image/jpeg:/wp-content/uploads/2024/06/Group_Meeting-1000.jpg
END:VEVENT
BEGIN:VEVENT
DTSTART;TZID=America/New_York:20271122T073000
DTEND;TZID=America/New_York:20271122T083000
DTSTAMP:20260422T001329
CREATED:20240711T165450Z
LAST-MODIFIED:20240920T130237Z
UID:10006671-1826868600-1826872200@standrewbytheseaumc.org
SUMMARY:Day Starters AA Group
DESCRIPTION:
URL:https://standrewbytheseaumc.org/event/day-starters-aa-group-3-2/2027-11-22/
LOCATION:Celebration Center
ATTACH;FMTTYPE=image/jpeg:/wp-content/uploads/2024/06/Group_Meeting-1000.jpg
END:VEVENT
BEGIN:VEVENT
DTSTART;TZID=America/New_York:20271123T073000
DTEND;TZID=America/New_York:20271123T083000
DTSTAMP:20260422T001329
CREATED:20240711T165450Z
LAST-MODIFIED:20240920T130237Z
UID:10006672-1826955000-1826958600@standrewbytheseaumc.org
SUMMARY:Day Starters AA Group
DESCRIPTION:
URL:https://standrewbytheseaumc.org/event/day-starters-aa-group-3-2/2027-11-23/
LOCATION:Celebration Center
ATTACH;FMTTYPE=image/jpeg:/wp-content/uploads/2024/06/Group_Meeting-1000.jpg
END:VEVENT
BEGIN:VEVENT
DTSTART;TZID=America/New_York:20271124T073000
DTEND;TZID=America/New_York:20271124T083000
DTSTAMP:20260422T001329
CREATED:20240711T165450Z
LAST-MODIFIED:20240920T130237Z
UID:10006673-1827041400-1827045000@standrewbytheseaumc.org
SUMMARY:Day Starters AA Group
DESCRIPTION:
URL:https://standrewbytheseaumc.org/event/day-starters-aa-group-3-2/2027-11-24/
LOCATION:Celebration Center
ATTACH;FMTTYPE=image/jpeg:/wp-content/uploads/2024/06/Group_Meeting-1000.jpg
END:VEVENT
BEGIN:VEVENT
DTSTART;TZID=America/New_York:20271125T073000
DTEND;TZID=America/New_York:20271125T083000
DTSTAMP:20260422T001329
CREATED:20240711T165450Z
LAST-MODIFIED:20240920T130237Z
UID:10006674-1827127800-1827131400@standrewbytheseaumc.org
SUMMARY:Day Starters AA Group
DESCRIPTION:
URL:https://standrewbytheseaumc.org/event/day-starters-aa-group-3-2/2027-11-25/
LOCATION:Celebration Center
ATTACH;FMTTYPE=image/jpeg:/wp-content/uploads/2024/06/Group_Meeting-1000.jpg
END:VEVENT
BEGIN:VEVENT
DTSTART;TZID=America/New_York:20271126T073000
DTEND;TZID=America/New_York:20271126T083000
DTSTAMP:20260422T001329
CREATED:20240711T165450Z
LAST-MODIFIED:20240920T130237Z
UID:10006675-1827214200-1827217800@standrewbytheseaumc.org
SUMMARY:Day Starters AA Group
DESCRIPTION:
URL:https://standrewbytheseaumc.org/event/day-starters-aa-group-3-2/2027-11-26/
LOCATION:Celebration Center
ATTACH;FMTTYPE=image/jpeg:/wp-content/uploads/2024/06/Group_Meeting-1000.jpg
END:VEVENT
BEGIN:VEVENT
DTSTART;TZID=America/New_York:20271129T073000
DTEND;TZID=America/New_York:20271129T083000
DTSTAMP:20260422T001329
CREATED:20240711T165450Z
LAST-MODIFIED:20240920T130237Z
UID:10006678-1827473400-1827477000@standrewbytheseaumc.org
SUMMARY:Day Starters AA Group
DESCRIPTION:
URL:https://standrewbytheseaumc.org/event/day-starters-aa-group-3-2/2027-11-29/
LOCATION:Celebration Center
ATTACH;FMTTYPE=image/jpeg:/wp-content/uploads/2024/06/Group_Meeting-1000.jpg
END:VEVENT
BEGIN:VEVENT
DTSTART;TZID=America/New_York:20271130T073000
DTEND;TZID=America/New_York:20271130T083000
DTSTAMP:20260422T001329
CREATED:20240711T165450Z
LAST-MODIFIED:20240920T130237Z
UID:10006679-1827559800-1827563400@standrewbytheseaumc.org
SUMMARY:Day Starters AA Group
DESCRIPTION:
URL:https://standrewbytheseaumc.org/event/day-starters-aa-group-3-2/2027-11-30/
LOCATION:Celebration Center
ATTACH;FMTTYPE=image/jpeg:/wp-content/uploads/2024/06/Group_Meeting-1000.jpg
END:VEVENT
BEGIN:VEVENT
DTSTART;TZID=America/New_York:20271201T073000
DTEND;TZID=America/New_York:20271201T083000
DTSTAMP:20260422T001329
CREATED:20240711T165450Z
LAST-MODIFIED:20240920T130237Z
UID:10006680-1827646200-1827649800@standrewbytheseaumc.org
SUMMARY:Day Starters AA Group
DESCRIPTION:
URL:https://standrewbytheseaumc.org/event/day-starters-aa-group-3-2/2027-12-01/
LOCATION:Celebration Center
ATTACH;FMTTYPE=image/jpeg:/wp-content/uploads/2024/06/Group_Meeting-1000.jpg
END:VEVENT
BEGIN:VEVENT
DTSTART;TZID=America/New_York:20271202T073000
DTEND;TZID=America/New_York:20271202T083000
DTSTAMP:20260422T001329
CREATED:20240711T165450Z
LAST-MODIFIED:20240920T130237Z
UID:10006681-1827732600-1827736200@standrewbytheseaumc.org
SUMMARY:Day Starters AA Group
DESCRIPTION:
URL:https://standrewbytheseaumc.org/event/day-starters-aa-group-3-2/2027-12-02/
LOCATION:Celebration Center
ATTACH;FMTTYPE=image/jpeg:/wp-content/uploads/2024/06/Group_Meeting-1000.jpg
END:VEVENT
BEGIN:VEVENT
DTSTART;TZID=America/New_York:20271203T073000
DTEND;TZID=America/New_York:20271203T083000
DTSTAMP:20260422T001329
CREATED:20240711T165450Z
LAST-MODIFIED:20240920T130237Z
UID:10006682-1827819000-1827822600@standrewbytheseaumc.org
SUMMARY:Day Starters AA Group
DESCRIPTION:
URL:https://standrewbytheseaumc.org/event/day-starters-aa-group-3-2/2027-12-03/
LOCATION:Celebration Center
ATTACH;FMTTYPE=image/jpeg:/wp-content/uploads/2024/06/Group_Meeting-1000.jpg
END:VEVENT
BEGIN:VEVENT
DTSTART;TZID=America/New_York:20271206T073000
DTEND;TZID=America/New_York:20271206T083000
DTSTAMP:20260422T001329
CREATED:20240711T165450Z
LAST-MODIFIED:20240920T130237Z
UID:10006685-1828078200-1828081800@standrewbytheseaumc.org
SUMMARY:Day Starters AA Group
DESCRIPTION:
URL:https://standrewbytheseaumc.org/event/day-starters-aa-group-3-2/2027-12-06/
LOCATION:Celebration Center
ATTACH;FMTTYPE=image/jpeg:/wp-content/uploads/2024/06/Group_Meeting-1000.jpg
END:VEVENT
BEGIN:VEVENT
DTSTART;TZID=America/New_York:20271207T073000
DTEND;TZID=America/New_York:20271207T083000
DTSTAMP:20260422T001329
CREATED:20240711T165450Z
LAST-MODIFIED:20240920T130237Z
UID:10006686-1828164600-1828168200@standrewbytheseaumc.org
SUMMARY:Day Starters AA Group
DESCRIPTION:
URL:https://standrewbytheseaumc.org/event/day-starters-aa-group-3-2/2027-12-07/
LOCATION:Celebration Center
ATTACH;FMTTYPE=image/jpeg:/wp-content/uploads/2024/06/Group_Meeting-1000.jpg
END:VEVENT
BEGIN:VEVENT
DTSTART;TZID=America/New_York:20271208T073000
DTEND;TZID=America/New_York:20271208T083000
DTSTAMP:20260422T001329
CREATED:20240711T165450Z
LAST-MODIFIED:20240920T130237Z
UID:10006687-1828251000-1828254600@standrewbytheseaumc.org
SUMMARY:Day Starters AA Group
DESCRIPTION:
URL:https://standrewbytheseaumc.org/event/day-starters-aa-group-3-2/2027-12-08/
LOCATION:Celebration Center
ATTACH;FMTTYPE=image/jpeg:/wp-content/uploads/2024/06/Group_Meeting-1000.jpg
END:VEVENT
BEGIN:VEVENT
DTSTART;TZID=America/New_York:20271209T073000
DTEND;TZID=America/New_York:20271209T083000
DTSTAMP:20260422T001329
CREATED:20240711T165450Z
LAST-MODIFIED:20240920T130237Z
UID:10006688-1828337400-1828341000@standrewbytheseaumc.org
SUMMARY:Day Starters AA Group
DESCRIPTION:
URL:https://standrewbytheseaumc.org/event/day-starters-aa-group-3-2/2027-12-09/
LOCATION:Celebration Center
ATTACH;FMTTYPE=image/jpeg:/wp-content/uploads/2024/06/Group_Meeting-1000.jpg
END:VEVENT
BEGIN:VEVENT
DTSTART;TZID=America/New_York:20271210T073000
DTEND;TZID=America/New_York:20271210T083000
DTSTAMP:20260422T001329
CREATED:20240711T165450Z
LAST-MODIFIED:20240920T130237Z
UID:10006689-1828423800-1828427400@standrewbytheseaumc.org
SUMMARY:Day Starters AA Group
DESCRIPTION:
URL:https://standrewbytheseaumc.org/event/day-starters-aa-group-3-2/2027-12-10/
LOCATION:Celebration Center
ATTACH;FMTTYPE=image/jpeg:/wp-content/uploads/2024/06/Group_Meeting-1000.jpg
END:VEVENT
BEGIN:VEVENT
DTSTART;TZID=America/New_York:20271213T073000
DTEND;TZID=America/New_York:20271213T083000
DTSTAMP:20260422T001329
CREATED:20240711T165450Z
LAST-MODIFIED:20240920T130237Z
UID:10006692-1828683000-1828686600@standrewbytheseaumc.org
SUMMARY:Day Starters AA Group
DESCRIPTION:
URL:https://standrewbytheseaumc.org/event/day-starters-aa-group-3-2/2027-12-13/
LOCATION:Celebration Center
ATTACH;FMTTYPE=image/jpeg:/wp-content/uploads/2024/06/Group_Meeting-1000.jpg
END:VEVENT
BEGIN:VEVENT
DTSTART;TZID=America/New_York:20271214T073000
DTEND;TZID=America/New_York:20271214T083000
DTSTAMP:20260422T001329
CREATED:20240711T165450Z
LAST-MODIFIED:20240920T130237Z
UID:10006693-1828769400-1828773000@standrewbytheseaumc.org
SUMMARY:Day Starters AA Group
DESCRIPTION:
URL:https://standrewbytheseaumc.org/event/day-starters-aa-group-3-2/2027-12-14/
LOCATION:Celebration Center
ATTACH;FMTTYPE=image/jpeg:/wp-content/uploads/2024/06/Group_Meeting-1000.jpg
END:VEVENT
BEGIN:VEVENT
DTSTART;TZID=America/New_York:20271215T073000
DTEND;TZID=America/New_York:20271215T083000
DTSTAMP:20260422T001329
CREATED:20240711T165450Z
LAST-MODIFIED:20240920T130237Z
UID:10006694-1828855800-1828859400@standrewbytheseaumc.org
SUMMARY:Day Starters AA Group
DESCRIPTION:
URL:https://standrewbytheseaumc.org/event/day-starters-aa-group-3-2/2027-12-15/
LOCATION:Celebration Center
ATTACH;FMTTYPE=image/jpeg:/wp-content/uploads/2024/06/Group_Meeting-1000.jpg
END:VEVENT
BEGIN:VEVENT
DTSTART;TZID=America/New_York:20271216T073000
DTEND;TZID=America/New_York:20271216T083000
DTSTAMP:20260422T001329
CREATED:20240711T165450Z
LAST-MODIFIED:20240920T130237Z
UID:10006695-1828942200-1828945800@standrewbytheseaumc.org
SUMMARY:Day Starters AA Group
DESCRIPTION:
URL:https://standrewbytheseaumc.org/event/day-starters-aa-group-3-2/2027-12-16/
LOCATION:Celebration Center
ATTACH;FMTTYPE=image/jpeg:/wp-content/uploads/2024/06/Group_Meeting-1000.jpg
END:VEVENT
END:VCALENDAR