BEGIN:VCALENDAR
VERSION:2.0
PRODID:-//St. Andrew By-The-Sea United Methodist Church - ECPv6.15.20//NONSGML v1.0//EN
CALSCALE:GREGORIAN
METHOD:PUBLISH
X-WR-CALNAME:St. Andrew By-The-Sea United Methodist Church
X-ORIGINAL-URL:https://standrewbytheseaumc.org
X-WR-CALDESC:Events for St. Andrew By-The-Sea United Methodist Church
REFRESH-INTERVAL;VALUE=DURATION:PT1H
X-Robots-Tag:noindex
X-PUBLISHED-TTL:PT1H
BEGIN:VTIMEZONE
TZID:America/New_York
BEGIN:DAYLIGHT
TZOFFSETFROM:-0500
TZOFFSETTO:-0400
TZNAME:EDT
DTSTART:20270314T070000
END:DAYLIGHT
BEGIN:STANDARD
TZOFFSETFROM:-0400
TZOFFSETTO:-0500
TZNAME:EST
DTSTART:20271107T060000
END:STANDARD
BEGIN:DAYLIGHT
TZOFFSETFROM:-0500
TZOFFSETTO:-0400
TZNAME:EDT
DTSTART:20280312T070000
END:DAYLIGHT
BEGIN:STANDARD
TZOFFSETFROM:-0400
TZOFFSETTO:-0500
TZNAME:EST
DTSTART:20281105T060000
END:STANDARD
BEGIN:DAYLIGHT
TZOFFSETFROM:-0500
TZOFFSETTO:-0400
TZNAME:EDT
DTSTART:20290311T070000
END:DAYLIGHT
BEGIN:STANDARD
TZOFFSETFROM:-0400
TZOFFSETTO:-0500
TZNAME:EST
DTSTART:20291104T060000
END:STANDARD
END:VTIMEZONE
BEGIN:VEVENT
DTSTART;TZID=America/New_York:20280216T073000
DTEND;TZID=America/New_York:20280216T083000
DTSTAMP:20260422T093702
CREATED:20240711T165450Z
LAST-MODIFIED:20240920T130237Z
UID:10006757-1834299000-1834302600@standrewbytheseaumc.org
SUMMARY:Day Starters AA Group
DESCRIPTION:
URL:https://standrewbytheseaumc.org/event/day-starters-aa-group-3-2/2028-02-16/
LOCATION:Celebration Center
ATTACH;FMTTYPE=image/jpeg:/wp-content/uploads/2024/06/Group_Meeting-1000.jpg
END:VEVENT
BEGIN:VEVENT
DTSTART;TZID=America/New_York:20280217T073000
DTEND;TZID=America/New_York:20280217T083000
DTSTAMP:20260422T093702
CREATED:20240711T165450Z
LAST-MODIFIED:20240920T130237Z
UID:10006758-1834385400-1834389000@standrewbytheseaumc.org
SUMMARY:Day Starters AA Group
DESCRIPTION:
URL:https://standrewbytheseaumc.org/event/day-starters-aa-group-3-2/2028-02-17/
LOCATION:Celebration Center
ATTACH;FMTTYPE=image/jpeg:/wp-content/uploads/2024/06/Group_Meeting-1000.jpg
END:VEVENT
BEGIN:VEVENT
DTSTART;TZID=America/New_York:20280218T073000
DTEND;TZID=America/New_York:20280218T083000
DTSTAMP:20260422T093702
CREATED:20240711T165450Z
LAST-MODIFIED:20240920T130237Z
UID:10006759-1834471800-1834475400@standrewbytheseaumc.org
SUMMARY:Day Starters AA Group
DESCRIPTION:
URL:https://standrewbytheseaumc.org/event/day-starters-aa-group-3-2/2028-02-18/
LOCATION:Celebration Center
ATTACH;FMTTYPE=image/jpeg:/wp-content/uploads/2024/06/Group_Meeting-1000.jpg
END:VEVENT
BEGIN:VEVENT
DTSTART;TZID=America/New_York:20280221T073000
DTEND;TZID=America/New_York:20280221T083000
DTSTAMP:20260422T093702
CREATED:20240711T165450Z
LAST-MODIFIED:20240920T130237Z
UID:10006762-1834731000-1834734600@standrewbytheseaumc.org
SUMMARY:Day Starters AA Group
DESCRIPTION:
URL:https://standrewbytheseaumc.org/event/day-starters-aa-group-3-2/2028-02-21/
LOCATION:Celebration Center
ATTACH;FMTTYPE=image/jpeg:/wp-content/uploads/2024/06/Group_Meeting-1000.jpg
END:VEVENT
BEGIN:VEVENT
DTSTART;TZID=America/New_York:20280222T073000
DTEND;TZID=America/New_York:20280222T083000
DTSTAMP:20260422T093702
CREATED:20240711T165450Z
LAST-MODIFIED:20240920T130237Z
UID:10006763-1834817400-1834821000@standrewbytheseaumc.org
SUMMARY:Day Starters AA Group
DESCRIPTION:
URL:https://standrewbytheseaumc.org/event/day-starters-aa-group-3-2/2028-02-22/
LOCATION:Celebration Center
ATTACH;FMTTYPE=image/jpeg:/wp-content/uploads/2024/06/Group_Meeting-1000.jpg
END:VEVENT
BEGIN:VEVENT
DTSTART;TZID=America/New_York:20280223T073000
DTEND;TZID=America/New_York:20280223T083000
DTSTAMP:20260422T093702
CREATED:20240711T165450Z
LAST-MODIFIED:20240920T130237Z
UID:10006764-1834903800-1834907400@standrewbytheseaumc.org
SUMMARY:Day Starters AA Group
DESCRIPTION:
URL:https://standrewbytheseaumc.org/event/day-starters-aa-group-3-2/2028-02-23/
LOCATION:Celebration Center
ATTACH;FMTTYPE=image/jpeg:/wp-content/uploads/2024/06/Group_Meeting-1000.jpg
END:VEVENT
BEGIN:VEVENT
DTSTART;TZID=America/New_York:20280224T073000
DTEND;TZID=America/New_York:20280224T083000
DTSTAMP:20260422T093702
CREATED:20240711T165450Z
LAST-MODIFIED:20240920T130237Z
UID:10006765-1834990200-1834993800@standrewbytheseaumc.org
SUMMARY:Day Starters AA Group
DESCRIPTION:
URL:https://standrewbytheseaumc.org/event/day-starters-aa-group-3-2/2028-02-24/
LOCATION:Celebration Center
ATTACH;FMTTYPE=image/jpeg:/wp-content/uploads/2024/06/Group_Meeting-1000.jpg
END:VEVENT
BEGIN:VEVENT
DTSTART;TZID=America/New_York:20280225T073000
DTEND;TZID=America/New_York:20280225T083000
DTSTAMP:20260422T093702
CREATED:20240711T165450Z
LAST-MODIFIED:20240920T130237Z
UID:10006766-1835076600-1835080200@standrewbytheseaumc.org
SUMMARY:Day Starters AA Group
DESCRIPTION:
URL:https://standrewbytheseaumc.org/event/day-starters-aa-group-3-2/2028-02-25/
LOCATION:Celebration Center
ATTACH;FMTTYPE=image/jpeg:/wp-content/uploads/2024/06/Group_Meeting-1000.jpg
END:VEVENT
BEGIN:VEVENT
DTSTART;TZID=America/New_York:20280228T073000
DTEND;TZID=America/New_York:20280228T083000
DTSTAMP:20260422T093702
CREATED:20240711T165450Z
LAST-MODIFIED:20240920T130237Z
UID:10006769-1835335800-1835339400@standrewbytheseaumc.org
SUMMARY:Day Starters AA Group
DESCRIPTION:
URL:https://standrewbytheseaumc.org/event/day-starters-aa-group-3-2/2028-02-28/
LOCATION:Celebration Center
ATTACH;FMTTYPE=image/jpeg:/wp-content/uploads/2024/06/Group_Meeting-1000.jpg
END:VEVENT
BEGIN:VEVENT
DTSTART;TZID=America/New_York:20280229T073000
DTEND;TZID=America/New_York:20280229T083000
DTSTAMP:20260422T093702
CREATED:20240711T165450Z
LAST-MODIFIED:20240920T130237Z
UID:10006770-1835422200-1835425800@standrewbytheseaumc.org
SUMMARY:Day Starters AA Group
DESCRIPTION:
URL:https://standrewbytheseaumc.org/event/day-starters-aa-group-3-2/2028-02-29/
LOCATION:Celebration Center
ATTACH;FMTTYPE=image/jpeg:/wp-content/uploads/2024/06/Group_Meeting-1000.jpg
END:VEVENT
BEGIN:VEVENT
DTSTART;TZID=America/New_York:20280301T073000
DTEND;TZID=America/New_York:20280301T083000
DTSTAMP:20260422T093702
CREATED:20240711T165450Z
LAST-MODIFIED:20240920T130237Z
UID:10006771-1835508600-1835512200@standrewbytheseaumc.org
SUMMARY:Day Starters AA Group
DESCRIPTION:
URL:https://standrewbytheseaumc.org/event/day-starters-aa-group-3-2/2028-03-01/
LOCATION:Celebration Center
ATTACH;FMTTYPE=image/jpeg:/wp-content/uploads/2024/06/Group_Meeting-1000.jpg
END:VEVENT
BEGIN:VEVENT
DTSTART;TZID=America/New_York:20280302T073000
DTEND;TZID=America/New_York:20280302T083000
DTSTAMP:20260422T093702
CREATED:20240711T165450Z
LAST-MODIFIED:20240920T130237Z
UID:10006772-1835595000-1835598600@standrewbytheseaumc.org
SUMMARY:Day Starters AA Group
DESCRIPTION:
URL:https://standrewbytheseaumc.org/event/day-starters-aa-group-3-2/2028-03-02/
LOCATION:Celebration Center
ATTACH;FMTTYPE=image/jpeg:/wp-content/uploads/2024/06/Group_Meeting-1000.jpg
END:VEVENT
BEGIN:VEVENT
DTSTART;TZID=America/New_York:20280303T073000
DTEND;TZID=America/New_York:20280303T083000
DTSTAMP:20260422T093702
CREATED:20240711T165450Z
LAST-MODIFIED:20240920T130237Z
UID:10006773-1835681400-1835685000@standrewbytheseaumc.org
SUMMARY:Day Starters AA Group
DESCRIPTION:
URL:https://standrewbytheseaumc.org/event/day-starters-aa-group-3-2/2028-03-03/
LOCATION:Celebration Center
ATTACH;FMTTYPE=image/jpeg:/wp-content/uploads/2024/06/Group_Meeting-1000.jpg
END:VEVENT
BEGIN:VEVENT
DTSTART;TZID=America/New_York:20280306T073000
DTEND;TZID=America/New_York:20280306T083000
DTSTAMP:20260422T093702
CREATED:20240711T165450Z
LAST-MODIFIED:20240920T130237Z
UID:10006776-1835940600-1835944200@standrewbytheseaumc.org
SUMMARY:Day Starters AA Group
DESCRIPTION:
URL:https://standrewbytheseaumc.org/event/day-starters-aa-group-3-2/2028-03-06/
LOCATION:Celebration Center
ATTACH;FMTTYPE=image/jpeg:/wp-content/uploads/2024/06/Group_Meeting-1000.jpg
END:VEVENT
BEGIN:VEVENT
DTSTART;TZID=America/New_York:20280307T073000
DTEND;TZID=America/New_York:20280307T083000
DTSTAMP:20260422T093702
CREATED:20240711T165450Z
LAST-MODIFIED:20240920T130237Z
UID:10006777-1836027000-1836030600@standrewbytheseaumc.org
SUMMARY:Day Starters AA Group
DESCRIPTION:
URL:https://standrewbytheseaumc.org/event/day-starters-aa-group-3-2/2028-03-07/
LOCATION:Celebration Center
ATTACH;FMTTYPE=image/jpeg:/wp-content/uploads/2024/06/Group_Meeting-1000.jpg
END:VEVENT
BEGIN:VEVENT
DTSTART;TZID=America/New_York:20280308T073000
DTEND;TZID=America/New_York:20280308T083000
DTSTAMP:20260422T093702
CREATED:20240711T165450Z
LAST-MODIFIED:20240920T130237Z
UID:10006778-1836113400-1836117000@standrewbytheseaumc.org
SUMMARY:Day Starters AA Group
DESCRIPTION:
URL:https://standrewbytheseaumc.org/event/day-starters-aa-group-3-2/2028-03-08/
LOCATION:Celebration Center
ATTACH;FMTTYPE=image/jpeg:/wp-content/uploads/2024/06/Group_Meeting-1000.jpg
END:VEVENT
BEGIN:VEVENT
DTSTART;TZID=America/New_York:20280309T073000
DTEND;TZID=America/New_York:20280309T083000
DTSTAMP:20260422T093702
CREATED:20240711T165450Z
LAST-MODIFIED:20240920T130237Z
UID:10006779-1836199800-1836203400@standrewbytheseaumc.org
SUMMARY:Day Starters AA Group
DESCRIPTION:
URL:https://standrewbytheseaumc.org/event/day-starters-aa-group-3-2/2028-03-09/
LOCATION:Celebration Center
ATTACH;FMTTYPE=image/jpeg:/wp-content/uploads/2024/06/Group_Meeting-1000.jpg
END:VEVENT
BEGIN:VEVENT
DTSTART;TZID=America/New_York:20280310T073000
DTEND;TZID=America/New_York:20280310T083000
DTSTAMP:20260422T093702
CREATED:20240711T165450Z
LAST-MODIFIED:20240920T130237Z
UID:10006780-1836286200-1836289800@standrewbytheseaumc.org
SUMMARY:Day Starters AA Group
DESCRIPTION:
URL:https://standrewbytheseaumc.org/event/day-starters-aa-group-3-2/2028-03-10/
LOCATION:Celebration Center
ATTACH;FMTTYPE=image/jpeg:/wp-content/uploads/2024/06/Group_Meeting-1000.jpg
END:VEVENT
BEGIN:VEVENT
DTSTART;TZID=America/New_York:20280313T073000
DTEND;TZID=America/New_York:20280313T083000
DTSTAMP:20260422T093702
CREATED:20240711T165450Z
LAST-MODIFIED:20240920T130237Z
UID:10006783-1836545400-1836549000@standrewbytheseaumc.org
SUMMARY:Day Starters AA Group
DESCRIPTION:
URL:https://standrewbytheseaumc.org/event/day-starters-aa-group-3-2/2028-03-13/
LOCATION:Celebration Center
ATTACH;FMTTYPE=image/jpeg:/wp-content/uploads/2024/06/Group_Meeting-1000.jpg
END:VEVENT
BEGIN:VEVENT
DTSTART;TZID=America/New_York:20280314T073000
DTEND;TZID=America/New_York:20280314T083000
DTSTAMP:20260422T093702
CREATED:20240711T165450Z
LAST-MODIFIED:20240920T130237Z
UID:10006784-1836631800-1836635400@standrewbytheseaumc.org
SUMMARY:Day Starters AA Group
DESCRIPTION:
URL:https://standrewbytheseaumc.org/event/day-starters-aa-group-3-2/2028-03-14/
LOCATION:Celebration Center
ATTACH;FMTTYPE=image/jpeg:/wp-content/uploads/2024/06/Group_Meeting-1000.jpg
END:VEVENT
BEGIN:VEVENT
DTSTART;TZID=America/New_York:20280315T073000
DTEND;TZID=America/New_York:20280315T083000
DTSTAMP:20260422T093702
CREATED:20240711T165450Z
LAST-MODIFIED:20240920T130237Z
UID:10006785-1836718200-1836721800@standrewbytheseaumc.org
SUMMARY:Day Starters AA Group
DESCRIPTION:
URL:https://standrewbytheseaumc.org/event/day-starters-aa-group-3-2/2028-03-15/
LOCATION:Celebration Center
ATTACH;FMTTYPE=image/jpeg:/wp-content/uploads/2024/06/Group_Meeting-1000.jpg
END:VEVENT
BEGIN:VEVENT
DTSTART;TZID=America/New_York:20280316T073000
DTEND;TZID=America/New_York:20280316T083000
DTSTAMP:20260422T093702
CREATED:20240711T165450Z
LAST-MODIFIED:20240920T130237Z
UID:10006786-1836804600-1836808200@standrewbytheseaumc.org
SUMMARY:Day Starters AA Group
DESCRIPTION:
URL:https://standrewbytheseaumc.org/event/day-starters-aa-group-3-2/2028-03-16/
LOCATION:Celebration Center
ATTACH;FMTTYPE=image/jpeg:/wp-content/uploads/2024/06/Group_Meeting-1000.jpg
END:VEVENT
BEGIN:VEVENT
DTSTART;TZID=America/New_York:20280317T073000
DTEND;TZID=America/New_York:20280317T083000
DTSTAMP:20260422T093702
CREATED:20240711T165450Z
LAST-MODIFIED:20240920T130237Z
UID:10006787-1836891000-1836894600@standrewbytheseaumc.org
SUMMARY:Day Starters AA Group
DESCRIPTION:
URL:https://standrewbytheseaumc.org/event/day-starters-aa-group-3-2/2028-03-17/
LOCATION:Celebration Center
ATTACH;FMTTYPE=image/jpeg:/wp-content/uploads/2024/06/Group_Meeting-1000.jpg
END:VEVENT
BEGIN:VEVENT
DTSTART;TZID=America/New_York:20280320T073000
DTEND;TZID=America/New_York:20280320T083000
DTSTAMP:20260422T093702
CREATED:20240711T165450Z
LAST-MODIFIED:20240920T130237Z
UID:10006790-1837150200-1837153800@standrewbytheseaumc.org
SUMMARY:Day Starters AA Group
DESCRIPTION:
URL:https://standrewbytheseaumc.org/event/day-starters-aa-group-3-2/2028-03-20/
LOCATION:Celebration Center
ATTACH;FMTTYPE=image/jpeg:/wp-content/uploads/2024/06/Group_Meeting-1000.jpg
END:VEVENT
BEGIN:VEVENT
DTSTART;TZID=America/New_York:20280321T073000
DTEND;TZID=America/New_York:20280321T083000
DTSTAMP:20260422T093702
CREATED:20240711T165450Z
LAST-MODIFIED:20240920T130237Z
UID:10006791-1837236600-1837240200@standrewbytheseaumc.org
SUMMARY:Day Starters AA Group
DESCRIPTION:
URL:https://standrewbytheseaumc.org/event/day-starters-aa-group-3-2/2028-03-21/
LOCATION:Celebration Center
ATTACH;FMTTYPE=image/jpeg:/wp-content/uploads/2024/06/Group_Meeting-1000.jpg
END:VEVENT
BEGIN:VEVENT
DTSTART;TZID=America/New_York:20280322T073000
DTEND;TZID=America/New_York:20280322T083000
DTSTAMP:20260422T093702
CREATED:20240711T165450Z
LAST-MODIFIED:20240920T130237Z
UID:10006792-1837323000-1837326600@standrewbytheseaumc.org
SUMMARY:Day Starters AA Group
DESCRIPTION:
URL:https://standrewbytheseaumc.org/event/day-starters-aa-group-3-2/2028-03-22/
LOCATION:Celebration Center
ATTACH;FMTTYPE=image/jpeg:/wp-content/uploads/2024/06/Group_Meeting-1000.jpg
END:VEVENT
BEGIN:VEVENT
DTSTART;TZID=America/New_York:20280323T073000
DTEND;TZID=America/New_York:20280323T083000
DTSTAMP:20260422T093702
CREATED:20240711T165450Z
LAST-MODIFIED:20240920T130237Z
UID:10006793-1837409400-1837413000@standrewbytheseaumc.org
SUMMARY:Day Starters AA Group
DESCRIPTION:
URL:https://standrewbytheseaumc.org/event/day-starters-aa-group-3-2/2028-03-23/
LOCATION:Celebration Center
ATTACH;FMTTYPE=image/jpeg:/wp-content/uploads/2024/06/Group_Meeting-1000.jpg
END:VEVENT
BEGIN:VEVENT
DTSTART;TZID=America/New_York:20280324T073000
DTEND;TZID=America/New_York:20280324T083000
DTSTAMP:20260422T093702
CREATED:20240711T165450Z
LAST-MODIFIED:20240920T130237Z
UID:10006794-1837495800-1837499400@standrewbytheseaumc.org
SUMMARY:Day Starters AA Group
DESCRIPTION:
URL:https://standrewbytheseaumc.org/event/day-starters-aa-group-3-2/2028-03-24/
LOCATION:Celebration Center
ATTACH;FMTTYPE=image/jpeg:/wp-content/uploads/2024/06/Group_Meeting-1000.jpg
END:VEVENT
BEGIN:VEVENT
DTSTART;TZID=America/New_York:20280327T073000
DTEND;TZID=America/New_York:20280327T083000
DTSTAMP:20260422T093702
CREATED:20240711T165450Z
LAST-MODIFIED:20240920T130237Z
UID:10006797-1837755000-1837758600@standrewbytheseaumc.org
SUMMARY:Day Starters AA Group
DESCRIPTION:
URL:https://standrewbytheseaumc.org/event/day-starters-aa-group-3-2/2028-03-27/
LOCATION:Celebration Center
ATTACH;FMTTYPE=image/jpeg:/wp-content/uploads/2024/06/Group_Meeting-1000.jpg
END:VEVENT
BEGIN:VEVENT
DTSTART;TZID=America/New_York:20280328T073000
DTEND;TZID=America/New_York:20280328T083000
DTSTAMP:20260422T093702
CREATED:20240711T165450Z
LAST-MODIFIED:20240920T130237Z
UID:10006798-1837841400-1837845000@standrewbytheseaumc.org
SUMMARY:Day Starters AA Group
DESCRIPTION:
URL:https://standrewbytheseaumc.org/event/day-starters-aa-group-3-2/2028-03-28/
LOCATION:Celebration Center
ATTACH;FMTTYPE=image/jpeg:/wp-content/uploads/2024/06/Group_Meeting-1000.jpg
END:VEVENT
END:VCALENDAR