BEGIN:VCALENDAR
VERSION:2.0
PRODID:-//St. Andrew By-The-Sea United Methodist Church - ECPv6.15.20//NONSGML v1.0//EN
CALSCALE:GREGORIAN
METHOD:PUBLISH
X-ORIGINAL-URL:https://standrewbytheseaumc.org
X-WR-CALDESC:Events for St. Andrew By-The-Sea United Methodist Church
REFRESH-INTERVAL;VALUE=DURATION:PT1H
X-Robots-Tag:noindex
X-PUBLISHED-TTL:PT1H
BEGIN:VTIMEZONE
TZID:America/New_York
BEGIN:DAYLIGHT
TZOFFSETFROM:-0500
TZOFFSETTO:-0400
TZNAME:EDT
DTSTART:20270314T070000
END:DAYLIGHT
BEGIN:STANDARD
TZOFFSETFROM:-0400
TZOFFSETTO:-0500
TZNAME:EST
DTSTART:20271107T060000
END:STANDARD
BEGIN:DAYLIGHT
TZOFFSETFROM:-0500
TZOFFSETTO:-0400
TZNAME:EDT
DTSTART:20280312T070000
END:DAYLIGHT
BEGIN:STANDARD
TZOFFSETFROM:-0400
TZOFFSETTO:-0500
TZNAME:EST
DTSTART:20281105T060000
END:STANDARD
BEGIN:DAYLIGHT
TZOFFSETFROM:-0500
TZOFFSETTO:-0400
TZNAME:EDT
DTSTART:20290311T070000
END:DAYLIGHT
BEGIN:STANDARD
TZOFFSETFROM:-0400
TZOFFSETTO:-0500
TZNAME:EST
DTSTART:20291104T060000
END:STANDARD
END:VTIMEZONE
BEGIN:VEVENT
DTSTART;TZID=America/New_York:20280321T073000
DTEND;TZID=America/New_York:20280321T083000
DTSTAMP:20260422T123242
CREATED:20240711T165450Z
LAST-MODIFIED:20240920T130237Z
UID:10006791-1837236600-1837240200@standrewbytheseaumc.org
SUMMARY:Day Starters AA Group
DESCRIPTION:
URL:https://standrewbytheseaumc.org/event/day-starters-aa-group-3-2/2028-03-21/
LOCATION:Celebration Center
ATTACH;FMTTYPE=image/jpeg:/wp-content/uploads/2024/06/Group_Meeting-1000.jpg
END:VEVENT
BEGIN:VEVENT
DTSTART;TZID=America/New_York:20280322T073000
DTEND;TZID=America/New_York:20280322T083000
DTSTAMP:20260422T123242
CREATED:20240711T165450Z
LAST-MODIFIED:20240920T130237Z
UID:10006792-1837323000-1837326600@standrewbytheseaumc.org
SUMMARY:Day Starters AA Group
DESCRIPTION:
URL:https://standrewbytheseaumc.org/event/day-starters-aa-group-3-2/2028-03-22/
LOCATION:Celebration Center
ATTACH;FMTTYPE=image/jpeg:/wp-content/uploads/2024/06/Group_Meeting-1000.jpg
END:VEVENT
BEGIN:VEVENT
DTSTART;TZID=America/New_York:20280323T073000
DTEND;TZID=America/New_York:20280323T083000
DTSTAMP:20260422T123242
CREATED:20240711T165450Z
LAST-MODIFIED:20240920T130237Z
UID:10006793-1837409400-1837413000@standrewbytheseaumc.org
SUMMARY:Day Starters AA Group
DESCRIPTION:
URL:https://standrewbytheseaumc.org/event/day-starters-aa-group-3-2/2028-03-23/
LOCATION:Celebration Center
ATTACH;FMTTYPE=image/jpeg:/wp-content/uploads/2024/06/Group_Meeting-1000.jpg
END:VEVENT
BEGIN:VEVENT
DTSTART;TZID=America/New_York:20280324T073000
DTEND;TZID=America/New_York:20280324T083000
DTSTAMP:20260422T123242
CREATED:20240711T165450Z
LAST-MODIFIED:20240920T130237Z
UID:10006794-1837495800-1837499400@standrewbytheseaumc.org
SUMMARY:Day Starters AA Group
DESCRIPTION:
URL:https://standrewbytheseaumc.org/event/day-starters-aa-group-3-2/2028-03-24/
LOCATION:Celebration Center
ATTACH;FMTTYPE=image/jpeg:/wp-content/uploads/2024/06/Group_Meeting-1000.jpg
END:VEVENT
BEGIN:VEVENT
DTSTART;TZID=America/New_York:20280327T073000
DTEND;TZID=America/New_York:20280327T083000
DTSTAMP:20260422T123242
CREATED:20240711T165450Z
LAST-MODIFIED:20240920T130237Z
UID:10006797-1837755000-1837758600@standrewbytheseaumc.org
SUMMARY:Day Starters AA Group
DESCRIPTION:
URL:https://standrewbytheseaumc.org/event/day-starters-aa-group-3-2/2028-03-27/
LOCATION:Celebration Center
ATTACH;FMTTYPE=image/jpeg:/wp-content/uploads/2024/06/Group_Meeting-1000.jpg
END:VEVENT
BEGIN:VEVENT
DTSTART;TZID=America/New_York:20280328T073000
DTEND;TZID=America/New_York:20280328T083000
DTSTAMP:20260422T123242
CREATED:20240711T165450Z
LAST-MODIFIED:20240920T130237Z
UID:10006798-1837841400-1837845000@standrewbytheseaumc.org
SUMMARY:Day Starters AA Group
DESCRIPTION:
URL:https://standrewbytheseaumc.org/event/day-starters-aa-group-3-2/2028-03-28/
LOCATION:Celebration Center
ATTACH;FMTTYPE=image/jpeg:/wp-content/uploads/2024/06/Group_Meeting-1000.jpg
END:VEVENT
BEGIN:VEVENT
DTSTART;TZID=America/New_York:20280329T073000
DTEND;TZID=America/New_York:20280329T083000
DTSTAMP:20260422T123242
CREATED:20240711T165450Z
LAST-MODIFIED:20240920T130237Z
UID:10006799-1837927800-1837931400@standrewbytheseaumc.org
SUMMARY:Day Starters AA Group
DESCRIPTION:
URL:https://standrewbytheseaumc.org/event/day-starters-aa-group-3-2/2028-03-29/
LOCATION:Celebration Center
ATTACH;FMTTYPE=image/jpeg:/wp-content/uploads/2024/06/Group_Meeting-1000.jpg
END:VEVENT
BEGIN:VEVENT
DTSTART;TZID=America/New_York:20280330T073000
DTEND;TZID=America/New_York:20280330T083000
DTSTAMP:20260422T123242
CREATED:20240711T165450Z
LAST-MODIFIED:20240920T130237Z
UID:10006800-1838014200-1838017800@standrewbytheseaumc.org
SUMMARY:Day Starters AA Group
DESCRIPTION:
URL:https://standrewbytheseaumc.org/event/day-starters-aa-group-3-2/2028-03-30/
LOCATION:Celebration Center
ATTACH;FMTTYPE=image/jpeg:/wp-content/uploads/2024/06/Group_Meeting-1000.jpg
END:VEVENT
BEGIN:VEVENT
DTSTART;TZID=America/New_York:20280331T073000
DTEND;TZID=America/New_York:20280331T083000
DTSTAMP:20260422T123242
CREATED:20240711T165450Z
LAST-MODIFIED:20240920T130237Z
UID:10006801-1838100600-1838104200@standrewbytheseaumc.org
SUMMARY:Day Starters AA Group
DESCRIPTION:
URL:https://standrewbytheseaumc.org/event/day-starters-aa-group-3-2/2028-03-31/
LOCATION:Celebration Center
ATTACH;FMTTYPE=image/jpeg:/wp-content/uploads/2024/06/Group_Meeting-1000.jpg
END:VEVENT
BEGIN:VEVENT
DTSTART;TZID=America/New_York:20280403T073000
DTEND;TZID=America/New_York:20280403T083000
DTSTAMP:20260422T123242
CREATED:20240711T165450Z
LAST-MODIFIED:20240920T130237Z
UID:10006804-1838359800-1838363400@standrewbytheseaumc.org
SUMMARY:Day Starters AA Group
DESCRIPTION:
URL:https://standrewbytheseaumc.org/event/day-starters-aa-group-3-2/2028-04-03/
LOCATION:Celebration Center
ATTACH;FMTTYPE=image/jpeg:/wp-content/uploads/2024/06/Group_Meeting-1000.jpg
END:VEVENT
BEGIN:VEVENT
DTSTART;TZID=America/New_York:20280404T073000
DTEND;TZID=America/New_York:20280404T083000
DTSTAMP:20260422T123242
CREATED:20240711T165450Z
LAST-MODIFIED:20240920T130237Z
UID:10006805-1838446200-1838449800@standrewbytheseaumc.org
SUMMARY:Day Starters AA Group
DESCRIPTION:
URL:https://standrewbytheseaumc.org/event/day-starters-aa-group-3-2/2028-04-04/
LOCATION:Celebration Center
ATTACH;FMTTYPE=image/jpeg:/wp-content/uploads/2024/06/Group_Meeting-1000.jpg
END:VEVENT
BEGIN:VEVENT
DTSTART;TZID=America/New_York:20280405T073000
DTEND;TZID=America/New_York:20280405T083000
DTSTAMP:20260422T123242
CREATED:20240711T165450Z
LAST-MODIFIED:20240920T130237Z
UID:10006806-1838532600-1838536200@standrewbytheseaumc.org
SUMMARY:Day Starters AA Group
DESCRIPTION:
URL:https://standrewbytheseaumc.org/event/day-starters-aa-group-3-2/2028-04-05/
LOCATION:Celebration Center
ATTACH;FMTTYPE=image/jpeg:/wp-content/uploads/2024/06/Group_Meeting-1000.jpg
END:VEVENT
BEGIN:VEVENT
DTSTART;TZID=America/New_York:20280406T073000
DTEND;TZID=America/New_York:20280406T083000
DTSTAMP:20260422T123242
CREATED:20240711T165450Z
LAST-MODIFIED:20240920T130237Z
UID:10006807-1838619000-1838622600@standrewbytheseaumc.org
SUMMARY:Day Starters AA Group
DESCRIPTION:
URL:https://standrewbytheseaumc.org/event/day-starters-aa-group-3-2/2028-04-06/
LOCATION:Celebration Center
ATTACH;FMTTYPE=image/jpeg:/wp-content/uploads/2024/06/Group_Meeting-1000.jpg
END:VEVENT
BEGIN:VEVENT
DTSTART;TZID=America/New_York:20280407T073000
DTEND;TZID=America/New_York:20280407T083000
DTSTAMP:20260422T123242
CREATED:20240711T165450Z
LAST-MODIFIED:20240920T130237Z
UID:10006808-1838705400-1838709000@standrewbytheseaumc.org
SUMMARY:Day Starters AA Group
DESCRIPTION:
URL:https://standrewbytheseaumc.org/event/day-starters-aa-group-3-2/2028-04-07/
LOCATION:Celebration Center
ATTACH;FMTTYPE=image/jpeg:/wp-content/uploads/2024/06/Group_Meeting-1000.jpg
END:VEVENT
BEGIN:VEVENT
DTSTART;TZID=America/New_York:20280410T073000
DTEND;TZID=America/New_York:20280410T083000
DTSTAMP:20260422T123242
CREATED:20240711T165450Z
LAST-MODIFIED:20240920T130237Z
UID:10006811-1838964600-1838968200@standrewbytheseaumc.org
SUMMARY:Day Starters AA Group
DESCRIPTION:
URL:https://standrewbytheseaumc.org/event/day-starters-aa-group-3-2/2028-04-10/
LOCATION:Celebration Center
ATTACH;FMTTYPE=image/jpeg:/wp-content/uploads/2024/06/Group_Meeting-1000.jpg
END:VEVENT
BEGIN:VEVENT
DTSTART;TZID=America/New_York:20280411T073000
DTEND;TZID=America/New_York:20280411T083000
DTSTAMP:20260422T123242
CREATED:20240711T165450Z
LAST-MODIFIED:20240920T130237Z
UID:10006812-1839051000-1839054600@standrewbytheseaumc.org
SUMMARY:Day Starters AA Group
DESCRIPTION:
URL:https://standrewbytheseaumc.org/event/day-starters-aa-group-3-2/2028-04-11/
LOCATION:Celebration Center
ATTACH;FMTTYPE=image/jpeg:/wp-content/uploads/2024/06/Group_Meeting-1000.jpg
END:VEVENT
BEGIN:VEVENT
DTSTART;TZID=America/New_York:20280412T073000
DTEND;TZID=America/New_York:20280412T083000
DTSTAMP:20260422T123242
CREATED:20240711T165450Z
LAST-MODIFIED:20240920T130237Z
UID:10006813-1839137400-1839141000@standrewbytheseaumc.org
SUMMARY:Day Starters AA Group
DESCRIPTION:
URL:https://standrewbytheseaumc.org/event/day-starters-aa-group-3-2/2028-04-12/
LOCATION:Celebration Center
ATTACH;FMTTYPE=image/jpeg:/wp-content/uploads/2024/06/Group_Meeting-1000.jpg
END:VEVENT
BEGIN:VEVENT
DTSTART;TZID=America/New_York:20280413T073000
DTEND;TZID=America/New_York:20280413T083000
DTSTAMP:20260422T123242
CREATED:20240711T165450Z
LAST-MODIFIED:20240920T130237Z
UID:10006814-1839223800-1839227400@standrewbytheseaumc.org
SUMMARY:Day Starters AA Group
DESCRIPTION:
URL:https://standrewbytheseaumc.org/event/day-starters-aa-group-3-2/2028-04-13/
LOCATION:Celebration Center
ATTACH;FMTTYPE=image/jpeg:/wp-content/uploads/2024/06/Group_Meeting-1000.jpg
END:VEVENT
BEGIN:VEVENT
DTSTART;TZID=America/New_York:20280414T073000
DTEND;TZID=America/New_York:20280414T083000
DTSTAMP:20260422T123242
CREATED:20240711T165450Z
LAST-MODIFIED:20240920T130237Z
UID:10006815-1839310200-1839313800@standrewbytheseaumc.org
SUMMARY:Day Starters AA Group
DESCRIPTION:
URL:https://standrewbytheseaumc.org/event/day-starters-aa-group-3-2/2028-04-14/
LOCATION:Celebration Center
ATTACH;FMTTYPE=image/jpeg:/wp-content/uploads/2024/06/Group_Meeting-1000.jpg
END:VEVENT
BEGIN:VEVENT
DTSTART;TZID=America/New_York:20280417T073000
DTEND;TZID=America/New_York:20280417T083000
DTSTAMP:20260422T123242
CREATED:20240711T165450Z
LAST-MODIFIED:20240920T130237Z
UID:10006818-1839569400-1839573000@standrewbytheseaumc.org
SUMMARY:Day Starters AA Group
DESCRIPTION:
URL:https://standrewbytheseaumc.org/event/day-starters-aa-group-3-2/2028-04-17/
LOCATION:Celebration Center
ATTACH;FMTTYPE=image/jpeg:/wp-content/uploads/2024/06/Group_Meeting-1000.jpg
END:VEVENT
BEGIN:VEVENT
DTSTART;TZID=America/New_York:20280418T073000
DTEND;TZID=America/New_York:20280418T083000
DTSTAMP:20260422T123242
CREATED:20240711T165450Z
LAST-MODIFIED:20240920T130237Z
UID:10006819-1839655800-1839659400@standrewbytheseaumc.org
SUMMARY:Day Starters AA Group
DESCRIPTION:
URL:https://standrewbytheseaumc.org/event/day-starters-aa-group-3-2/2028-04-18/
LOCATION:Celebration Center
ATTACH;FMTTYPE=image/jpeg:/wp-content/uploads/2024/06/Group_Meeting-1000.jpg
END:VEVENT
BEGIN:VEVENT
DTSTART;TZID=America/New_York:20280419T073000
DTEND;TZID=America/New_York:20280419T083000
DTSTAMP:20260422T123242
CREATED:20240711T165450Z
LAST-MODIFIED:20240920T130237Z
UID:10006820-1839742200-1839745800@standrewbytheseaumc.org
SUMMARY:Day Starters AA Group
DESCRIPTION:
URL:https://standrewbytheseaumc.org/event/day-starters-aa-group-3-2/2028-04-19/
LOCATION:Celebration Center
ATTACH;FMTTYPE=image/jpeg:/wp-content/uploads/2024/06/Group_Meeting-1000.jpg
END:VEVENT
BEGIN:VEVENT
DTSTART;TZID=America/New_York:20280420T073000
DTEND;TZID=America/New_York:20280420T083000
DTSTAMP:20260422T123242
CREATED:20240711T165450Z
LAST-MODIFIED:20240920T130237Z
UID:10006821-1839828600-1839832200@standrewbytheseaumc.org
SUMMARY:Day Starters AA Group
DESCRIPTION:
URL:https://standrewbytheseaumc.org/event/day-starters-aa-group-3-2/2028-04-20/
LOCATION:Celebration Center
ATTACH;FMTTYPE=image/jpeg:/wp-content/uploads/2024/06/Group_Meeting-1000.jpg
END:VEVENT
BEGIN:VEVENT
DTSTART;TZID=America/New_York:20280421T073000
DTEND;TZID=America/New_York:20280421T083000
DTSTAMP:20260422T123242
CREATED:20240711T165450Z
LAST-MODIFIED:20240920T130237Z
UID:10006822-1839915000-1839918600@standrewbytheseaumc.org
SUMMARY:Day Starters AA Group
DESCRIPTION:
URL:https://standrewbytheseaumc.org/event/day-starters-aa-group-3-2/2028-04-21/
LOCATION:Celebration Center
ATTACH;FMTTYPE=image/jpeg:/wp-content/uploads/2024/06/Group_Meeting-1000.jpg
END:VEVENT
BEGIN:VEVENT
DTSTART;TZID=America/New_York:20280424T073000
DTEND;TZID=America/New_York:20280424T083000
DTSTAMP:20260422T123242
CREATED:20240711T165450Z
LAST-MODIFIED:20240920T130237Z
UID:10006825-1840174200-1840177800@standrewbytheseaumc.org
SUMMARY:Day Starters AA Group
DESCRIPTION:
URL:https://standrewbytheseaumc.org/event/day-starters-aa-group-3-2/2028-04-24/
LOCATION:Celebration Center
ATTACH;FMTTYPE=image/jpeg:/wp-content/uploads/2024/06/Group_Meeting-1000.jpg
END:VEVENT
BEGIN:VEVENT
DTSTART;TZID=America/New_York:20280425T073000
DTEND;TZID=America/New_York:20280425T083000
DTSTAMP:20260422T123242
CREATED:20240711T165450Z
LAST-MODIFIED:20240920T130237Z
UID:10006826-1840260600-1840264200@standrewbytheseaumc.org
SUMMARY:Day Starters AA Group
DESCRIPTION:
URL:https://standrewbytheseaumc.org/event/day-starters-aa-group-3-2/2028-04-25/
LOCATION:Celebration Center
ATTACH;FMTTYPE=image/jpeg:/wp-content/uploads/2024/06/Group_Meeting-1000.jpg
END:VEVENT
BEGIN:VEVENT
DTSTART;TZID=America/New_York:20280426T073000
DTEND;TZID=America/New_York:20280426T083000
DTSTAMP:20260422T123242
CREATED:20240711T165450Z
LAST-MODIFIED:20240920T130237Z
UID:10006827-1840347000-1840350600@standrewbytheseaumc.org
SUMMARY:Day Starters AA Group
DESCRIPTION:
URL:https://standrewbytheseaumc.org/event/day-starters-aa-group-3-2/2028-04-26/
LOCATION:Celebration Center
ATTACH;FMTTYPE=image/jpeg:/wp-content/uploads/2024/06/Group_Meeting-1000.jpg
END:VEVENT
BEGIN:VEVENT
DTSTART;TZID=America/New_York:20280427T073000
DTEND;TZID=America/New_York:20280427T083000
DTSTAMP:20260422T123242
CREATED:20240711T165450Z
LAST-MODIFIED:20240920T130237Z
UID:10006828-1840433400-1840437000@standrewbytheseaumc.org
SUMMARY:Day Starters AA Group
DESCRIPTION:
URL:https://standrewbytheseaumc.org/event/day-starters-aa-group-3-2/2028-04-27/
LOCATION:Celebration Center
ATTACH;FMTTYPE=image/jpeg:/wp-content/uploads/2024/06/Group_Meeting-1000.jpg
END:VEVENT
BEGIN:VEVENT
DTSTART;TZID=America/New_York:20280428T073000
DTEND;TZID=America/New_York:20280428T083000
DTSTAMP:20260422T123243
CREATED:20240711T165450Z
LAST-MODIFIED:20240920T130237Z
UID:10006829-1840519800-1840523400@standrewbytheseaumc.org
SUMMARY:Day Starters AA Group
DESCRIPTION:
URL:https://standrewbytheseaumc.org/event/day-starters-aa-group-3-2/2028-04-28/
LOCATION:Celebration Center
ATTACH;FMTTYPE=image/jpeg:/wp-content/uploads/2024/06/Group_Meeting-1000.jpg
END:VEVENT
BEGIN:VEVENT
DTSTART;TZID=America/New_York:20280501T073000
DTEND;TZID=America/New_York:20280501T083000
DTSTAMP:20260422T123243
CREATED:20240711T165450Z
LAST-MODIFIED:20240920T130237Z
UID:10006832-1840779000-1840782600@standrewbytheseaumc.org
SUMMARY:Day Starters AA Group
DESCRIPTION:
URL:https://standrewbytheseaumc.org/event/day-starters-aa-group-3-2/2028-05-01/
LOCATION:Celebration Center
ATTACH;FMTTYPE=image/jpeg:/wp-content/uploads/2024/06/Group_Meeting-1000.jpg
END:VEVENT
END:VCALENDAR