BEGIN:VCALENDAR
VERSION:2.0
PRODID:-//St. Andrew By-The-Sea United Methodist Church - ECPv6.15.20//NONSGML v1.0//EN
CALSCALE:GREGORIAN
METHOD:PUBLISH
X-WR-CALNAME:St. Andrew By-The-Sea United Methodist Church
X-ORIGINAL-URL:https://standrewbytheseaumc.org
X-WR-CALDESC:Events for St. Andrew By-The-Sea United Methodist Church
REFRESH-INTERVAL;VALUE=DURATION:PT1H
X-Robots-Tag:noindex
X-PUBLISHED-TTL:PT1H
BEGIN:VTIMEZONE
TZID:America/New_York
BEGIN:DAYLIGHT
TZOFFSETFROM:-0500
TZOFFSETTO:-0400
TZNAME:EDT
DTSTART:20270314T070000
END:DAYLIGHT
BEGIN:STANDARD
TZOFFSETFROM:-0400
TZOFFSETTO:-0500
TZNAME:EST
DTSTART:20271107T060000
END:STANDARD
BEGIN:DAYLIGHT
TZOFFSETFROM:-0500
TZOFFSETTO:-0400
TZNAME:EDT
DTSTART:20280312T070000
END:DAYLIGHT
BEGIN:STANDARD
TZOFFSETFROM:-0400
TZOFFSETTO:-0500
TZNAME:EST
DTSTART:20281105T060000
END:STANDARD
BEGIN:DAYLIGHT
TZOFFSETFROM:-0500
TZOFFSETTO:-0400
TZNAME:EDT
DTSTART:20290311T070000
END:DAYLIGHT
BEGIN:STANDARD
TZOFFSETFROM:-0400
TZOFFSETTO:-0500
TZNAME:EST
DTSTART:20291104T060000
END:STANDARD
END:VTIMEZONE
BEGIN:VEVENT
DTSTART;TZID=America/New_York:20280717T073000
DTEND;TZID=America/New_York:20280717T083000
DTSTAMP:20260423T001550
CREATED:20240711T165450Z
LAST-MODIFIED:20240920T130237Z
UID:10006909-1847431800-1847435400@standrewbytheseaumc.org
SUMMARY:Day Starters AA Group
DESCRIPTION:
URL:https://standrewbytheseaumc.org/event/day-starters-aa-group-3-2/2028-07-17/
LOCATION:Celebration Center
ATTACH;FMTTYPE=image/jpeg:/wp-content/uploads/2024/06/Group_Meeting-1000.jpg
END:VEVENT
BEGIN:VEVENT
DTSTART;TZID=America/New_York:20280718T073000
DTEND;TZID=America/New_York:20280718T083000
DTSTAMP:20260423T001550
CREATED:20240711T165450Z
LAST-MODIFIED:20240920T130237Z
UID:10006910-1847518200-1847521800@standrewbytheseaumc.org
SUMMARY:Day Starters AA Group
DESCRIPTION:
URL:https://standrewbytheseaumc.org/event/day-starters-aa-group-3-2/2028-07-18/
LOCATION:Celebration Center
ATTACH;FMTTYPE=image/jpeg:/wp-content/uploads/2024/06/Group_Meeting-1000.jpg
END:VEVENT
BEGIN:VEVENT
DTSTART;TZID=America/New_York:20280719T073000
DTEND;TZID=America/New_York:20280719T083000
DTSTAMP:20260423T001550
CREATED:20240711T165450Z
LAST-MODIFIED:20240920T130237Z
UID:10006911-1847604600-1847608200@standrewbytheseaumc.org
SUMMARY:Day Starters AA Group
DESCRIPTION:
URL:https://standrewbytheseaumc.org/event/day-starters-aa-group-3-2/2028-07-19/
LOCATION:Celebration Center
ATTACH;FMTTYPE=image/jpeg:/wp-content/uploads/2024/06/Group_Meeting-1000.jpg
END:VEVENT
BEGIN:VEVENT
DTSTART;TZID=America/New_York:20280720T073000
DTEND;TZID=America/New_York:20280720T083000
DTSTAMP:20260423T001550
CREATED:20240711T165450Z
LAST-MODIFIED:20240920T130237Z
UID:10006912-1847691000-1847694600@standrewbytheseaumc.org
SUMMARY:Day Starters AA Group
DESCRIPTION:
URL:https://standrewbytheseaumc.org/event/day-starters-aa-group-3-2/2028-07-20/
LOCATION:Celebration Center
ATTACH;FMTTYPE=image/jpeg:/wp-content/uploads/2024/06/Group_Meeting-1000.jpg
END:VEVENT
BEGIN:VEVENT
DTSTART;TZID=America/New_York:20280721T073000
DTEND;TZID=America/New_York:20280721T083000
DTSTAMP:20260423T001550
CREATED:20240711T165450Z
LAST-MODIFIED:20240920T130237Z
UID:10006913-1847777400-1847781000@standrewbytheseaumc.org
SUMMARY:Day Starters AA Group
DESCRIPTION:
URL:https://standrewbytheseaumc.org/event/day-starters-aa-group-3-2/2028-07-21/
LOCATION:Celebration Center
ATTACH;FMTTYPE=image/jpeg:/wp-content/uploads/2024/06/Group_Meeting-1000.jpg
END:VEVENT
BEGIN:VEVENT
DTSTART;TZID=America/New_York:20280724T073000
DTEND;TZID=America/New_York:20280724T083000
DTSTAMP:20260423T001550
CREATED:20240711T165450Z
LAST-MODIFIED:20240920T130237Z
UID:10006916-1848036600-1848040200@standrewbytheseaumc.org
SUMMARY:Day Starters AA Group
DESCRIPTION:
URL:https://standrewbytheseaumc.org/event/day-starters-aa-group-3-2/2028-07-24/
LOCATION:Celebration Center
ATTACH;FMTTYPE=image/jpeg:/wp-content/uploads/2024/06/Group_Meeting-1000.jpg
END:VEVENT
BEGIN:VEVENT
DTSTART;TZID=America/New_York:20280725T073000
DTEND;TZID=America/New_York:20280725T083000
DTSTAMP:20260423T001550
CREATED:20240711T165450Z
LAST-MODIFIED:20240920T130237Z
UID:10006917-1848123000-1848126600@standrewbytheseaumc.org
SUMMARY:Day Starters AA Group
DESCRIPTION:
URL:https://standrewbytheseaumc.org/event/day-starters-aa-group-3-2/2028-07-25/
LOCATION:Celebration Center
ATTACH;FMTTYPE=image/jpeg:/wp-content/uploads/2024/06/Group_Meeting-1000.jpg
END:VEVENT
BEGIN:VEVENT
DTSTART;TZID=America/New_York:20280726T073000
DTEND;TZID=America/New_York:20280726T083000
DTSTAMP:20260423T001550
CREATED:20240711T165450Z
LAST-MODIFIED:20240920T130237Z
UID:10006918-1848209400-1848213000@standrewbytheseaumc.org
SUMMARY:Day Starters AA Group
DESCRIPTION:
URL:https://standrewbytheseaumc.org/event/day-starters-aa-group-3-2/2028-07-26/
LOCATION:Celebration Center
ATTACH;FMTTYPE=image/jpeg:/wp-content/uploads/2024/06/Group_Meeting-1000.jpg
END:VEVENT
BEGIN:VEVENT
DTSTART;TZID=America/New_York:20280727T073000
DTEND;TZID=America/New_York:20280727T083000
DTSTAMP:20260423T001550
CREATED:20240711T165450Z
LAST-MODIFIED:20240920T130237Z
UID:10006919-1848295800-1848299400@standrewbytheseaumc.org
SUMMARY:Day Starters AA Group
DESCRIPTION:
URL:https://standrewbytheseaumc.org/event/day-starters-aa-group-3-2/2028-07-27/
LOCATION:Celebration Center
ATTACH;FMTTYPE=image/jpeg:/wp-content/uploads/2024/06/Group_Meeting-1000.jpg
END:VEVENT
BEGIN:VEVENT
DTSTART;TZID=America/New_York:20280728T073000
DTEND;TZID=America/New_York:20280728T083000
DTSTAMP:20260423T001550
CREATED:20240711T165450Z
LAST-MODIFIED:20240920T130237Z
UID:10006920-1848382200-1848385800@standrewbytheseaumc.org
SUMMARY:Day Starters AA Group
DESCRIPTION:
URL:https://standrewbytheseaumc.org/event/day-starters-aa-group-3-2/2028-07-28/
LOCATION:Celebration Center
ATTACH;FMTTYPE=image/jpeg:/wp-content/uploads/2024/06/Group_Meeting-1000.jpg
END:VEVENT
BEGIN:VEVENT
DTSTART;TZID=America/New_York:20280731T073000
DTEND;TZID=America/New_York:20280731T083000
DTSTAMP:20260423T001550
CREATED:20240711T165450Z
LAST-MODIFIED:20240920T130237Z
UID:10006923-1848641400-1848645000@standrewbytheseaumc.org
SUMMARY:Day Starters AA Group
DESCRIPTION:
URL:https://standrewbytheseaumc.org/event/day-starters-aa-group-3-2/2028-07-31/
LOCATION:Celebration Center
ATTACH;FMTTYPE=image/jpeg:/wp-content/uploads/2024/06/Group_Meeting-1000.jpg
END:VEVENT
BEGIN:VEVENT
DTSTART;TZID=America/New_York:20280801T073000
DTEND;TZID=America/New_York:20280801T083000
DTSTAMP:20260423T001550
CREATED:20240711T165450Z
LAST-MODIFIED:20240920T130237Z
UID:10006924-1848727800-1848731400@standrewbytheseaumc.org
SUMMARY:Day Starters AA Group
DESCRIPTION:
URL:https://standrewbytheseaumc.org/event/day-starters-aa-group-3-2/2028-08-01/
LOCATION:Celebration Center
ATTACH;FMTTYPE=image/jpeg:/wp-content/uploads/2024/06/Group_Meeting-1000.jpg
END:VEVENT
BEGIN:VEVENT
DTSTART;TZID=America/New_York:20280802T073000
DTEND;TZID=America/New_York:20280802T083000
DTSTAMP:20260423T001550
CREATED:20240711T165450Z
LAST-MODIFIED:20240920T130237Z
UID:10006925-1848814200-1848817800@standrewbytheseaumc.org
SUMMARY:Day Starters AA Group
DESCRIPTION:
URL:https://standrewbytheseaumc.org/event/day-starters-aa-group-3-2/2028-08-02/
LOCATION:Celebration Center
ATTACH;FMTTYPE=image/jpeg:/wp-content/uploads/2024/06/Group_Meeting-1000.jpg
END:VEVENT
BEGIN:VEVENT
DTSTART;TZID=America/New_York:20280803T073000
DTEND;TZID=America/New_York:20280803T083000
DTSTAMP:20260423T001550
CREATED:20240711T165450Z
LAST-MODIFIED:20240920T130237Z
UID:10006926-1848900600-1848904200@standrewbytheseaumc.org
SUMMARY:Day Starters AA Group
DESCRIPTION:
URL:https://standrewbytheseaumc.org/event/day-starters-aa-group-3-2/2028-08-03/
LOCATION:Celebration Center
ATTACH;FMTTYPE=image/jpeg:/wp-content/uploads/2024/06/Group_Meeting-1000.jpg
END:VEVENT
BEGIN:VEVENT
DTSTART;TZID=America/New_York:20280804T073000
DTEND;TZID=America/New_York:20280804T083000
DTSTAMP:20260423T001550
CREATED:20240711T165450Z
LAST-MODIFIED:20240920T130237Z
UID:10006927-1848987000-1848990600@standrewbytheseaumc.org
SUMMARY:Day Starters AA Group
DESCRIPTION:
URL:https://standrewbytheseaumc.org/event/day-starters-aa-group-3-2/2028-08-04/
LOCATION:Celebration Center
ATTACH;FMTTYPE=image/jpeg:/wp-content/uploads/2024/06/Group_Meeting-1000.jpg
END:VEVENT
BEGIN:VEVENT
DTSTART;TZID=America/New_York:20280807T073000
DTEND;TZID=America/New_York:20280807T083000
DTSTAMP:20260423T001550
CREATED:20240711T165450Z
LAST-MODIFIED:20240920T130237Z
UID:10006930-1849246200-1849249800@standrewbytheseaumc.org
SUMMARY:Day Starters AA Group
DESCRIPTION:
URL:https://standrewbytheseaumc.org/event/day-starters-aa-group-3-2/2028-08-07/
LOCATION:Celebration Center
ATTACH;FMTTYPE=image/jpeg:/wp-content/uploads/2024/06/Group_Meeting-1000.jpg
END:VEVENT
BEGIN:VEVENT
DTSTART;TZID=America/New_York:20280808T073000
DTEND;TZID=America/New_York:20280808T083000
DTSTAMP:20260423T001550
CREATED:20240711T165450Z
LAST-MODIFIED:20240920T130237Z
UID:10006931-1849332600-1849336200@standrewbytheseaumc.org
SUMMARY:Day Starters AA Group
DESCRIPTION:
URL:https://standrewbytheseaumc.org/event/day-starters-aa-group-3-2/2028-08-08/
LOCATION:Celebration Center
ATTACH;FMTTYPE=image/jpeg:/wp-content/uploads/2024/06/Group_Meeting-1000.jpg
END:VEVENT
BEGIN:VEVENT
DTSTART;TZID=America/New_York:20280809T073000
DTEND;TZID=America/New_York:20280809T083000
DTSTAMP:20260423T001550
CREATED:20240711T165450Z
LAST-MODIFIED:20240920T130237Z
UID:10006932-1849419000-1849422600@standrewbytheseaumc.org
SUMMARY:Day Starters AA Group
DESCRIPTION:
URL:https://standrewbytheseaumc.org/event/day-starters-aa-group-3-2/2028-08-09/
LOCATION:Celebration Center
ATTACH;FMTTYPE=image/jpeg:/wp-content/uploads/2024/06/Group_Meeting-1000.jpg
END:VEVENT
BEGIN:VEVENT
DTSTART;TZID=America/New_York:20280810T073000
DTEND;TZID=America/New_York:20280810T083000
DTSTAMP:20260423T001550
CREATED:20240711T165450Z
LAST-MODIFIED:20240920T130237Z
UID:10006933-1849505400-1849509000@standrewbytheseaumc.org
SUMMARY:Day Starters AA Group
DESCRIPTION:
URL:https://standrewbytheseaumc.org/event/day-starters-aa-group-3-2/2028-08-10/
LOCATION:Celebration Center
ATTACH;FMTTYPE=image/jpeg:/wp-content/uploads/2024/06/Group_Meeting-1000.jpg
END:VEVENT
BEGIN:VEVENT
DTSTART;TZID=America/New_York:20280811T073000
DTEND;TZID=America/New_York:20280811T083000
DTSTAMP:20260423T001550
CREATED:20240711T165450Z
LAST-MODIFIED:20240920T130237Z
UID:10006934-1849591800-1849595400@standrewbytheseaumc.org
SUMMARY:Day Starters AA Group
DESCRIPTION:
URL:https://standrewbytheseaumc.org/event/day-starters-aa-group-3-2/2028-08-11/
LOCATION:Celebration Center
ATTACH;FMTTYPE=image/jpeg:/wp-content/uploads/2024/06/Group_Meeting-1000.jpg
END:VEVENT
BEGIN:VEVENT
DTSTART;TZID=America/New_York:20280814T073000
DTEND;TZID=America/New_York:20280814T083000
DTSTAMP:20260423T001550
CREATED:20240711T165450Z
LAST-MODIFIED:20240920T130237Z
UID:10006937-1849851000-1849854600@standrewbytheseaumc.org
SUMMARY:Day Starters AA Group
DESCRIPTION:
URL:https://standrewbytheseaumc.org/event/day-starters-aa-group-3-2/2028-08-14/
LOCATION:Celebration Center
ATTACH;FMTTYPE=image/jpeg:/wp-content/uploads/2024/06/Group_Meeting-1000.jpg
END:VEVENT
BEGIN:VEVENT
DTSTART;TZID=America/New_York:20280815T073000
DTEND;TZID=America/New_York:20280815T083000
DTSTAMP:20260423T001550
CREATED:20240711T165450Z
LAST-MODIFIED:20240920T130237Z
UID:10006938-1849937400-1849941000@standrewbytheseaumc.org
SUMMARY:Day Starters AA Group
DESCRIPTION:
URL:https://standrewbytheseaumc.org/event/day-starters-aa-group-3-2/2028-08-15/
LOCATION:Celebration Center
ATTACH;FMTTYPE=image/jpeg:/wp-content/uploads/2024/06/Group_Meeting-1000.jpg
END:VEVENT
BEGIN:VEVENT
DTSTART;TZID=America/New_York:20280816T073000
DTEND;TZID=America/New_York:20280816T083000
DTSTAMP:20260423T001550
CREATED:20240711T165450Z
LAST-MODIFIED:20240920T130237Z
UID:10006939-1850023800-1850027400@standrewbytheseaumc.org
SUMMARY:Day Starters AA Group
DESCRIPTION:
URL:https://standrewbytheseaumc.org/event/day-starters-aa-group-3-2/2028-08-16/
LOCATION:Celebration Center
ATTACH;FMTTYPE=image/jpeg:/wp-content/uploads/2024/06/Group_Meeting-1000.jpg
END:VEVENT
BEGIN:VEVENT
DTSTART;TZID=America/New_York:20280817T073000
DTEND;TZID=America/New_York:20280817T083000
DTSTAMP:20260423T001550
CREATED:20240711T165450Z
LAST-MODIFIED:20240920T130237Z
UID:10006940-1850110200-1850113800@standrewbytheseaumc.org
SUMMARY:Day Starters AA Group
DESCRIPTION:
URL:https://standrewbytheseaumc.org/event/day-starters-aa-group-3-2/2028-08-17/
LOCATION:Celebration Center
ATTACH;FMTTYPE=image/jpeg:/wp-content/uploads/2024/06/Group_Meeting-1000.jpg
END:VEVENT
BEGIN:VEVENT
DTSTART;TZID=America/New_York:20280818T073000
DTEND;TZID=America/New_York:20280818T083000
DTSTAMP:20260423T001550
CREATED:20240711T165450Z
LAST-MODIFIED:20240920T130237Z
UID:10006941-1850196600-1850200200@standrewbytheseaumc.org
SUMMARY:Day Starters AA Group
DESCRIPTION:
URL:https://standrewbytheseaumc.org/event/day-starters-aa-group-3-2/2028-08-18/
LOCATION:Celebration Center
ATTACH;FMTTYPE=image/jpeg:/wp-content/uploads/2024/06/Group_Meeting-1000.jpg
END:VEVENT
BEGIN:VEVENT
DTSTART;TZID=America/New_York:20280821T073000
DTEND;TZID=America/New_York:20280821T083000
DTSTAMP:20260423T001550
CREATED:20240711T165450Z
LAST-MODIFIED:20240920T130237Z
UID:10006944-1850455800-1850459400@standrewbytheseaumc.org
SUMMARY:Day Starters AA Group
DESCRIPTION:
URL:https://standrewbytheseaumc.org/event/day-starters-aa-group-3-2/2028-08-21/
LOCATION:Celebration Center
ATTACH;FMTTYPE=image/jpeg:/wp-content/uploads/2024/06/Group_Meeting-1000.jpg
END:VEVENT
BEGIN:VEVENT
DTSTART;TZID=America/New_York:20280822T073000
DTEND;TZID=America/New_York:20280822T083000
DTSTAMP:20260423T001550
CREATED:20240711T165450Z
LAST-MODIFIED:20240920T130237Z
UID:10006945-1850542200-1850545800@standrewbytheseaumc.org
SUMMARY:Day Starters AA Group
DESCRIPTION:
URL:https://standrewbytheseaumc.org/event/day-starters-aa-group-3-2/2028-08-22/
LOCATION:Celebration Center
ATTACH;FMTTYPE=image/jpeg:/wp-content/uploads/2024/06/Group_Meeting-1000.jpg
END:VEVENT
BEGIN:VEVENT
DTSTART;TZID=America/New_York:20280823T073000
DTEND;TZID=America/New_York:20280823T083000
DTSTAMP:20260423T001550
CREATED:20240711T165450Z
LAST-MODIFIED:20240920T130237Z
UID:10006946-1850628600-1850632200@standrewbytheseaumc.org
SUMMARY:Day Starters AA Group
DESCRIPTION:
URL:https://standrewbytheseaumc.org/event/day-starters-aa-group-3-2/2028-08-23/
LOCATION:Celebration Center
ATTACH;FMTTYPE=image/jpeg:/wp-content/uploads/2024/06/Group_Meeting-1000.jpg
END:VEVENT
BEGIN:VEVENT
DTSTART;TZID=America/New_York:20280824T073000
DTEND;TZID=America/New_York:20280824T083000
DTSTAMP:20260423T001550
CREATED:20240711T165450Z
LAST-MODIFIED:20240920T130237Z
UID:10006947-1850715000-1850718600@standrewbytheseaumc.org
SUMMARY:Day Starters AA Group
DESCRIPTION:
URL:https://standrewbytheseaumc.org/event/day-starters-aa-group-3-2/2028-08-24/
LOCATION:Celebration Center
ATTACH;FMTTYPE=image/jpeg:/wp-content/uploads/2024/06/Group_Meeting-1000.jpg
END:VEVENT
BEGIN:VEVENT
DTSTART;TZID=America/New_York:20280825T073000
DTEND;TZID=America/New_York:20280825T083000
DTSTAMP:20260423T001550
CREATED:20240711T165450Z
LAST-MODIFIED:20240920T130237Z
UID:10006948-1850801400-1850805000@standrewbytheseaumc.org
SUMMARY:Day Starters AA Group
DESCRIPTION:
URL:https://standrewbytheseaumc.org/event/day-starters-aa-group-3-2/2028-08-25/
LOCATION:Celebration Center
ATTACH;FMTTYPE=image/jpeg:/wp-content/uploads/2024/06/Group_Meeting-1000.jpg
END:VEVENT
END:VCALENDAR