BEGIN:VCALENDAR
VERSION:2.0
PRODID:-//St. Andrew By-The-Sea United Methodist Church - ECPv6.15.20//NONSGML v1.0//EN
CALSCALE:GREGORIAN
METHOD:PUBLISH
X-WR-CALNAME:St. Andrew By-The-Sea United Methodist Church
X-ORIGINAL-URL:https://standrewbytheseaumc.org
X-WR-CALDESC:Events for St. Andrew By-The-Sea United Methodist Church
REFRESH-INTERVAL;VALUE=DURATION:PT1H
X-Robots-Tag:noindex
X-PUBLISHED-TTL:PT1H
BEGIN:VTIMEZONE
TZID:America/New_York
BEGIN:DAYLIGHT
TZOFFSETFROM:-0500
TZOFFSETTO:-0400
TZNAME:EDT
DTSTART:20270314T070000
END:DAYLIGHT
BEGIN:STANDARD
TZOFFSETFROM:-0400
TZOFFSETTO:-0500
TZNAME:EST
DTSTART:20271107T060000
END:STANDARD
BEGIN:DAYLIGHT
TZOFFSETFROM:-0500
TZOFFSETTO:-0400
TZNAME:EDT
DTSTART:20280312T070000
END:DAYLIGHT
BEGIN:STANDARD
TZOFFSETFROM:-0400
TZOFFSETTO:-0500
TZNAME:EST
DTSTART:20281105T060000
END:STANDARD
BEGIN:DAYLIGHT
TZOFFSETFROM:-0500
TZOFFSETTO:-0400
TZNAME:EDT
DTSTART:20290311T070000
END:DAYLIGHT
BEGIN:STANDARD
TZOFFSETFROM:-0400
TZOFFSETTO:-0500
TZNAME:EST
DTSTART:20291104T060000
END:STANDARD
END:VTIMEZONE
BEGIN:VEVENT
DTSTART;TZID=America/New_York:20281113T073000
DTEND;TZID=America/New_York:20281113T083000
DTSTAMP:20260423T112237
CREATED:20240711T165450Z
LAST-MODIFIED:20240920T130237Z
UID:10007028-1857713400-1857717000@standrewbytheseaumc.org
SUMMARY:Day Starters AA Group
DESCRIPTION:
URL:https://standrewbytheseaumc.org/event/day-starters-aa-group-3-2/2028-11-13/
LOCATION:Celebration Center
ATTACH;FMTTYPE=image/jpeg:/wp-content/uploads/2024/06/Group_Meeting-1000.jpg
END:VEVENT
BEGIN:VEVENT
DTSTART;TZID=America/New_York:20281114T073000
DTEND;TZID=America/New_York:20281114T083000
DTSTAMP:20260423T112237
CREATED:20240711T165450Z
LAST-MODIFIED:20240920T130237Z
UID:10007029-1857799800-1857803400@standrewbytheseaumc.org
SUMMARY:Day Starters AA Group
DESCRIPTION:
URL:https://standrewbytheseaumc.org/event/day-starters-aa-group-3-2/2028-11-14/
LOCATION:Celebration Center
ATTACH;FMTTYPE=image/jpeg:/wp-content/uploads/2024/06/Group_Meeting-1000.jpg
END:VEVENT
BEGIN:VEVENT
DTSTART;TZID=America/New_York:20281115T073000
DTEND;TZID=America/New_York:20281115T083000
DTSTAMP:20260423T112237
CREATED:20240711T165450Z
LAST-MODIFIED:20240920T130237Z
UID:10007030-1857886200-1857889800@standrewbytheseaumc.org
SUMMARY:Day Starters AA Group
DESCRIPTION:
URL:https://standrewbytheseaumc.org/event/day-starters-aa-group-3-2/2028-11-15/
LOCATION:Celebration Center
ATTACH;FMTTYPE=image/jpeg:/wp-content/uploads/2024/06/Group_Meeting-1000.jpg
END:VEVENT
BEGIN:VEVENT
DTSTART;TZID=America/New_York:20281116T073000
DTEND;TZID=America/New_York:20281116T083000
DTSTAMP:20260423T112237
CREATED:20240711T165450Z
LAST-MODIFIED:20240920T130237Z
UID:10007031-1857972600-1857976200@standrewbytheseaumc.org
SUMMARY:Day Starters AA Group
DESCRIPTION:
URL:https://standrewbytheseaumc.org/event/day-starters-aa-group-3-2/2028-11-16/
LOCATION:Celebration Center
ATTACH;FMTTYPE=image/jpeg:/wp-content/uploads/2024/06/Group_Meeting-1000.jpg
END:VEVENT
BEGIN:VEVENT
DTSTART;TZID=America/New_York:20281117T073000
DTEND;TZID=America/New_York:20281117T083000
DTSTAMP:20260423T112237
CREATED:20240711T165450Z
LAST-MODIFIED:20240920T130237Z
UID:10007032-1858059000-1858062600@standrewbytheseaumc.org
SUMMARY:Day Starters AA Group
DESCRIPTION:
URL:https://standrewbytheseaumc.org/event/day-starters-aa-group-3-2/2028-11-17/
LOCATION:Celebration Center
ATTACH;FMTTYPE=image/jpeg:/wp-content/uploads/2024/06/Group_Meeting-1000.jpg
END:VEVENT
BEGIN:VEVENT
DTSTART;TZID=America/New_York:20281120T073000
DTEND;TZID=America/New_York:20281120T083000
DTSTAMP:20260423T112237
CREATED:20240711T165450Z
LAST-MODIFIED:20240920T130237Z
UID:10007035-1858318200-1858321800@standrewbytheseaumc.org
SUMMARY:Day Starters AA Group
DESCRIPTION:
URL:https://standrewbytheseaumc.org/event/day-starters-aa-group-3-2/2028-11-20/
LOCATION:Celebration Center
ATTACH;FMTTYPE=image/jpeg:/wp-content/uploads/2024/06/Group_Meeting-1000.jpg
END:VEVENT
BEGIN:VEVENT
DTSTART;TZID=America/New_York:20281121T073000
DTEND;TZID=America/New_York:20281121T083000
DTSTAMP:20260423T112237
CREATED:20240711T165450Z
LAST-MODIFIED:20240920T130237Z
UID:10007036-1858404600-1858408200@standrewbytheseaumc.org
SUMMARY:Day Starters AA Group
DESCRIPTION:
URL:https://standrewbytheseaumc.org/event/day-starters-aa-group-3-2/2028-11-21/
LOCATION:Celebration Center
ATTACH;FMTTYPE=image/jpeg:/wp-content/uploads/2024/06/Group_Meeting-1000.jpg
END:VEVENT
BEGIN:VEVENT
DTSTART;TZID=America/New_York:20281122T073000
DTEND;TZID=America/New_York:20281122T083000
DTSTAMP:20260423T112237
CREATED:20240711T165450Z
LAST-MODIFIED:20240920T130237Z
UID:10007037-1858491000-1858494600@standrewbytheseaumc.org
SUMMARY:Day Starters AA Group
DESCRIPTION:
URL:https://standrewbytheseaumc.org/event/day-starters-aa-group-3-2/2028-11-22/
LOCATION:Celebration Center
ATTACH;FMTTYPE=image/jpeg:/wp-content/uploads/2024/06/Group_Meeting-1000.jpg
END:VEVENT
BEGIN:VEVENT
DTSTART;TZID=America/New_York:20281123T073000
DTEND;TZID=America/New_York:20281123T083000
DTSTAMP:20260423T112237
CREATED:20240711T165450Z
LAST-MODIFIED:20240920T130237Z
UID:10007038-1858577400-1858581000@standrewbytheseaumc.org
SUMMARY:Day Starters AA Group
DESCRIPTION:
URL:https://standrewbytheseaumc.org/event/day-starters-aa-group-3-2/2028-11-23/
LOCATION:Celebration Center
ATTACH;FMTTYPE=image/jpeg:/wp-content/uploads/2024/06/Group_Meeting-1000.jpg
END:VEVENT
BEGIN:VEVENT
DTSTART;TZID=America/New_York:20281124T073000
DTEND;TZID=America/New_York:20281124T083000
DTSTAMP:20260423T112237
CREATED:20240711T165450Z
LAST-MODIFIED:20240920T130237Z
UID:10007039-1858663800-1858667400@standrewbytheseaumc.org
SUMMARY:Day Starters AA Group
DESCRIPTION:
URL:https://standrewbytheseaumc.org/event/day-starters-aa-group-3-2/2028-11-24/
LOCATION:Celebration Center
ATTACH;FMTTYPE=image/jpeg:/wp-content/uploads/2024/06/Group_Meeting-1000.jpg
END:VEVENT
BEGIN:VEVENT
DTSTART;TZID=America/New_York:20281127T073000
DTEND;TZID=America/New_York:20281127T083000
DTSTAMP:20260423T112237
CREATED:20240711T165450Z
LAST-MODIFIED:20240920T130237Z
UID:10007042-1858923000-1858926600@standrewbytheseaumc.org
SUMMARY:Day Starters AA Group
DESCRIPTION:
URL:https://standrewbytheseaumc.org/event/day-starters-aa-group-3-2/2028-11-27/
LOCATION:Celebration Center
ATTACH;FMTTYPE=image/jpeg:/wp-content/uploads/2024/06/Group_Meeting-1000.jpg
END:VEVENT
BEGIN:VEVENT
DTSTART;TZID=America/New_York:20281128T073000
DTEND;TZID=America/New_York:20281128T083000
DTSTAMP:20260423T112237
CREATED:20240711T165450Z
LAST-MODIFIED:20240920T130237Z
UID:10007043-1859009400-1859013000@standrewbytheseaumc.org
SUMMARY:Day Starters AA Group
DESCRIPTION:
URL:https://standrewbytheseaumc.org/event/day-starters-aa-group-3-2/2028-11-28/
LOCATION:Celebration Center
ATTACH;FMTTYPE=image/jpeg:/wp-content/uploads/2024/06/Group_Meeting-1000.jpg
END:VEVENT
BEGIN:VEVENT
DTSTART;TZID=America/New_York:20281129T073000
DTEND;TZID=America/New_York:20281129T083000
DTSTAMP:20260423T112237
CREATED:20240711T165450Z
LAST-MODIFIED:20240920T130237Z
UID:10007044-1859095800-1859099400@standrewbytheseaumc.org
SUMMARY:Day Starters AA Group
DESCRIPTION:
URL:https://standrewbytheseaumc.org/event/day-starters-aa-group-3-2/2028-11-29/
LOCATION:Celebration Center
ATTACH;FMTTYPE=image/jpeg:/wp-content/uploads/2024/06/Group_Meeting-1000.jpg
END:VEVENT
BEGIN:VEVENT
DTSTART;TZID=America/New_York:20281130T073000
DTEND;TZID=America/New_York:20281130T083000
DTSTAMP:20260423T112237
CREATED:20240711T165450Z
LAST-MODIFIED:20240920T130237Z
UID:10007045-1859182200-1859185800@standrewbytheseaumc.org
SUMMARY:Day Starters AA Group
DESCRIPTION:
URL:https://standrewbytheseaumc.org/event/day-starters-aa-group-3-2/2028-11-30/
LOCATION:Celebration Center
ATTACH;FMTTYPE=image/jpeg:/wp-content/uploads/2024/06/Group_Meeting-1000.jpg
END:VEVENT
BEGIN:VEVENT
DTSTART;TZID=America/New_York:20281201T073000
DTEND;TZID=America/New_York:20281201T083000
DTSTAMP:20260423T112237
CREATED:20240711T165450Z
LAST-MODIFIED:20240920T130237Z
UID:10007046-1859268600-1859272200@standrewbytheseaumc.org
SUMMARY:Day Starters AA Group
DESCRIPTION:
URL:https://standrewbytheseaumc.org/event/day-starters-aa-group-3-2/2028-12-01/
LOCATION:Celebration Center
ATTACH;FMTTYPE=image/jpeg:/wp-content/uploads/2024/06/Group_Meeting-1000.jpg
END:VEVENT
BEGIN:VEVENT
DTSTART;TZID=America/New_York:20281204T073000
DTEND;TZID=America/New_York:20281204T083000
DTSTAMP:20260423T112237
CREATED:20240711T165450Z
LAST-MODIFIED:20240920T130237Z
UID:10007049-1859527800-1859531400@standrewbytheseaumc.org
SUMMARY:Day Starters AA Group
DESCRIPTION:
URL:https://standrewbytheseaumc.org/event/day-starters-aa-group-3-2/2028-12-04/
LOCATION:Celebration Center
ATTACH;FMTTYPE=image/jpeg:/wp-content/uploads/2024/06/Group_Meeting-1000.jpg
END:VEVENT
BEGIN:VEVENT
DTSTART;TZID=America/New_York:20281205T073000
DTEND;TZID=America/New_York:20281205T083000
DTSTAMP:20260423T112237
CREATED:20240711T165450Z
LAST-MODIFIED:20240920T130237Z
UID:10007050-1859614200-1859617800@standrewbytheseaumc.org
SUMMARY:Day Starters AA Group
DESCRIPTION:
URL:https://standrewbytheseaumc.org/event/day-starters-aa-group-3-2/2028-12-05/
LOCATION:Celebration Center
ATTACH;FMTTYPE=image/jpeg:/wp-content/uploads/2024/06/Group_Meeting-1000.jpg
END:VEVENT
BEGIN:VEVENT
DTSTART;TZID=America/New_York:20281206T073000
DTEND;TZID=America/New_York:20281206T083000
DTSTAMP:20260423T112237
CREATED:20240711T165450Z
LAST-MODIFIED:20240920T130237Z
UID:10007051-1859700600-1859704200@standrewbytheseaumc.org
SUMMARY:Day Starters AA Group
DESCRIPTION:
URL:https://standrewbytheseaumc.org/event/day-starters-aa-group-3-2/2028-12-06/
LOCATION:Celebration Center
ATTACH;FMTTYPE=image/jpeg:/wp-content/uploads/2024/06/Group_Meeting-1000.jpg
END:VEVENT
BEGIN:VEVENT
DTSTART;TZID=America/New_York:20281207T073000
DTEND;TZID=America/New_York:20281207T083000
DTSTAMP:20260423T112237
CREATED:20240711T165450Z
LAST-MODIFIED:20240920T130237Z
UID:10007052-1859787000-1859790600@standrewbytheseaumc.org
SUMMARY:Day Starters AA Group
DESCRIPTION:
URL:https://standrewbytheseaumc.org/event/day-starters-aa-group-3-2/2028-12-07/
LOCATION:Celebration Center
ATTACH;FMTTYPE=image/jpeg:/wp-content/uploads/2024/06/Group_Meeting-1000.jpg
END:VEVENT
BEGIN:VEVENT
DTSTART;TZID=America/New_York:20281208T073000
DTEND;TZID=America/New_York:20281208T083000
DTSTAMP:20260423T112237
CREATED:20240711T165450Z
LAST-MODIFIED:20240920T130237Z
UID:10007053-1859873400-1859877000@standrewbytheseaumc.org
SUMMARY:Day Starters AA Group
DESCRIPTION:
URL:https://standrewbytheseaumc.org/event/day-starters-aa-group-3-2/2028-12-08/
LOCATION:Celebration Center
ATTACH;FMTTYPE=image/jpeg:/wp-content/uploads/2024/06/Group_Meeting-1000.jpg
END:VEVENT
BEGIN:VEVENT
DTSTART;TZID=America/New_York:20281211T073000
DTEND;TZID=America/New_York:20281211T083000
DTSTAMP:20260423T112237
CREATED:20240711T165450Z
LAST-MODIFIED:20240920T130237Z
UID:10007056-1860132600-1860136200@standrewbytheseaumc.org
SUMMARY:Day Starters AA Group
DESCRIPTION:
URL:https://standrewbytheseaumc.org/event/day-starters-aa-group-3-2/2028-12-11/
LOCATION:Celebration Center
ATTACH;FMTTYPE=image/jpeg:/wp-content/uploads/2024/06/Group_Meeting-1000.jpg
END:VEVENT
BEGIN:VEVENT
DTSTART;TZID=America/New_York:20281212T073000
DTEND;TZID=America/New_York:20281212T083000
DTSTAMP:20260423T112237
CREATED:20240711T165450Z
LAST-MODIFIED:20240920T130237Z
UID:10007057-1860219000-1860222600@standrewbytheseaumc.org
SUMMARY:Day Starters AA Group
DESCRIPTION:
URL:https://standrewbytheseaumc.org/event/day-starters-aa-group-3-2/2028-12-12/
LOCATION:Celebration Center
ATTACH;FMTTYPE=image/jpeg:/wp-content/uploads/2024/06/Group_Meeting-1000.jpg
END:VEVENT
BEGIN:VEVENT
DTSTART;TZID=America/New_York:20281213T073000
DTEND;TZID=America/New_York:20281213T083000
DTSTAMP:20260423T112237
CREATED:20240711T165450Z
LAST-MODIFIED:20240920T130237Z
UID:10007058-1860305400-1860309000@standrewbytheseaumc.org
SUMMARY:Day Starters AA Group
DESCRIPTION:
URL:https://standrewbytheseaumc.org/event/day-starters-aa-group-3-2/2028-12-13/
LOCATION:Celebration Center
ATTACH;FMTTYPE=image/jpeg:/wp-content/uploads/2024/06/Group_Meeting-1000.jpg
END:VEVENT
BEGIN:VEVENT
DTSTART;TZID=America/New_York:20281214T073000
DTEND;TZID=America/New_York:20281214T083000
DTSTAMP:20260423T112237
CREATED:20240711T165450Z
LAST-MODIFIED:20240920T130237Z
UID:10007059-1860391800-1860395400@standrewbytheseaumc.org
SUMMARY:Day Starters AA Group
DESCRIPTION:
URL:https://standrewbytheseaumc.org/event/day-starters-aa-group-3-2/2028-12-14/
LOCATION:Celebration Center
ATTACH;FMTTYPE=image/jpeg:/wp-content/uploads/2024/06/Group_Meeting-1000.jpg
END:VEVENT
BEGIN:VEVENT
DTSTART;TZID=America/New_York:20281215T073000
DTEND;TZID=America/New_York:20281215T083000
DTSTAMP:20260423T112237
CREATED:20240711T165450Z
LAST-MODIFIED:20240920T130237Z
UID:10007060-1860478200-1860481800@standrewbytheseaumc.org
SUMMARY:Day Starters AA Group
DESCRIPTION:
URL:https://standrewbytheseaumc.org/event/day-starters-aa-group-3-2/2028-12-15/
LOCATION:Celebration Center
ATTACH;FMTTYPE=image/jpeg:/wp-content/uploads/2024/06/Group_Meeting-1000.jpg
END:VEVENT
BEGIN:VEVENT
DTSTART;TZID=America/New_York:20281218T073000
DTEND;TZID=America/New_York:20281218T083000
DTSTAMP:20260423T112237
CREATED:20240711T165450Z
LAST-MODIFIED:20240920T130237Z
UID:10007063-1860737400-1860741000@standrewbytheseaumc.org
SUMMARY:Day Starters AA Group
DESCRIPTION:
URL:https://standrewbytheseaumc.org/event/day-starters-aa-group-3-2/2028-12-18/
LOCATION:Celebration Center
ATTACH;FMTTYPE=image/jpeg:/wp-content/uploads/2024/06/Group_Meeting-1000.jpg
END:VEVENT
BEGIN:VEVENT
DTSTART;TZID=America/New_York:20281219T073000
DTEND;TZID=America/New_York:20281219T083000
DTSTAMP:20260423T112237
CREATED:20240711T165450Z
LAST-MODIFIED:20240920T130237Z
UID:10007064-1860823800-1860827400@standrewbytheseaumc.org
SUMMARY:Day Starters AA Group
DESCRIPTION:
URL:https://standrewbytheseaumc.org/event/day-starters-aa-group-3-2/2028-12-19/
LOCATION:Celebration Center
ATTACH;FMTTYPE=image/jpeg:/wp-content/uploads/2024/06/Group_Meeting-1000.jpg
END:VEVENT
BEGIN:VEVENT
DTSTART;TZID=America/New_York:20281220T073000
DTEND;TZID=America/New_York:20281220T083000
DTSTAMP:20260423T112237
CREATED:20240711T165450Z
LAST-MODIFIED:20240920T130237Z
UID:10007065-1860910200-1860913800@standrewbytheseaumc.org
SUMMARY:Day Starters AA Group
DESCRIPTION:
URL:https://standrewbytheseaumc.org/event/day-starters-aa-group-3-2/2028-12-20/
LOCATION:Celebration Center
ATTACH;FMTTYPE=image/jpeg:/wp-content/uploads/2024/06/Group_Meeting-1000.jpg
END:VEVENT
BEGIN:VEVENT
DTSTART;TZID=America/New_York:20281221T073000
DTEND;TZID=America/New_York:20281221T083000
DTSTAMP:20260423T112237
CREATED:20240711T165450Z
LAST-MODIFIED:20240920T130237Z
UID:10007066-1860996600-1861000200@standrewbytheseaumc.org
SUMMARY:Day Starters AA Group
DESCRIPTION:
URL:https://standrewbytheseaumc.org/event/day-starters-aa-group-3-2/2028-12-21/
LOCATION:Celebration Center
ATTACH;FMTTYPE=image/jpeg:/wp-content/uploads/2024/06/Group_Meeting-1000.jpg
END:VEVENT
BEGIN:VEVENT
DTSTART;TZID=America/New_York:20281222T073000
DTEND;TZID=America/New_York:20281222T083000
DTSTAMP:20260423T112237
CREATED:20240711T165450Z
LAST-MODIFIED:20240920T130237Z
UID:10007067-1861083000-1861086600@standrewbytheseaumc.org
SUMMARY:Day Starters AA Group
DESCRIPTION:
URL:https://standrewbytheseaumc.org/event/day-starters-aa-group-3-2/2028-12-22/
LOCATION:Celebration Center
ATTACH;FMTTYPE=image/jpeg:/wp-content/uploads/2024/06/Group_Meeting-1000.jpg
END:VEVENT
END:VCALENDAR