BEGIN:VCALENDAR
VERSION:2.0
PRODID:-//St. Andrew By-The-Sea United Methodist Church - ECPv6.15.20//NONSGML v1.0//EN
CALSCALE:GREGORIAN
METHOD:PUBLISH
X-ORIGINAL-URL:https://standrewbytheseaumc.org
X-WR-CALDESC:Events for St. Andrew By-The-Sea United Methodist Church
REFRESH-INTERVAL;VALUE=DURATION:PT1H
X-Robots-Tag:noindex
X-PUBLISHED-TTL:PT1H
BEGIN:VTIMEZONE
TZID:America/New_York
BEGIN:DAYLIGHT
TZOFFSETFROM:-0500
TZOFFSETTO:-0400
TZNAME:EDT
DTSTART:20270314T070000
END:DAYLIGHT
BEGIN:STANDARD
TZOFFSETFROM:-0400
TZOFFSETTO:-0500
TZNAME:EST
DTSTART:20271107T060000
END:STANDARD
BEGIN:DAYLIGHT
TZOFFSETFROM:-0500
TZOFFSETTO:-0400
TZNAME:EDT
DTSTART:20280312T070000
END:DAYLIGHT
BEGIN:STANDARD
TZOFFSETFROM:-0400
TZOFFSETTO:-0500
TZNAME:EST
DTSTART:20281105T060000
END:STANDARD
BEGIN:DAYLIGHT
TZOFFSETFROM:-0500
TZOFFSETTO:-0400
TZNAME:EDT
DTSTART:20290311T070000
END:DAYLIGHT
BEGIN:STANDARD
TZOFFSETFROM:-0400
TZOFFSETTO:-0500
TZNAME:EST
DTSTART:20291104T060000
END:STANDARD
BEGIN:DAYLIGHT
TZOFFSETFROM:-0500
TZOFFSETTO:-0400
TZNAME:EDT
DTSTART:20300310T070000
END:DAYLIGHT
BEGIN:STANDARD
TZOFFSETFROM:-0400
TZOFFSETTO:-0500
TZNAME:EST
DTSTART:20301103T060000
END:STANDARD
END:VTIMEZONE
BEGIN:VEVENT
DTSTART;TZID=America/New_York:20281215T073000
DTEND;TZID=America/New_York:20281215T083000
DTSTAMP:20260423T140636
CREATED:20240711T165450Z
LAST-MODIFIED:20240920T130237Z
UID:10007060-1860478200-1860481800@standrewbytheseaumc.org
SUMMARY:Day Starters AA Group
DESCRIPTION:
URL:https://standrewbytheseaumc.org/event/day-starters-aa-group-3-2/2028-12-15/
LOCATION:Celebration Center
ATTACH;FMTTYPE=image/jpeg:/wp-content/uploads/2024/06/Group_Meeting-1000.jpg
END:VEVENT
BEGIN:VEVENT
DTSTART;TZID=America/New_York:20281218T073000
DTEND;TZID=America/New_York:20281218T083000
DTSTAMP:20260423T140636
CREATED:20240711T165450Z
LAST-MODIFIED:20240920T130237Z
UID:10007063-1860737400-1860741000@standrewbytheseaumc.org
SUMMARY:Day Starters AA Group
DESCRIPTION:
URL:https://standrewbytheseaumc.org/event/day-starters-aa-group-3-2/2028-12-18/
LOCATION:Celebration Center
ATTACH;FMTTYPE=image/jpeg:/wp-content/uploads/2024/06/Group_Meeting-1000.jpg
END:VEVENT
BEGIN:VEVENT
DTSTART;TZID=America/New_York:20281219T073000
DTEND;TZID=America/New_York:20281219T083000
DTSTAMP:20260423T140636
CREATED:20240711T165450Z
LAST-MODIFIED:20240920T130237Z
UID:10007064-1860823800-1860827400@standrewbytheseaumc.org
SUMMARY:Day Starters AA Group
DESCRIPTION:
URL:https://standrewbytheseaumc.org/event/day-starters-aa-group-3-2/2028-12-19/
LOCATION:Celebration Center
ATTACH;FMTTYPE=image/jpeg:/wp-content/uploads/2024/06/Group_Meeting-1000.jpg
END:VEVENT
BEGIN:VEVENT
DTSTART;TZID=America/New_York:20281220T073000
DTEND;TZID=America/New_York:20281220T083000
DTSTAMP:20260423T140636
CREATED:20240711T165450Z
LAST-MODIFIED:20240920T130237Z
UID:10007065-1860910200-1860913800@standrewbytheseaumc.org
SUMMARY:Day Starters AA Group
DESCRIPTION:
URL:https://standrewbytheseaumc.org/event/day-starters-aa-group-3-2/2028-12-20/
LOCATION:Celebration Center
ATTACH;FMTTYPE=image/jpeg:/wp-content/uploads/2024/06/Group_Meeting-1000.jpg
END:VEVENT
BEGIN:VEVENT
DTSTART;TZID=America/New_York:20281221T073000
DTEND;TZID=America/New_York:20281221T083000
DTSTAMP:20260423T140636
CREATED:20240711T165450Z
LAST-MODIFIED:20240920T130237Z
UID:10007066-1860996600-1861000200@standrewbytheseaumc.org
SUMMARY:Day Starters AA Group
DESCRIPTION:
URL:https://standrewbytheseaumc.org/event/day-starters-aa-group-3-2/2028-12-21/
LOCATION:Celebration Center
ATTACH;FMTTYPE=image/jpeg:/wp-content/uploads/2024/06/Group_Meeting-1000.jpg
END:VEVENT
BEGIN:VEVENT
DTSTART;TZID=America/New_York:20281222T073000
DTEND;TZID=America/New_York:20281222T083000
DTSTAMP:20260423T140636
CREATED:20240711T165450Z
LAST-MODIFIED:20240920T130237Z
UID:10007067-1861083000-1861086600@standrewbytheseaumc.org
SUMMARY:Day Starters AA Group
DESCRIPTION:
URL:https://standrewbytheseaumc.org/event/day-starters-aa-group-3-2/2028-12-22/
LOCATION:Celebration Center
ATTACH;FMTTYPE=image/jpeg:/wp-content/uploads/2024/06/Group_Meeting-1000.jpg
END:VEVENT
BEGIN:VEVENT
DTSTART;TZID=America/New_York:20281225T073000
DTEND;TZID=America/New_York:20281225T083000
DTSTAMP:20260423T140636
CREATED:20240711T165450Z
LAST-MODIFIED:20240920T130237Z
UID:10007070-1861342200-1861345800@standrewbytheseaumc.org
SUMMARY:Day Starters AA Group
DESCRIPTION:
URL:https://standrewbytheseaumc.org/event/day-starters-aa-group-3-2/2028-12-25/
LOCATION:Celebration Center
ATTACH;FMTTYPE=image/jpeg:/wp-content/uploads/2024/06/Group_Meeting-1000.jpg
END:VEVENT
BEGIN:VEVENT
DTSTART;TZID=America/New_York:20281226T073000
DTEND;TZID=America/New_York:20281226T083000
DTSTAMP:20260423T140636
CREATED:20240711T165450Z
LAST-MODIFIED:20240920T130237Z
UID:10007071-1861428600-1861432200@standrewbytheseaumc.org
SUMMARY:Day Starters AA Group
DESCRIPTION:
URL:https://standrewbytheseaumc.org/event/day-starters-aa-group-3-2/2028-12-26/
LOCATION:Celebration Center
ATTACH;FMTTYPE=image/jpeg:/wp-content/uploads/2024/06/Group_Meeting-1000.jpg
END:VEVENT
BEGIN:VEVENT
DTSTART;TZID=America/New_York:20281227T073000
DTEND;TZID=America/New_York:20281227T083000
DTSTAMP:20260423T140636
CREATED:20240711T165450Z
LAST-MODIFIED:20240920T130237Z
UID:10007072-1861515000-1861518600@standrewbytheseaumc.org
SUMMARY:Day Starters AA Group
DESCRIPTION:
URL:https://standrewbytheseaumc.org/event/day-starters-aa-group-3-2/2028-12-27/
LOCATION:Celebration Center
ATTACH;FMTTYPE=image/jpeg:/wp-content/uploads/2024/06/Group_Meeting-1000.jpg
END:VEVENT
BEGIN:VEVENT
DTSTART;TZID=America/New_York:20281228T073000
DTEND;TZID=America/New_York:20281228T083000
DTSTAMP:20260423T140636
CREATED:20240711T165450Z
LAST-MODIFIED:20240920T130237Z
UID:10007073-1861601400-1861605000@standrewbytheseaumc.org
SUMMARY:Day Starters AA Group
DESCRIPTION:
URL:https://standrewbytheseaumc.org/event/day-starters-aa-group-3-2/2028-12-28/
LOCATION:Celebration Center
ATTACH;FMTTYPE=image/jpeg:/wp-content/uploads/2024/06/Group_Meeting-1000.jpg
END:VEVENT
BEGIN:VEVENT
DTSTART;TZID=America/New_York:20281229T073000
DTEND;TZID=America/New_York:20281229T083000
DTSTAMP:20260423T140636
CREATED:20240711T165450Z
LAST-MODIFIED:20240920T130237Z
UID:10007074-1861687800-1861691400@standrewbytheseaumc.org
SUMMARY:Day Starters AA Group
DESCRIPTION:
URL:https://standrewbytheseaumc.org/event/day-starters-aa-group-3-2/2028-12-29/
LOCATION:Celebration Center
ATTACH;FMTTYPE=image/jpeg:/wp-content/uploads/2024/06/Group_Meeting-1000.jpg
END:VEVENT
BEGIN:VEVENT
DTSTART;TZID=America/New_York:20290101T073000
DTEND;TZID=America/New_York:20290101T083000
DTSTAMP:20260423T140636
CREATED:20240711T165450Z
LAST-MODIFIED:20240920T130237Z
UID:10007077-1861947000-1861950600@standrewbytheseaumc.org
SUMMARY:Day Starters AA Group
DESCRIPTION:
URL:https://standrewbytheseaumc.org/event/day-starters-aa-group-3-2/2029-01-01/
LOCATION:Celebration Center
ATTACH;FMTTYPE=image/jpeg:/wp-content/uploads/2024/06/Group_Meeting-1000.jpg
END:VEVENT
BEGIN:VEVENT
DTSTART;TZID=America/New_York:20290102T073000
DTEND;TZID=America/New_York:20290102T083000
DTSTAMP:20260423T140636
CREATED:20240711T165450Z
LAST-MODIFIED:20240920T130237Z
UID:10007078-1862033400-1862037000@standrewbytheseaumc.org
SUMMARY:Day Starters AA Group
DESCRIPTION:
URL:https://standrewbytheseaumc.org/event/day-starters-aa-group-3-2/2029-01-02/
LOCATION:Celebration Center
ATTACH;FMTTYPE=image/jpeg:/wp-content/uploads/2024/06/Group_Meeting-1000.jpg
END:VEVENT
BEGIN:VEVENT
DTSTART;TZID=America/New_York:20290103T073000
DTEND;TZID=America/New_York:20290103T083000
DTSTAMP:20260423T140636
CREATED:20240711T165450Z
LAST-MODIFIED:20240920T130237Z
UID:10007079-1862119800-1862123400@standrewbytheseaumc.org
SUMMARY:Day Starters AA Group
DESCRIPTION:
URL:https://standrewbytheseaumc.org/event/day-starters-aa-group-3-2/2029-01-03/
LOCATION:Celebration Center
ATTACH;FMTTYPE=image/jpeg:/wp-content/uploads/2024/06/Group_Meeting-1000.jpg
END:VEVENT
BEGIN:VEVENT
DTSTART;TZID=America/New_York:20290104T073000
DTEND;TZID=America/New_York:20290104T083000
DTSTAMP:20260423T140636
CREATED:20240711T165450Z
LAST-MODIFIED:20240920T130237Z
UID:10007080-1862206200-1862209800@standrewbytheseaumc.org
SUMMARY:Day Starters AA Group
DESCRIPTION:
URL:https://standrewbytheseaumc.org/event/day-starters-aa-group-3-2/2029-01-04/
LOCATION:Celebration Center
ATTACH;FMTTYPE=image/jpeg:/wp-content/uploads/2024/06/Group_Meeting-1000.jpg
END:VEVENT
BEGIN:VEVENT
DTSTART;TZID=America/New_York:20290105T073000
DTEND;TZID=America/New_York:20290105T083000
DTSTAMP:20260423T140636
CREATED:20240711T165450Z
LAST-MODIFIED:20240920T130237Z
UID:10007081-1862292600-1862296200@standrewbytheseaumc.org
SUMMARY:Day Starters AA Group
DESCRIPTION:
URL:https://standrewbytheseaumc.org/event/day-starters-aa-group-3-2/2029-01-05/
LOCATION:Celebration Center
ATTACH;FMTTYPE=image/jpeg:/wp-content/uploads/2024/06/Group_Meeting-1000.jpg
END:VEVENT
BEGIN:VEVENT
DTSTART;TZID=America/New_York:20290108T073000
DTEND;TZID=America/New_York:20290108T083000
DTSTAMP:20260423T140637
CREATED:20240711T165450Z
LAST-MODIFIED:20240920T130237Z
UID:10007084-1862551800-1862555400@standrewbytheseaumc.org
SUMMARY:Day Starters AA Group
DESCRIPTION:
URL:https://standrewbytheseaumc.org/event/day-starters-aa-group-3-2/2029-01-08/
LOCATION:Celebration Center
ATTACH;FMTTYPE=image/jpeg:/wp-content/uploads/2024/06/Group_Meeting-1000.jpg
END:VEVENT
BEGIN:VEVENT
DTSTART;TZID=America/New_York:20290109T073000
DTEND;TZID=America/New_York:20290109T083000
DTSTAMP:20260423T140637
CREATED:20240711T165450Z
LAST-MODIFIED:20240920T130237Z
UID:10007085-1862638200-1862641800@standrewbytheseaumc.org
SUMMARY:Day Starters AA Group
DESCRIPTION:
URL:https://standrewbytheseaumc.org/event/day-starters-aa-group-3-2/2029-01-09/
LOCATION:Celebration Center
ATTACH;FMTTYPE=image/jpeg:/wp-content/uploads/2024/06/Group_Meeting-1000.jpg
END:VEVENT
BEGIN:VEVENT
DTSTART;TZID=America/New_York:20290110T073000
DTEND;TZID=America/New_York:20290110T083000
DTSTAMP:20260423T140637
CREATED:20240711T165450Z
LAST-MODIFIED:20240920T130237Z
UID:10007086-1862724600-1862728200@standrewbytheseaumc.org
SUMMARY:Day Starters AA Group
DESCRIPTION:
URL:https://standrewbytheseaumc.org/event/day-starters-aa-group-3-2/2029-01-10/
LOCATION:Celebration Center
ATTACH;FMTTYPE=image/jpeg:/wp-content/uploads/2024/06/Group_Meeting-1000.jpg
END:VEVENT
BEGIN:VEVENT
DTSTART;TZID=America/New_York:20290111T073000
DTEND;TZID=America/New_York:20290111T083000
DTSTAMP:20260423T140637
CREATED:20240711T165450Z
LAST-MODIFIED:20240920T130237Z
UID:10007087-1862811000-1862814600@standrewbytheseaumc.org
SUMMARY:Day Starters AA Group
DESCRIPTION:
URL:https://standrewbytheseaumc.org/event/day-starters-aa-group-3-2/2029-01-11/
LOCATION:Celebration Center
ATTACH;FMTTYPE=image/jpeg:/wp-content/uploads/2024/06/Group_Meeting-1000.jpg
END:VEVENT
BEGIN:VEVENT
DTSTART;TZID=America/New_York:20290112T073000
DTEND;TZID=America/New_York:20290112T083000
DTSTAMP:20260423T140637
CREATED:20240711T165450Z
LAST-MODIFIED:20240920T130237Z
UID:10007088-1862897400-1862901000@standrewbytheseaumc.org
SUMMARY:Day Starters AA Group
DESCRIPTION:
URL:https://standrewbytheseaumc.org/event/day-starters-aa-group-3-2/2029-01-12/
LOCATION:Celebration Center
ATTACH;FMTTYPE=image/jpeg:/wp-content/uploads/2024/06/Group_Meeting-1000.jpg
END:VEVENT
BEGIN:VEVENT
DTSTART;TZID=America/New_York:20290115T073000
DTEND;TZID=America/New_York:20290115T083000
DTSTAMP:20260423T140637
CREATED:20240711T165450Z
LAST-MODIFIED:20240920T130237Z
UID:10007091-1863156600-1863160200@standrewbytheseaumc.org
SUMMARY:Day Starters AA Group
DESCRIPTION:
URL:https://standrewbytheseaumc.org/event/day-starters-aa-group-3-2/2029-01-15/
LOCATION:Celebration Center
ATTACH;FMTTYPE=image/jpeg:/wp-content/uploads/2024/06/Group_Meeting-1000.jpg
END:VEVENT
BEGIN:VEVENT
DTSTART;TZID=America/New_York:20290116T073000
DTEND;TZID=America/New_York:20290116T083000
DTSTAMP:20260423T140637
CREATED:20240711T165450Z
LAST-MODIFIED:20240920T130237Z
UID:10007092-1863243000-1863246600@standrewbytheseaumc.org
SUMMARY:Day Starters AA Group
DESCRIPTION:
URL:https://standrewbytheseaumc.org/event/day-starters-aa-group-3-2/2029-01-16/
LOCATION:Celebration Center
ATTACH;FMTTYPE=image/jpeg:/wp-content/uploads/2024/06/Group_Meeting-1000.jpg
END:VEVENT
BEGIN:VEVENT
DTSTART;TZID=America/New_York:20290117T073000
DTEND;TZID=America/New_York:20290117T083000
DTSTAMP:20260423T140637
CREATED:20240711T165450Z
LAST-MODIFIED:20240920T130237Z
UID:10007093-1863329400-1863333000@standrewbytheseaumc.org
SUMMARY:Day Starters AA Group
DESCRIPTION:
URL:https://standrewbytheseaumc.org/event/day-starters-aa-group-3-2/2029-01-17/
LOCATION:Celebration Center
ATTACH;FMTTYPE=image/jpeg:/wp-content/uploads/2024/06/Group_Meeting-1000.jpg
END:VEVENT
BEGIN:VEVENT
DTSTART;TZID=America/New_York:20290118T073000
DTEND;TZID=America/New_York:20290118T083000
DTSTAMP:20260423T140637
CREATED:20240711T165450Z
LAST-MODIFIED:20240920T130237Z
UID:10007094-1863415800-1863419400@standrewbytheseaumc.org
SUMMARY:Day Starters AA Group
DESCRIPTION:
URL:https://standrewbytheseaumc.org/event/day-starters-aa-group-3-2/2029-01-18/
LOCATION:Celebration Center
ATTACH;FMTTYPE=image/jpeg:/wp-content/uploads/2024/06/Group_Meeting-1000.jpg
END:VEVENT
BEGIN:VEVENT
DTSTART;TZID=America/New_York:20290119T073000
DTEND;TZID=America/New_York:20290119T083000
DTSTAMP:20260423T140637
CREATED:20240711T165450Z
LAST-MODIFIED:20240920T130237Z
UID:10007095-1863502200-1863505800@standrewbytheseaumc.org
SUMMARY:Day Starters AA Group
DESCRIPTION:
URL:https://standrewbytheseaumc.org/event/day-starters-aa-group-3-2/2029-01-19/
LOCATION:Celebration Center
ATTACH;FMTTYPE=image/jpeg:/wp-content/uploads/2024/06/Group_Meeting-1000.jpg
END:VEVENT
BEGIN:VEVENT
DTSTART;TZID=America/New_York:20290122T073000
DTEND;TZID=America/New_York:20290122T083000
DTSTAMP:20260423T140637
CREATED:20240711T165450Z
LAST-MODIFIED:20240920T130237Z
UID:10007098-1863761400-1863765000@standrewbytheseaumc.org
SUMMARY:Day Starters AA Group
DESCRIPTION:
URL:https://standrewbytheseaumc.org/event/day-starters-aa-group-3-2/2029-01-22/
LOCATION:Celebration Center
ATTACH;FMTTYPE=image/jpeg:/wp-content/uploads/2024/06/Group_Meeting-1000.jpg
END:VEVENT
BEGIN:VEVENT
DTSTART;TZID=America/New_York:20290123T073000
DTEND;TZID=America/New_York:20290123T083000
DTSTAMP:20260423T140637
CREATED:20240711T165450Z
LAST-MODIFIED:20240920T130237Z
UID:10007099-1863847800-1863851400@standrewbytheseaumc.org
SUMMARY:Day Starters AA Group
DESCRIPTION:
URL:https://standrewbytheseaumc.org/event/day-starters-aa-group-3-2/2029-01-23/
LOCATION:Celebration Center
ATTACH;FMTTYPE=image/jpeg:/wp-content/uploads/2024/06/Group_Meeting-1000.jpg
END:VEVENT
BEGIN:VEVENT
DTSTART;TZID=America/New_York:20290124T073000
DTEND;TZID=America/New_York:20290124T083000
DTSTAMP:20260423T140637
CREATED:20240711T165450Z
LAST-MODIFIED:20240920T130237Z
UID:10007100-1863934200-1863937800@standrewbytheseaumc.org
SUMMARY:Day Starters AA Group
DESCRIPTION:
URL:https://standrewbytheseaumc.org/event/day-starters-aa-group-3-2/2029-01-24/
LOCATION:Celebration Center
ATTACH;FMTTYPE=image/jpeg:/wp-content/uploads/2024/06/Group_Meeting-1000.jpg
END:VEVENT
BEGIN:VEVENT
DTSTART;TZID=America/New_York:20290125T073000
DTEND;TZID=America/New_York:20290125T083000
DTSTAMP:20260423T140637
CREATED:20240711T165450Z
LAST-MODIFIED:20240920T130237Z
UID:10007101-1864020600-1864024200@standrewbytheseaumc.org
SUMMARY:Day Starters AA Group
DESCRIPTION:
URL:https://standrewbytheseaumc.org/event/day-starters-aa-group-3-2/2029-01-25/
LOCATION:Celebration Center
ATTACH;FMTTYPE=image/jpeg:/wp-content/uploads/2024/06/Group_Meeting-1000.jpg
END:VEVENT
END:VCALENDAR