BEGIN:VCALENDAR
VERSION:2.0
PRODID:-//St. Andrew By-The-Sea United Methodist Church - ECPv6.15.20//NONSGML v1.0//EN
CALSCALE:GREGORIAN
METHOD:PUBLISH
X-ORIGINAL-URL:https://standrewbytheseaumc.org
X-WR-CALDESC:Events for St. Andrew By-The-Sea United Methodist Church
REFRESH-INTERVAL;VALUE=DURATION:PT1H
X-Robots-Tag:noindex
X-PUBLISHED-TTL:PT1H
BEGIN:VTIMEZONE
TZID:America/New_York
BEGIN:DAYLIGHT
TZOFFSETFROM:-0500
TZOFFSETTO:-0400
TZNAME:EDT
DTSTART:20280312T070000
END:DAYLIGHT
BEGIN:STANDARD
TZOFFSETFROM:-0400
TZOFFSETTO:-0500
TZNAME:EST
DTSTART:20281105T060000
END:STANDARD
BEGIN:DAYLIGHT
TZOFFSETFROM:-0500
TZOFFSETTO:-0400
TZNAME:EDT
DTSTART:20290311T070000
END:DAYLIGHT
BEGIN:STANDARD
TZOFFSETFROM:-0400
TZOFFSETTO:-0500
TZNAME:EST
DTSTART:20291104T060000
END:STANDARD
BEGIN:DAYLIGHT
TZOFFSETFROM:-0500
TZOFFSETTO:-0400
TZNAME:EDT
DTSTART:20300310T070000
END:DAYLIGHT
BEGIN:STANDARD
TZOFFSETFROM:-0400
TZOFFSETTO:-0500
TZNAME:EST
DTSTART:20301103T060000
END:STANDARD
END:VTIMEZONE
BEGIN:VEVENT
DTSTART;TZID=America/New_York:20290118T073000
DTEND;TZID=America/New_York:20290118T083000
DTSTAMP:20260423T171445
CREATED:20240711T165450Z
LAST-MODIFIED:20240920T130237Z
UID:10007094-1863415800-1863419400@standrewbytheseaumc.org
SUMMARY:Day Starters AA Group
DESCRIPTION:
URL:https://standrewbytheseaumc.org/event/day-starters-aa-group-3-2/2029-01-18/
LOCATION:Celebration Center
ATTACH;FMTTYPE=image/jpeg:/wp-content/uploads/2024/06/Group_Meeting-1000.jpg
END:VEVENT
BEGIN:VEVENT
DTSTART;TZID=America/New_York:20290119T073000
DTEND;TZID=America/New_York:20290119T083000
DTSTAMP:20260423T171445
CREATED:20240711T165450Z
LAST-MODIFIED:20240920T130237Z
UID:10007095-1863502200-1863505800@standrewbytheseaumc.org
SUMMARY:Day Starters AA Group
DESCRIPTION:
URL:https://standrewbytheseaumc.org/event/day-starters-aa-group-3-2/2029-01-19/
LOCATION:Celebration Center
ATTACH;FMTTYPE=image/jpeg:/wp-content/uploads/2024/06/Group_Meeting-1000.jpg
END:VEVENT
BEGIN:VEVENT
DTSTART;TZID=America/New_York:20290122T073000
DTEND;TZID=America/New_York:20290122T083000
DTSTAMP:20260423T171445
CREATED:20240711T165450Z
LAST-MODIFIED:20240920T130237Z
UID:10007098-1863761400-1863765000@standrewbytheseaumc.org
SUMMARY:Day Starters AA Group
DESCRIPTION:
URL:https://standrewbytheseaumc.org/event/day-starters-aa-group-3-2/2029-01-22/
LOCATION:Celebration Center
ATTACH;FMTTYPE=image/jpeg:/wp-content/uploads/2024/06/Group_Meeting-1000.jpg
END:VEVENT
BEGIN:VEVENT
DTSTART;TZID=America/New_York:20290123T073000
DTEND;TZID=America/New_York:20290123T083000
DTSTAMP:20260423T171445
CREATED:20240711T165450Z
LAST-MODIFIED:20240920T130237Z
UID:10007099-1863847800-1863851400@standrewbytheseaumc.org
SUMMARY:Day Starters AA Group
DESCRIPTION:
URL:https://standrewbytheseaumc.org/event/day-starters-aa-group-3-2/2029-01-23/
LOCATION:Celebration Center
ATTACH;FMTTYPE=image/jpeg:/wp-content/uploads/2024/06/Group_Meeting-1000.jpg
END:VEVENT
BEGIN:VEVENT
DTSTART;TZID=America/New_York:20290124T073000
DTEND;TZID=America/New_York:20290124T083000
DTSTAMP:20260423T171445
CREATED:20240711T165450Z
LAST-MODIFIED:20240920T130237Z
UID:10007100-1863934200-1863937800@standrewbytheseaumc.org
SUMMARY:Day Starters AA Group
DESCRIPTION:
URL:https://standrewbytheseaumc.org/event/day-starters-aa-group-3-2/2029-01-24/
LOCATION:Celebration Center
ATTACH;FMTTYPE=image/jpeg:/wp-content/uploads/2024/06/Group_Meeting-1000.jpg
END:VEVENT
BEGIN:VEVENT
DTSTART;TZID=America/New_York:20290125T073000
DTEND;TZID=America/New_York:20290125T083000
DTSTAMP:20260423T171445
CREATED:20240711T165450Z
LAST-MODIFIED:20240920T130237Z
UID:10007101-1864020600-1864024200@standrewbytheseaumc.org
SUMMARY:Day Starters AA Group
DESCRIPTION:
URL:https://standrewbytheseaumc.org/event/day-starters-aa-group-3-2/2029-01-25/
LOCATION:Celebration Center
ATTACH;FMTTYPE=image/jpeg:/wp-content/uploads/2024/06/Group_Meeting-1000.jpg
END:VEVENT
BEGIN:VEVENT
DTSTART;TZID=America/New_York:20290126T073000
DTEND;TZID=America/New_York:20290126T083000
DTSTAMP:20260423T171445
CREATED:20240711T165450Z
LAST-MODIFIED:20240920T130237Z
UID:10007102-1864107000-1864110600@standrewbytheseaumc.org
SUMMARY:Day Starters AA Group
DESCRIPTION:
URL:https://standrewbytheseaumc.org/event/day-starters-aa-group-3-2/2029-01-26/
LOCATION:Celebration Center
ATTACH;FMTTYPE=image/jpeg:/wp-content/uploads/2024/06/Group_Meeting-1000.jpg
END:VEVENT
BEGIN:VEVENT
DTSTART;TZID=America/New_York:20290129T073000
DTEND;TZID=America/New_York:20290129T083000
DTSTAMP:20260423T171445
CREATED:20240711T165450Z
LAST-MODIFIED:20240920T130237Z
UID:10007105-1864366200-1864369800@standrewbytheseaumc.org
SUMMARY:Day Starters AA Group
DESCRIPTION:
URL:https://standrewbytheseaumc.org/event/day-starters-aa-group-3-2/2029-01-29/
LOCATION:Celebration Center
ATTACH;FMTTYPE=image/jpeg:/wp-content/uploads/2024/06/Group_Meeting-1000.jpg
END:VEVENT
BEGIN:VEVENT
DTSTART;TZID=America/New_York:20290130T073000
DTEND;TZID=America/New_York:20290130T083000
DTSTAMP:20260423T171445
CREATED:20240711T165450Z
LAST-MODIFIED:20240920T130237Z
UID:10007106-1864452600-1864456200@standrewbytheseaumc.org
SUMMARY:Day Starters AA Group
DESCRIPTION:
URL:https://standrewbytheseaumc.org/event/day-starters-aa-group-3-2/2029-01-30/
LOCATION:Celebration Center
ATTACH;FMTTYPE=image/jpeg:/wp-content/uploads/2024/06/Group_Meeting-1000.jpg
END:VEVENT
BEGIN:VEVENT
DTSTART;TZID=America/New_York:20290131T073000
DTEND;TZID=America/New_York:20290131T083000
DTSTAMP:20260423T171445
CREATED:20240711T165450Z
LAST-MODIFIED:20240920T130237Z
UID:10007107-1864539000-1864542600@standrewbytheseaumc.org
SUMMARY:Day Starters AA Group
DESCRIPTION:
URL:https://standrewbytheseaumc.org/event/day-starters-aa-group-3-2/2029-01-31/
LOCATION:Celebration Center
ATTACH;FMTTYPE=image/jpeg:/wp-content/uploads/2024/06/Group_Meeting-1000.jpg
END:VEVENT
BEGIN:VEVENT
DTSTART;TZID=America/New_York:20290201T073000
DTEND;TZID=America/New_York:20290201T083000
DTSTAMP:20260423T171445
CREATED:20240711T165450Z
LAST-MODIFIED:20240920T130237Z
UID:10007108-1864625400-1864629000@standrewbytheseaumc.org
SUMMARY:Day Starters AA Group
DESCRIPTION:
URL:https://standrewbytheseaumc.org/event/day-starters-aa-group-3-2/2029-02-01/
LOCATION:Celebration Center
ATTACH;FMTTYPE=image/jpeg:/wp-content/uploads/2024/06/Group_Meeting-1000.jpg
END:VEVENT
BEGIN:VEVENT
DTSTART;TZID=America/New_York:20290202T073000
DTEND;TZID=America/New_York:20290202T083000
DTSTAMP:20260423T171445
CREATED:20240711T165450Z
LAST-MODIFIED:20240920T130237Z
UID:10007109-1864711800-1864715400@standrewbytheseaumc.org
SUMMARY:Day Starters AA Group
DESCRIPTION:
URL:https://standrewbytheseaumc.org/event/day-starters-aa-group-3-2/2029-02-02/
LOCATION:Celebration Center
ATTACH;FMTTYPE=image/jpeg:/wp-content/uploads/2024/06/Group_Meeting-1000.jpg
END:VEVENT
BEGIN:VEVENT
DTSTART;TZID=America/New_York:20290205T073000
DTEND;TZID=America/New_York:20290205T083000
DTSTAMP:20260423T171445
CREATED:20240711T165450Z
LAST-MODIFIED:20240920T130237Z
UID:10007112-1864971000-1864974600@standrewbytheseaumc.org
SUMMARY:Day Starters AA Group
DESCRIPTION:
URL:https://standrewbytheseaumc.org/event/day-starters-aa-group-3-2/2029-02-05/
LOCATION:Celebration Center
ATTACH;FMTTYPE=image/jpeg:/wp-content/uploads/2024/06/Group_Meeting-1000.jpg
END:VEVENT
BEGIN:VEVENT
DTSTART;TZID=America/New_York:20290206T073000
DTEND;TZID=America/New_York:20290206T083000
DTSTAMP:20260423T171445
CREATED:20240711T165450Z
LAST-MODIFIED:20240920T130237Z
UID:10007113-1865057400-1865061000@standrewbytheseaumc.org
SUMMARY:Day Starters AA Group
DESCRIPTION:
URL:https://standrewbytheseaumc.org/event/day-starters-aa-group-3-2/2029-02-06/
LOCATION:Celebration Center
ATTACH;FMTTYPE=image/jpeg:/wp-content/uploads/2024/06/Group_Meeting-1000.jpg
END:VEVENT
BEGIN:VEVENT
DTSTART;TZID=America/New_York:20290207T073000
DTEND;TZID=America/New_York:20290207T083000
DTSTAMP:20260423T171445
CREATED:20240711T165450Z
LAST-MODIFIED:20240920T130237Z
UID:10007114-1865143800-1865147400@standrewbytheseaumc.org
SUMMARY:Day Starters AA Group
DESCRIPTION:
URL:https://standrewbytheseaumc.org/event/day-starters-aa-group-3-2/2029-02-07/
LOCATION:Celebration Center
ATTACH;FMTTYPE=image/jpeg:/wp-content/uploads/2024/06/Group_Meeting-1000.jpg
END:VEVENT
BEGIN:VEVENT
DTSTART;TZID=America/New_York:20290208T073000
DTEND;TZID=America/New_York:20290208T083000
DTSTAMP:20260423T171445
CREATED:20240711T165450Z
LAST-MODIFIED:20240920T130237Z
UID:10007115-1865230200-1865233800@standrewbytheseaumc.org
SUMMARY:Day Starters AA Group
DESCRIPTION:
URL:https://standrewbytheseaumc.org/event/day-starters-aa-group-3-2/2029-02-08/
LOCATION:Celebration Center
ATTACH;FMTTYPE=image/jpeg:/wp-content/uploads/2024/06/Group_Meeting-1000.jpg
END:VEVENT
BEGIN:VEVENT
DTSTART;TZID=America/New_York:20290209T073000
DTEND;TZID=America/New_York:20290209T083000
DTSTAMP:20260423T171445
CREATED:20240711T165450Z
LAST-MODIFIED:20240920T130237Z
UID:10007116-1865316600-1865320200@standrewbytheseaumc.org
SUMMARY:Day Starters AA Group
DESCRIPTION:
URL:https://standrewbytheseaumc.org/event/day-starters-aa-group-3-2/2029-02-09/
LOCATION:Celebration Center
ATTACH;FMTTYPE=image/jpeg:/wp-content/uploads/2024/06/Group_Meeting-1000.jpg
END:VEVENT
BEGIN:VEVENT
DTSTART;TZID=America/New_York:20290212T073000
DTEND;TZID=America/New_York:20290212T083000
DTSTAMP:20260423T171445
CREATED:20240711T165450Z
LAST-MODIFIED:20240920T130237Z
UID:10007119-1865575800-1865579400@standrewbytheseaumc.org
SUMMARY:Day Starters AA Group
DESCRIPTION:
URL:https://standrewbytheseaumc.org/event/day-starters-aa-group-3-2/2029-02-12/
LOCATION:Celebration Center
ATTACH;FMTTYPE=image/jpeg:/wp-content/uploads/2024/06/Group_Meeting-1000.jpg
END:VEVENT
BEGIN:VEVENT
DTSTART;TZID=America/New_York:20290213T073000
DTEND;TZID=America/New_York:20290213T083000
DTSTAMP:20260423T171445
CREATED:20240711T165450Z
LAST-MODIFIED:20240920T130237Z
UID:10007120-1865662200-1865665800@standrewbytheseaumc.org
SUMMARY:Day Starters AA Group
DESCRIPTION:
URL:https://standrewbytheseaumc.org/event/day-starters-aa-group-3-2/2029-02-13/
LOCATION:Celebration Center
ATTACH;FMTTYPE=image/jpeg:/wp-content/uploads/2024/06/Group_Meeting-1000.jpg
END:VEVENT
BEGIN:VEVENT
DTSTART;TZID=America/New_York:20290214T073000
DTEND;TZID=America/New_York:20290214T083000
DTSTAMP:20260423T171445
CREATED:20240711T165450Z
LAST-MODIFIED:20240920T130237Z
UID:10007121-1865748600-1865752200@standrewbytheseaumc.org
SUMMARY:Day Starters AA Group
DESCRIPTION:
URL:https://standrewbytheseaumc.org/event/day-starters-aa-group-3-2/2029-02-14/
LOCATION:Celebration Center
ATTACH;FMTTYPE=image/jpeg:/wp-content/uploads/2024/06/Group_Meeting-1000.jpg
END:VEVENT
BEGIN:VEVENT
DTSTART;TZID=America/New_York:20290215T073000
DTEND;TZID=America/New_York:20290215T083000
DTSTAMP:20260423T171445
CREATED:20240711T165450Z
LAST-MODIFIED:20240920T130237Z
UID:10007122-1865835000-1865838600@standrewbytheseaumc.org
SUMMARY:Day Starters AA Group
DESCRIPTION:
URL:https://standrewbytheseaumc.org/event/day-starters-aa-group-3-2/2029-02-15/
LOCATION:Celebration Center
ATTACH;FMTTYPE=image/jpeg:/wp-content/uploads/2024/06/Group_Meeting-1000.jpg
END:VEVENT
BEGIN:VEVENT
DTSTART;TZID=America/New_York:20290216T073000
DTEND;TZID=America/New_York:20290216T083000
DTSTAMP:20260423T171445
CREATED:20240711T165450Z
LAST-MODIFIED:20240920T130237Z
UID:10007123-1865921400-1865925000@standrewbytheseaumc.org
SUMMARY:Day Starters AA Group
DESCRIPTION:
URL:https://standrewbytheseaumc.org/event/day-starters-aa-group-3-2/2029-02-16/
LOCATION:Celebration Center
ATTACH;FMTTYPE=image/jpeg:/wp-content/uploads/2024/06/Group_Meeting-1000.jpg
END:VEVENT
BEGIN:VEVENT
DTSTART;TZID=America/New_York:20290219T073000
DTEND;TZID=America/New_York:20290219T083000
DTSTAMP:20260423T171445
CREATED:20240711T165450Z
LAST-MODIFIED:20240920T130237Z
UID:10007126-1866180600-1866184200@standrewbytheseaumc.org
SUMMARY:Day Starters AA Group
DESCRIPTION:
URL:https://standrewbytheseaumc.org/event/day-starters-aa-group-3-2/2029-02-19/
LOCATION:Celebration Center
ATTACH;FMTTYPE=image/jpeg:/wp-content/uploads/2024/06/Group_Meeting-1000.jpg
END:VEVENT
BEGIN:VEVENT
DTSTART;TZID=America/New_York:20290220T073000
DTEND;TZID=America/New_York:20290220T083000
DTSTAMP:20260423T171445
CREATED:20240711T165450Z
LAST-MODIFIED:20240920T130237Z
UID:10007127-1866267000-1866270600@standrewbytheseaumc.org
SUMMARY:Day Starters AA Group
DESCRIPTION:
URL:https://standrewbytheseaumc.org/event/day-starters-aa-group-3-2/2029-02-20/
LOCATION:Celebration Center
ATTACH;FMTTYPE=image/jpeg:/wp-content/uploads/2024/06/Group_Meeting-1000.jpg
END:VEVENT
BEGIN:VEVENT
DTSTART;TZID=America/New_York:20290221T073000
DTEND;TZID=America/New_York:20290221T083000
DTSTAMP:20260423T171445
CREATED:20240711T165450Z
LAST-MODIFIED:20240920T130237Z
UID:10007128-1866353400-1866357000@standrewbytheseaumc.org
SUMMARY:Day Starters AA Group
DESCRIPTION:
URL:https://standrewbytheseaumc.org/event/day-starters-aa-group-3-2/2029-02-21/
LOCATION:Celebration Center
ATTACH;FMTTYPE=image/jpeg:/wp-content/uploads/2024/06/Group_Meeting-1000.jpg
END:VEVENT
BEGIN:VEVENT
DTSTART;TZID=America/New_York:20290222T073000
DTEND;TZID=America/New_York:20290222T083000
DTSTAMP:20260423T171445
CREATED:20240711T165450Z
LAST-MODIFIED:20240920T130237Z
UID:10007129-1866439800-1866443400@standrewbytheseaumc.org
SUMMARY:Day Starters AA Group
DESCRIPTION:
URL:https://standrewbytheseaumc.org/event/day-starters-aa-group-3-2/2029-02-22/
LOCATION:Celebration Center
ATTACH;FMTTYPE=image/jpeg:/wp-content/uploads/2024/06/Group_Meeting-1000.jpg
END:VEVENT
BEGIN:VEVENT
DTSTART;TZID=America/New_York:20290223T073000
DTEND;TZID=America/New_York:20290223T083000
DTSTAMP:20260423T171445
CREATED:20240711T165450Z
LAST-MODIFIED:20240920T130237Z
UID:10007130-1866526200-1866529800@standrewbytheseaumc.org
SUMMARY:Day Starters AA Group
DESCRIPTION:
URL:https://standrewbytheseaumc.org/event/day-starters-aa-group-3-2/2029-02-23/
LOCATION:Celebration Center
ATTACH;FMTTYPE=image/jpeg:/wp-content/uploads/2024/06/Group_Meeting-1000.jpg
END:VEVENT
BEGIN:VEVENT
DTSTART;TZID=America/New_York:20290226T073000
DTEND;TZID=America/New_York:20290226T083000
DTSTAMP:20260423T171445
CREATED:20240711T165450Z
LAST-MODIFIED:20240920T130237Z
UID:10007133-1866785400-1866789000@standrewbytheseaumc.org
SUMMARY:Day Starters AA Group
DESCRIPTION:
URL:https://standrewbytheseaumc.org/event/day-starters-aa-group-3-2/2029-02-26/
LOCATION:Celebration Center
ATTACH;FMTTYPE=image/jpeg:/wp-content/uploads/2024/06/Group_Meeting-1000.jpg
END:VEVENT
BEGIN:VEVENT
DTSTART;TZID=America/New_York:20290227T073000
DTEND;TZID=America/New_York:20290227T083000
DTSTAMP:20260423T171445
CREATED:20240711T165450Z
LAST-MODIFIED:20240920T130237Z
UID:10007134-1866871800-1866875400@standrewbytheseaumc.org
SUMMARY:Day Starters AA Group
DESCRIPTION:
URL:https://standrewbytheseaumc.org/event/day-starters-aa-group-3-2/2029-02-27/
LOCATION:Celebration Center
ATTACH;FMTTYPE=image/jpeg:/wp-content/uploads/2024/06/Group_Meeting-1000.jpg
END:VEVENT
BEGIN:VEVENT
DTSTART;TZID=America/New_York:20290228T073000
DTEND;TZID=America/New_York:20290228T083000
DTSTAMP:20260423T171445
CREATED:20240711T165450Z
LAST-MODIFIED:20240920T130237Z
UID:10007135-1866958200-1866961800@standrewbytheseaumc.org
SUMMARY:Day Starters AA Group
DESCRIPTION:
URL:https://standrewbytheseaumc.org/event/day-starters-aa-group-3-2/2029-02-28/
LOCATION:Celebration Center
ATTACH;FMTTYPE=image/jpeg:/wp-content/uploads/2024/06/Group_Meeting-1000.jpg
END:VEVENT
END:VCALENDAR