BEGIN:VCALENDAR
VERSION:2.0
PRODID:-//St. Andrew By-The-Sea United Methodist Church - ECPv6.15.20//NONSGML v1.0//EN
CALSCALE:GREGORIAN
METHOD:PUBLISH
X-WR-CALNAME:St. Andrew By-The-Sea United Methodist Church
X-ORIGINAL-URL:https://standrewbytheseaumc.org
X-WR-CALDESC:Events for St. Andrew By-The-Sea United Methodist Church
REFRESH-INTERVAL;VALUE=DURATION:PT1H
X-Robots-Tag:noindex
X-PUBLISHED-TTL:PT1H
BEGIN:VTIMEZONE
TZID:America/New_York
BEGIN:DAYLIGHT
TZOFFSETFROM:-0500
TZOFFSETTO:-0400
TZNAME:EDT
DTSTART:20280312T070000
END:DAYLIGHT
BEGIN:STANDARD
TZOFFSETFROM:-0400
TZOFFSETTO:-0500
TZNAME:EST
DTSTART:20281105T060000
END:STANDARD
BEGIN:DAYLIGHT
TZOFFSETFROM:-0500
TZOFFSETTO:-0400
TZNAME:EDT
DTSTART:20290311T070000
END:DAYLIGHT
BEGIN:STANDARD
TZOFFSETFROM:-0400
TZOFFSETTO:-0500
TZNAME:EST
DTSTART:20291104T060000
END:STANDARD
BEGIN:DAYLIGHT
TZOFFSETFROM:-0500
TZOFFSETTO:-0400
TZNAME:EDT
DTSTART:20300310T070000
END:DAYLIGHT
BEGIN:STANDARD
TZOFFSETFROM:-0400
TZOFFSETTO:-0500
TZNAME:EST
DTSTART:20301103T060000
END:STANDARD
END:VTIMEZONE
BEGIN:VEVENT
DTSTART;TZID=America/New_York:20290309T073000
DTEND;TZID=America/New_York:20290309T083000
DTSTAMP:20260423T215353
CREATED:20240711T165450Z
LAST-MODIFIED:20240920T130237Z
UID:10007144-1867735800-1867739400@standrewbytheseaumc.org
SUMMARY:Day Starters AA Group
DESCRIPTION:
URL:https://standrewbytheseaumc.org/event/day-starters-aa-group-3-2/2029-03-09/
LOCATION:Celebration Center
ATTACH;FMTTYPE=image/jpeg:/wp-content/uploads/2024/06/Group_Meeting-1000.jpg
END:VEVENT
BEGIN:VEVENT
DTSTART;TZID=America/New_York:20290312T073000
DTEND;TZID=America/New_York:20290312T083000
DTSTAMP:20260423T215353
CREATED:20240711T165450Z
LAST-MODIFIED:20240920T130237Z
UID:10007147-1867995000-1867998600@standrewbytheseaumc.org
SUMMARY:Day Starters AA Group
DESCRIPTION:
URL:https://standrewbytheseaumc.org/event/day-starters-aa-group-3-2/2029-03-12/
LOCATION:Celebration Center
ATTACH;FMTTYPE=image/jpeg:/wp-content/uploads/2024/06/Group_Meeting-1000.jpg
END:VEVENT
BEGIN:VEVENT
DTSTART;TZID=America/New_York:20290313T073000
DTEND;TZID=America/New_York:20290313T083000
DTSTAMP:20260423T215353
CREATED:20240711T165450Z
LAST-MODIFIED:20240920T130237Z
UID:10007148-1868081400-1868085000@standrewbytheseaumc.org
SUMMARY:Day Starters AA Group
DESCRIPTION:
URL:https://standrewbytheseaumc.org/event/day-starters-aa-group-3-2/2029-03-13/
LOCATION:Celebration Center
ATTACH;FMTTYPE=image/jpeg:/wp-content/uploads/2024/06/Group_Meeting-1000.jpg
END:VEVENT
BEGIN:VEVENT
DTSTART;TZID=America/New_York:20290314T073000
DTEND;TZID=America/New_York:20290314T083000
DTSTAMP:20260423T215353
CREATED:20240711T165450Z
LAST-MODIFIED:20240920T130237Z
UID:10007149-1868167800-1868171400@standrewbytheseaumc.org
SUMMARY:Day Starters AA Group
DESCRIPTION:
URL:https://standrewbytheseaumc.org/event/day-starters-aa-group-3-2/2029-03-14/
LOCATION:Celebration Center
ATTACH;FMTTYPE=image/jpeg:/wp-content/uploads/2024/06/Group_Meeting-1000.jpg
END:VEVENT
BEGIN:VEVENT
DTSTART;TZID=America/New_York:20290315T073000
DTEND;TZID=America/New_York:20290315T083000
DTSTAMP:20260423T215353
CREATED:20240711T165450Z
LAST-MODIFIED:20240920T130237Z
UID:10007150-1868254200-1868257800@standrewbytheseaumc.org
SUMMARY:Day Starters AA Group
DESCRIPTION:
URL:https://standrewbytheseaumc.org/event/day-starters-aa-group-3-2/2029-03-15/
LOCATION:Celebration Center
ATTACH;FMTTYPE=image/jpeg:/wp-content/uploads/2024/06/Group_Meeting-1000.jpg
END:VEVENT
BEGIN:VEVENT
DTSTART;TZID=America/New_York:20290316T073000
DTEND;TZID=America/New_York:20290316T083000
DTSTAMP:20260423T215353
CREATED:20240711T165450Z
LAST-MODIFIED:20240920T130237Z
UID:10007151-1868340600-1868344200@standrewbytheseaumc.org
SUMMARY:Day Starters AA Group
DESCRIPTION:
URL:https://standrewbytheseaumc.org/event/day-starters-aa-group-3-2/2029-03-16/
LOCATION:Celebration Center
ATTACH;FMTTYPE=image/jpeg:/wp-content/uploads/2024/06/Group_Meeting-1000.jpg
END:VEVENT
BEGIN:VEVENT
DTSTART;TZID=America/New_York:20290319T073000
DTEND;TZID=America/New_York:20290319T083000
DTSTAMP:20260423T215353
CREATED:20240711T165450Z
LAST-MODIFIED:20240920T130237Z
UID:10007154-1868599800-1868603400@standrewbytheseaumc.org
SUMMARY:Day Starters AA Group
DESCRIPTION:
URL:https://standrewbytheseaumc.org/event/day-starters-aa-group-3-2/2029-03-19/
LOCATION:Celebration Center
ATTACH;FMTTYPE=image/jpeg:/wp-content/uploads/2024/06/Group_Meeting-1000.jpg
END:VEVENT
BEGIN:VEVENT
DTSTART;TZID=America/New_York:20290320T073000
DTEND;TZID=America/New_York:20290320T083000
DTSTAMP:20260423T215353
CREATED:20240711T165450Z
LAST-MODIFIED:20240920T130237Z
UID:10007155-1868686200-1868689800@standrewbytheseaumc.org
SUMMARY:Day Starters AA Group
DESCRIPTION:
URL:https://standrewbytheseaumc.org/event/day-starters-aa-group-3-2/2029-03-20/
LOCATION:Celebration Center
ATTACH;FMTTYPE=image/jpeg:/wp-content/uploads/2024/06/Group_Meeting-1000.jpg
END:VEVENT
BEGIN:VEVENT
DTSTART;TZID=America/New_York:20290321T073000
DTEND;TZID=America/New_York:20290321T083000
DTSTAMP:20260423T215353
CREATED:20240711T165450Z
LAST-MODIFIED:20240920T130237Z
UID:10007156-1868772600-1868776200@standrewbytheseaumc.org
SUMMARY:Day Starters AA Group
DESCRIPTION:
URL:https://standrewbytheseaumc.org/event/day-starters-aa-group-3-2/2029-03-21/
LOCATION:Celebration Center
ATTACH;FMTTYPE=image/jpeg:/wp-content/uploads/2024/06/Group_Meeting-1000.jpg
END:VEVENT
BEGIN:VEVENT
DTSTART;TZID=America/New_York:20290322T073000
DTEND;TZID=America/New_York:20290322T083000
DTSTAMP:20260423T215353
CREATED:20240711T165450Z
LAST-MODIFIED:20240920T130237Z
UID:10007157-1868859000-1868862600@standrewbytheseaumc.org
SUMMARY:Day Starters AA Group
DESCRIPTION:
URL:https://standrewbytheseaumc.org/event/day-starters-aa-group-3-2/2029-03-22/
LOCATION:Celebration Center
ATTACH;FMTTYPE=image/jpeg:/wp-content/uploads/2024/06/Group_Meeting-1000.jpg
END:VEVENT
BEGIN:VEVENT
DTSTART;TZID=America/New_York:20290323T073000
DTEND;TZID=America/New_York:20290323T083000
DTSTAMP:20260423T215353
CREATED:20240711T165450Z
LAST-MODIFIED:20240920T130237Z
UID:10007158-1868945400-1868949000@standrewbytheseaumc.org
SUMMARY:Day Starters AA Group
DESCRIPTION:
URL:https://standrewbytheseaumc.org/event/day-starters-aa-group-3-2/2029-03-23/
LOCATION:Celebration Center
ATTACH;FMTTYPE=image/jpeg:/wp-content/uploads/2024/06/Group_Meeting-1000.jpg
END:VEVENT
BEGIN:VEVENT
DTSTART;TZID=America/New_York:20290326T073000
DTEND;TZID=America/New_York:20290326T083000
DTSTAMP:20260423T215353
CREATED:20240711T165450Z
LAST-MODIFIED:20240920T130237Z
UID:10007161-1869204600-1869208200@standrewbytheseaumc.org
SUMMARY:Day Starters AA Group
DESCRIPTION:
URL:https://standrewbytheseaumc.org/event/day-starters-aa-group-3-2/2029-03-26/
LOCATION:Celebration Center
ATTACH;FMTTYPE=image/jpeg:/wp-content/uploads/2024/06/Group_Meeting-1000.jpg
END:VEVENT
BEGIN:VEVENT
DTSTART;TZID=America/New_York:20290327T073000
DTEND;TZID=America/New_York:20290327T083000
DTSTAMP:20260423T215353
CREATED:20240711T165450Z
LAST-MODIFIED:20240920T130237Z
UID:10007162-1869291000-1869294600@standrewbytheseaumc.org
SUMMARY:Day Starters AA Group
DESCRIPTION:
URL:https://standrewbytheseaumc.org/event/day-starters-aa-group-3-2/2029-03-27/
LOCATION:Celebration Center
ATTACH;FMTTYPE=image/jpeg:/wp-content/uploads/2024/06/Group_Meeting-1000.jpg
END:VEVENT
BEGIN:VEVENT
DTSTART;TZID=America/New_York:20290328T073000
DTEND;TZID=America/New_York:20290328T083000
DTSTAMP:20260423T215353
CREATED:20240711T165450Z
LAST-MODIFIED:20240920T130237Z
UID:10007163-1869377400-1869381000@standrewbytheseaumc.org
SUMMARY:Day Starters AA Group
DESCRIPTION:
URL:https://standrewbytheseaumc.org/event/day-starters-aa-group-3-2/2029-03-28/
LOCATION:Celebration Center
ATTACH;FMTTYPE=image/jpeg:/wp-content/uploads/2024/06/Group_Meeting-1000.jpg
END:VEVENT
BEGIN:VEVENT
DTSTART;TZID=America/New_York:20290329T073000
DTEND;TZID=America/New_York:20290329T083000
DTSTAMP:20260423T215353
CREATED:20240711T165450Z
LAST-MODIFIED:20240920T130237Z
UID:10007164-1869463800-1869467400@standrewbytheseaumc.org
SUMMARY:Day Starters AA Group
DESCRIPTION:
URL:https://standrewbytheseaumc.org/event/day-starters-aa-group-3-2/2029-03-29/
LOCATION:Celebration Center
ATTACH;FMTTYPE=image/jpeg:/wp-content/uploads/2024/06/Group_Meeting-1000.jpg
END:VEVENT
BEGIN:VEVENT
DTSTART;TZID=America/New_York:20290330T073000
DTEND;TZID=America/New_York:20290330T083000
DTSTAMP:20260423T215353
CREATED:20240711T165450Z
LAST-MODIFIED:20240920T130237Z
UID:10007165-1869550200-1869553800@standrewbytheseaumc.org
SUMMARY:Day Starters AA Group
DESCRIPTION:
URL:https://standrewbytheseaumc.org/event/day-starters-aa-group-3-2/2029-03-30/
LOCATION:Celebration Center
ATTACH;FMTTYPE=image/jpeg:/wp-content/uploads/2024/06/Group_Meeting-1000.jpg
END:VEVENT
BEGIN:VEVENT
DTSTART;TZID=America/New_York:20290402T073000
DTEND;TZID=America/New_York:20290402T083000
DTSTAMP:20260423T215353
CREATED:20240711T165450Z
LAST-MODIFIED:20240920T130237Z
UID:10007168-1869809400-1869813000@standrewbytheseaumc.org
SUMMARY:Day Starters AA Group
DESCRIPTION:
URL:https://standrewbytheseaumc.org/event/day-starters-aa-group-3-2/2029-04-02/
LOCATION:Celebration Center
ATTACH;FMTTYPE=image/jpeg:/wp-content/uploads/2024/06/Group_Meeting-1000.jpg
END:VEVENT
BEGIN:VEVENT
DTSTART;TZID=America/New_York:20290403T073000
DTEND;TZID=America/New_York:20290403T083000
DTSTAMP:20260423T215353
CREATED:20240711T165450Z
LAST-MODIFIED:20240920T130237Z
UID:10007169-1869895800-1869899400@standrewbytheseaumc.org
SUMMARY:Day Starters AA Group
DESCRIPTION:
URL:https://standrewbytheseaumc.org/event/day-starters-aa-group-3-2/2029-04-03/
LOCATION:Celebration Center
ATTACH;FMTTYPE=image/jpeg:/wp-content/uploads/2024/06/Group_Meeting-1000.jpg
END:VEVENT
BEGIN:VEVENT
DTSTART;TZID=America/New_York:20290404T073000
DTEND;TZID=America/New_York:20290404T083000
DTSTAMP:20260423T215353
CREATED:20240711T165450Z
LAST-MODIFIED:20240920T130237Z
UID:10007170-1869982200-1869985800@standrewbytheseaumc.org
SUMMARY:Day Starters AA Group
DESCRIPTION:
URL:https://standrewbytheseaumc.org/event/day-starters-aa-group-3-2/2029-04-04/
LOCATION:Celebration Center
ATTACH;FMTTYPE=image/jpeg:/wp-content/uploads/2024/06/Group_Meeting-1000.jpg
END:VEVENT
BEGIN:VEVENT
DTSTART;TZID=America/New_York:20290405T073000
DTEND;TZID=America/New_York:20290405T083000
DTSTAMP:20260423T215353
CREATED:20240711T165450Z
LAST-MODIFIED:20240920T130237Z
UID:10007171-1870068600-1870072200@standrewbytheseaumc.org
SUMMARY:Day Starters AA Group
DESCRIPTION:
URL:https://standrewbytheseaumc.org/event/day-starters-aa-group-3-2/2029-04-05/
LOCATION:Celebration Center
ATTACH;FMTTYPE=image/jpeg:/wp-content/uploads/2024/06/Group_Meeting-1000.jpg
END:VEVENT
BEGIN:VEVENT
DTSTART;TZID=America/New_York:20290406T073000
DTEND;TZID=America/New_York:20290406T083000
DTSTAMP:20260423T215353
CREATED:20240711T165450Z
LAST-MODIFIED:20240920T130237Z
UID:10007172-1870155000-1870158600@standrewbytheseaumc.org
SUMMARY:Day Starters AA Group
DESCRIPTION:
URL:https://standrewbytheseaumc.org/event/day-starters-aa-group-3-2/2029-04-06/
LOCATION:Celebration Center
ATTACH;FMTTYPE=image/jpeg:/wp-content/uploads/2024/06/Group_Meeting-1000.jpg
END:VEVENT
BEGIN:VEVENT
DTSTART;TZID=America/New_York:20290409T073000
DTEND;TZID=America/New_York:20290409T083000
DTSTAMP:20260423T215353
CREATED:20240711T165450Z
LAST-MODIFIED:20240920T130237Z
UID:10007175-1870414200-1870417800@standrewbytheseaumc.org
SUMMARY:Day Starters AA Group
DESCRIPTION:
URL:https://standrewbytheseaumc.org/event/day-starters-aa-group-3-2/2029-04-09/
LOCATION:Celebration Center
ATTACH;FMTTYPE=image/jpeg:/wp-content/uploads/2024/06/Group_Meeting-1000.jpg
END:VEVENT
BEGIN:VEVENT
DTSTART;TZID=America/New_York:20290410T073000
DTEND;TZID=America/New_York:20290410T083000
DTSTAMP:20260423T215353
CREATED:20240711T165450Z
LAST-MODIFIED:20240920T130237Z
UID:10007176-1870500600-1870504200@standrewbytheseaumc.org
SUMMARY:Day Starters AA Group
DESCRIPTION:
URL:https://standrewbytheseaumc.org/event/day-starters-aa-group-3-2/2029-04-10/
LOCATION:Celebration Center
ATTACH;FMTTYPE=image/jpeg:/wp-content/uploads/2024/06/Group_Meeting-1000.jpg
END:VEVENT
BEGIN:VEVENT
DTSTART;TZID=America/New_York:20290411T073000
DTEND;TZID=America/New_York:20290411T083000
DTSTAMP:20260423T215353
CREATED:20240711T165450Z
LAST-MODIFIED:20240920T130237Z
UID:10007177-1870587000-1870590600@standrewbytheseaumc.org
SUMMARY:Day Starters AA Group
DESCRIPTION:
URL:https://standrewbytheseaumc.org/event/day-starters-aa-group-3-2/2029-04-11/
LOCATION:Celebration Center
ATTACH;FMTTYPE=image/jpeg:/wp-content/uploads/2024/06/Group_Meeting-1000.jpg
END:VEVENT
BEGIN:VEVENT
DTSTART;TZID=America/New_York:20290412T073000
DTEND;TZID=America/New_York:20290412T083000
DTSTAMP:20260423T215353
CREATED:20240711T165450Z
LAST-MODIFIED:20240920T130237Z
UID:10007178-1870673400-1870677000@standrewbytheseaumc.org
SUMMARY:Day Starters AA Group
DESCRIPTION:
URL:https://standrewbytheseaumc.org/event/day-starters-aa-group-3-2/2029-04-12/
LOCATION:Celebration Center
ATTACH;FMTTYPE=image/jpeg:/wp-content/uploads/2024/06/Group_Meeting-1000.jpg
END:VEVENT
BEGIN:VEVENT
DTSTART;TZID=America/New_York:20290413T073000
DTEND;TZID=America/New_York:20290413T083000
DTSTAMP:20260423T215353
CREATED:20240711T165450Z
LAST-MODIFIED:20240920T130237Z
UID:10007179-1870759800-1870763400@standrewbytheseaumc.org
SUMMARY:Day Starters AA Group
DESCRIPTION:
URL:https://standrewbytheseaumc.org/event/day-starters-aa-group-3-2/2029-04-13/
LOCATION:Celebration Center
ATTACH;FMTTYPE=image/jpeg:/wp-content/uploads/2024/06/Group_Meeting-1000.jpg
END:VEVENT
BEGIN:VEVENT
DTSTART;TZID=America/New_York:20290416T073000
DTEND;TZID=America/New_York:20290416T083000
DTSTAMP:20260423T215353
CREATED:20240711T165450Z
LAST-MODIFIED:20240920T130237Z
UID:10007182-1871019000-1871022600@standrewbytheseaumc.org
SUMMARY:Day Starters AA Group
DESCRIPTION:
URL:https://standrewbytheseaumc.org/event/day-starters-aa-group-3-2/2029-04-16/
LOCATION:Celebration Center
ATTACH;FMTTYPE=image/jpeg:/wp-content/uploads/2024/06/Group_Meeting-1000.jpg
END:VEVENT
BEGIN:VEVENT
DTSTART;TZID=America/New_York:20290417T073000
DTEND;TZID=America/New_York:20290417T083000
DTSTAMP:20260423T215353
CREATED:20240711T165450Z
LAST-MODIFIED:20240920T130237Z
UID:10007183-1871105400-1871109000@standrewbytheseaumc.org
SUMMARY:Day Starters AA Group
DESCRIPTION:
URL:https://standrewbytheseaumc.org/event/day-starters-aa-group-3-2/2029-04-17/
LOCATION:Celebration Center
ATTACH;FMTTYPE=image/jpeg:/wp-content/uploads/2024/06/Group_Meeting-1000.jpg
END:VEVENT
BEGIN:VEVENT
DTSTART;TZID=America/New_York:20290418T073000
DTEND;TZID=America/New_York:20290418T083000
DTSTAMP:20260423T215353
CREATED:20240711T165450Z
LAST-MODIFIED:20240920T130237Z
UID:10007184-1871191800-1871195400@standrewbytheseaumc.org
SUMMARY:Day Starters AA Group
DESCRIPTION:
URL:https://standrewbytheseaumc.org/event/day-starters-aa-group-3-2/2029-04-18/
LOCATION:Celebration Center
ATTACH;FMTTYPE=image/jpeg:/wp-content/uploads/2024/06/Group_Meeting-1000.jpg
END:VEVENT
BEGIN:VEVENT
DTSTART;TZID=America/New_York:20290419T073000
DTEND;TZID=America/New_York:20290419T083000
DTSTAMP:20260423T215353
CREATED:20240711T165450Z
LAST-MODIFIED:20240920T130237Z
UID:10007185-1871278200-1871281800@standrewbytheseaumc.org
SUMMARY:Day Starters AA Group
DESCRIPTION:
URL:https://standrewbytheseaumc.org/event/day-starters-aa-group-3-2/2029-04-19/
LOCATION:Celebration Center
ATTACH;FMTTYPE=image/jpeg:/wp-content/uploads/2024/06/Group_Meeting-1000.jpg
END:VEVENT
END:VCALENDAR