BEGIN:VCALENDAR
VERSION:2.0
PRODID:-//St. Andrew By-The-Sea United Methodist Church - ECPv6.15.20//NONSGML v1.0//EN
CALSCALE:GREGORIAN
METHOD:PUBLISH
X-ORIGINAL-URL:https://standrewbytheseaumc.org
X-WR-CALDESC:Events for St. Andrew By-The-Sea United Methodist Church
REFRESH-INTERVAL;VALUE=DURATION:PT1H
X-Robots-Tag:noindex
X-PUBLISHED-TTL:PT1H
BEGIN:VTIMEZONE
TZID:America/New_York
BEGIN:DAYLIGHT
TZOFFSETFROM:-0500
TZOFFSETTO:-0400
TZNAME:EDT
DTSTART:20280312T070000
END:DAYLIGHT
BEGIN:STANDARD
TZOFFSETFROM:-0400
TZOFFSETTO:-0500
TZNAME:EST
DTSTART:20281105T060000
END:STANDARD
BEGIN:DAYLIGHT
TZOFFSETFROM:-0500
TZOFFSETTO:-0400
TZNAME:EDT
DTSTART:20290311T070000
END:DAYLIGHT
BEGIN:STANDARD
TZOFFSETFROM:-0400
TZOFFSETTO:-0500
TZNAME:EST
DTSTART:20291104T060000
END:STANDARD
BEGIN:DAYLIGHT
TZOFFSETFROM:-0500
TZOFFSETTO:-0400
TZNAME:EDT
DTSTART:20300310T070000
END:DAYLIGHT
BEGIN:STANDARD
TZOFFSETFROM:-0400
TZOFFSETTO:-0500
TZNAME:EST
DTSTART:20301103T060000
END:STANDARD
END:VTIMEZONE
BEGIN:VEVENT
DTSTART;TZID=America/New_York:20290516T073000
DTEND;TZID=America/New_York:20290516T083000
DTSTAMP:20260424T031827
CREATED:20240711T165450Z
LAST-MODIFIED:20240920T130237Z
UID:10007212-1873611000-1873614600@standrewbytheseaumc.org
SUMMARY:Day Starters AA Group
DESCRIPTION:
URL:https://standrewbytheseaumc.org/event/day-starters-aa-group-3-2/2029-05-16/
LOCATION:Celebration Center
ATTACH;FMTTYPE=image/jpeg:/wp-content/uploads/2024/06/Group_Meeting-1000.jpg
END:VEVENT
BEGIN:VEVENT
DTSTART;TZID=America/New_York:20290517T073000
DTEND;TZID=America/New_York:20290517T083000
DTSTAMP:20260424T031827
CREATED:20240711T165450Z
LAST-MODIFIED:20240920T130237Z
UID:10007213-1873697400-1873701000@standrewbytheseaumc.org
SUMMARY:Day Starters AA Group
DESCRIPTION:
URL:https://standrewbytheseaumc.org/event/day-starters-aa-group-3-2/2029-05-17/
LOCATION:Celebration Center
ATTACH;FMTTYPE=image/jpeg:/wp-content/uploads/2024/06/Group_Meeting-1000.jpg
END:VEVENT
BEGIN:VEVENT
DTSTART;TZID=America/New_York:20290518T073000
DTEND;TZID=America/New_York:20290518T083000
DTSTAMP:20260424T031827
CREATED:20240711T165450Z
LAST-MODIFIED:20240920T130237Z
UID:10007214-1873783800-1873787400@standrewbytheseaumc.org
SUMMARY:Day Starters AA Group
DESCRIPTION:
URL:https://standrewbytheseaumc.org/event/day-starters-aa-group-3-2/2029-05-18/
LOCATION:Celebration Center
ATTACH;FMTTYPE=image/jpeg:/wp-content/uploads/2024/06/Group_Meeting-1000.jpg
END:VEVENT
BEGIN:VEVENT
DTSTART;TZID=America/New_York:20290521T073000
DTEND;TZID=America/New_York:20290521T083000
DTSTAMP:20260424T031827
CREATED:20240711T165450Z
LAST-MODIFIED:20240920T130237Z
UID:10007217-1874043000-1874046600@standrewbytheseaumc.org
SUMMARY:Day Starters AA Group
DESCRIPTION:
URL:https://standrewbytheseaumc.org/event/day-starters-aa-group-3-2/2029-05-21/
LOCATION:Celebration Center
ATTACH;FMTTYPE=image/jpeg:/wp-content/uploads/2024/06/Group_Meeting-1000.jpg
END:VEVENT
BEGIN:VEVENT
DTSTART;TZID=America/New_York:20290522T073000
DTEND;TZID=America/New_York:20290522T083000
DTSTAMP:20260424T031827
CREATED:20240711T165450Z
LAST-MODIFIED:20240920T130237Z
UID:10007218-1874129400-1874133000@standrewbytheseaumc.org
SUMMARY:Day Starters AA Group
DESCRIPTION:
URL:https://standrewbytheseaumc.org/event/day-starters-aa-group-3-2/2029-05-22/
LOCATION:Celebration Center
ATTACH;FMTTYPE=image/jpeg:/wp-content/uploads/2024/06/Group_Meeting-1000.jpg
END:VEVENT
BEGIN:VEVENT
DTSTART;TZID=America/New_York:20290523T073000
DTEND;TZID=America/New_York:20290523T083000
DTSTAMP:20260424T031827
CREATED:20240711T165450Z
LAST-MODIFIED:20240920T130237Z
UID:10007219-1874215800-1874219400@standrewbytheseaumc.org
SUMMARY:Day Starters AA Group
DESCRIPTION:
URL:https://standrewbytheseaumc.org/event/day-starters-aa-group-3-2/2029-05-23/
LOCATION:Celebration Center
ATTACH;FMTTYPE=image/jpeg:/wp-content/uploads/2024/06/Group_Meeting-1000.jpg
END:VEVENT
BEGIN:VEVENT
DTSTART;TZID=America/New_York:20290524T073000
DTEND;TZID=America/New_York:20290524T083000
DTSTAMP:20260424T031827
CREATED:20240711T165450Z
LAST-MODIFIED:20240920T130237Z
UID:10007220-1874302200-1874305800@standrewbytheseaumc.org
SUMMARY:Day Starters AA Group
DESCRIPTION:
URL:https://standrewbytheseaumc.org/event/day-starters-aa-group-3-2/2029-05-24/
LOCATION:Celebration Center
ATTACH;FMTTYPE=image/jpeg:/wp-content/uploads/2024/06/Group_Meeting-1000.jpg
END:VEVENT
BEGIN:VEVENT
DTSTART;TZID=America/New_York:20290525T073000
DTEND;TZID=America/New_York:20290525T083000
DTSTAMP:20260424T031827
CREATED:20240711T165450Z
LAST-MODIFIED:20240920T130237Z
UID:10007221-1874388600-1874392200@standrewbytheseaumc.org
SUMMARY:Day Starters AA Group
DESCRIPTION:
URL:https://standrewbytheseaumc.org/event/day-starters-aa-group-3-2/2029-05-25/
LOCATION:Celebration Center
ATTACH;FMTTYPE=image/jpeg:/wp-content/uploads/2024/06/Group_Meeting-1000.jpg
END:VEVENT
BEGIN:VEVENT
DTSTART;TZID=America/New_York:20290528T073000
DTEND;TZID=America/New_York:20290528T083000
DTSTAMP:20260424T031827
CREATED:20240711T165450Z
LAST-MODIFIED:20240920T130237Z
UID:10007224-1874647800-1874651400@standrewbytheseaumc.org
SUMMARY:Day Starters AA Group
DESCRIPTION:
URL:https://standrewbytheseaumc.org/event/day-starters-aa-group-3-2/2029-05-28/
LOCATION:Celebration Center
ATTACH;FMTTYPE=image/jpeg:/wp-content/uploads/2024/06/Group_Meeting-1000.jpg
END:VEVENT
BEGIN:VEVENT
DTSTART;TZID=America/New_York:20290529T073000
DTEND;TZID=America/New_York:20290529T083000
DTSTAMP:20260424T031827
CREATED:20240711T165450Z
LAST-MODIFIED:20240920T130237Z
UID:10007225-1874734200-1874737800@standrewbytheseaumc.org
SUMMARY:Day Starters AA Group
DESCRIPTION:
URL:https://standrewbytheseaumc.org/event/day-starters-aa-group-3-2/2029-05-29/
LOCATION:Celebration Center
ATTACH;FMTTYPE=image/jpeg:/wp-content/uploads/2024/06/Group_Meeting-1000.jpg
END:VEVENT
BEGIN:VEVENT
DTSTART;TZID=America/New_York:20290530T073000
DTEND;TZID=America/New_York:20290530T083000
DTSTAMP:20260424T031827
CREATED:20240711T165450Z
LAST-MODIFIED:20240920T130237Z
UID:10007226-1874820600-1874824200@standrewbytheseaumc.org
SUMMARY:Day Starters AA Group
DESCRIPTION:
URL:https://standrewbytheseaumc.org/event/day-starters-aa-group-3-2/2029-05-30/
LOCATION:Celebration Center
ATTACH;FMTTYPE=image/jpeg:/wp-content/uploads/2024/06/Group_Meeting-1000.jpg
END:VEVENT
BEGIN:VEVENT
DTSTART;TZID=America/New_York:20290531T073000
DTEND;TZID=America/New_York:20290531T083000
DTSTAMP:20260424T031827
CREATED:20240711T165450Z
LAST-MODIFIED:20240920T130237Z
UID:10007227-1874907000-1874910600@standrewbytheseaumc.org
SUMMARY:Day Starters AA Group
DESCRIPTION:
URL:https://standrewbytheseaumc.org/event/day-starters-aa-group-3-2/2029-05-31/
LOCATION:Celebration Center
ATTACH;FMTTYPE=image/jpeg:/wp-content/uploads/2024/06/Group_Meeting-1000.jpg
END:VEVENT
BEGIN:VEVENT
DTSTART;TZID=America/New_York:20290601T073000
DTEND;TZID=America/New_York:20290601T083000
DTSTAMP:20260424T031827
CREATED:20240711T165450Z
LAST-MODIFIED:20240920T130237Z
UID:10007228-1874993400-1874997000@standrewbytheseaumc.org
SUMMARY:Day Starters AA Group
DESCRIPTION:
URL:https://standrewbytheseaumc.org/event/day-starters-aa-group-3-2/2029-06-01/
LOCATION:Celebration Center
ATTACH;FMTTYPE=image/jpeg:/wp-content/uploads/2024/06/Group_Meeting-1000.jpg
END:VEVENT
BEGIN:VEVENT
DTSTART;TZID=America/New_York:20290604T073000
DTEND;TZID=America/New_York:20290604T083000
DTSTAMP:20260424T031827
CREATED:20240711T165450Z
LAST-MODIFIED:20240920T130237Z
UID:10007231-1875252600-1875256200@standrewbytheseaumc.org
SUMMARY:Day Starters AA Group
DESCRIPTION:
URL:https://standrewbytheseaumc.org/event/day-starters-aa-group-3-2/2029-06-04/
LOCATION:Celebration Center
ATTACH;FMTTYPE=image/jpeg:/wp-content/uploads/2024/06/Group_Meeting-1000.jpg
END:VEVENT
BEGIN:VEVENT
DTSTART;TZID=America/New_York:20290605T073000
DTEND;TZID=America/New_York:20290605T083000
DTSTAMP:20260424T031827
CREATED:20240711T165450Z
LAST-MODIFIED:20240920T130237Z
UID:10007232-1875339000-1875342600@standrewbytheseaumc.org
SUMMARY:Day Starters AA Group
DESCRIPTION:
URL:https://standrewbytheseaumc.org/event/day-starters-aa-group-3-2/2029-06-05/
LOCATION:Celebration Center
ATTACH;FMTTYPE=image/jpeg:/wp-content/uploads/2024/06/Group_Meeting-1000.jpg
END:VEVENT
BEGIN:VEVENT
DTSTART;TZID=America/New_York:20290606T073000
DTEND;TZID=America/New_York:20290606T083000
DTSTAMP:20260424T031827
CREATED:20240711T165450Z
LAST-MODIFIED:20240920T130237Z
UID:10007233-1875425400-1875429000@standrewbytheseaumc.org
SUMMARY:Day Starters AA Group
DESCRIPTION:
URL:https://standrewbytheseaumc.org/event/day-starters-aa-group-3-2/2029-06-06/
LOCATION:Celebration Center
ATTACH;FMTTYPE=image/jpeg:/wp-content/uploads/2024/06/Group_Meeting-1000.jpg
END:VEVENT
BEGIN:VEVENT
DTSTART;TZID=America/New_York:20290607T073000
DTEND;TZID=America/New_York:20290607T083000
DTSTAMP:20260424T031827
CREATED:20240711T165450Z
LAST-MODIFIED:20240920T130237Z
UID:10007235-1875511800-1875515400@standrewbytheseaumc.org
SUMMARY:Day Starters AA Group
DESCRIPTION:
URL:https://standrewbytheseaumc.org/event/day-starters-aa-group-3-2/2029-06-07/
LOCATION:Celebration Center
ATTACH;FMTTYPE=image/jpeg:/wp-content/uploads/2024/06/Group_Meeting-1000.jpg
END:VEVENT
BEGIN:VEVENT
DTSTART;TZID=America/New_York:20290608T073000
DTEND;TZID=America/New_York:20290608T083000
DTSTAMP:20260424T031827
CREATED:20240711T165450Z
LAST-MODIFIED:20240920T130237Z
UID:10007236-1875598200-1875601800@standrewbytheseaumc.org
SUMMARY:Day Starters AA Group
DESCRIPTION:
URL:https://standrewbytheseaumc.org/event/day-starters-aa-group-3-2/2029-06-08/
LOCATION:Celebration Center
ATTACH;FMTTYPE=image/jpeg:/wp-content/uploads/2024/06/Group_Meeting-1000.jpg
END:VEVENT
BEGIN:VEVENT
DTSTART;TZID=America/New_York:20290611T073000
DTEND;TZID=America/New_York:20290611T083000
DTSTAMP:20260424T031827
CREATED:20240711T165450Z
LAST-MODIFIED:20240920T130237Z
UID:10007239-1875857400-1875861000@standrewbytheseaumc.org
SUMMARY:Day Starters AA Group
DESCRIPTION:
URL:https://standrewbytheseaumc.org/event/day-starters-aa-group-3-2/2029-06-11/
LOCATION:Celebration Center
ATTACH;FMTTYPE=image/jpeg:/wp-content/uploads/2024/06/Group_Meeting-1000.jpg
END:VEVENT
BEGIN:VEVENT
DTSTART;TZID=America/New_York:20290612T073000
DTEND;TZID=America/New_York:20290612T083000
DTSTAMP:20260424T031827
CREATED:20240711T165450Z
LAST-MODIFIED:20240920T130237Z
UID:10007240-1875943800-1875947400@standrewbytheseaumc.org
SUMMARY:Day Starters AA Group
DESCRIPTION:
URL:https://standrewbytheseaumc.org/event/day-starters-aa-group-3-2/2029-06-12/
LOCATION:Celebration Center
ATTACH;FMTTYPE=image/jpeg:/wp-content/uploads/2024/06/Group_Meeting-1000.jpg
END:VEVENT
BEGIN:VEVENT
DTSTART;TZID=America/New_York:20290613T073000
DTEND;TZID=America/New_York:20290613T083000
DTSTAMP:20260424T031827
CREATED:20240711T165450Z
LAST-MODIFIED:20240920T130237Z
UID:10007241-1876030200-1876033800@standrewbytheseaumc.org
SUMMARY:Day Starters AA Group
DESCRIPTION:
URL:https://standrewbytheseaumc.org/event/day-starters-aa-group-3-2/2029-06-13/
LOCATION:Celebration Center
ATTACH;FMTTYPE=image/jpeg:/wp-content/uploads/2024/06/Group_Meeting-1000.jpg
END:VEVENT
BEGIN:VEVENT
DTSTART;TZID=America/New_York:20290614T073000
DTEND;TZID=America/New_York:20290614T083000
DTSTAMP:20260424T031827
CREATED:20240711T165450Z
LAST-MODIFIED:20240920T130237Z
UID:10007624-1876116600-1876120200@standrewbytheseaumc.org
SUMMARY:Day Starters AA Group
DESCRIPTION:
URL:https://standrewbytheseaumc.org/event/day-starters-aa-group-3-2/2029-06-14/
LOCATION:Celebration Center
ATTACH;FMTTYPE=image/jpeg:/wp-content/uploads/2024/06/Group_Meeting-1000.jpg
END:VEVENT
BEGIN:VEVENT
DTSTART;TZID=America/New_York:20290615T073000
DTEND;TZID=America/New_York:20290615T083000
DTSTAMP:20260424T031827
CREATED:20240711T165450Z
LAST-MODIFIED:20240920T130237Z
UID:10007625-1876203000-1876206600@standrewbytheseaumc.org
SUMMARY:Day Starters AA Group
DESCRIPTION:
URL:https://standrewbytheseaumc.org/event/day-starters-aa-group-3-2/2029-06-15/
LOCATION:Celebration Center
ATTACH;FMTTYPE=image/jpeg:/wp-content/uploads/2024/06/Group_Meeting-1000.jpg
END:VEVENT
BEGIN:VEVENT
DTSTART;TZID=America/New_York:20290618T073000
DTEND;TZID=America/New_York:20290618T083000
DTSTAMP:20260424T031827
CREATED:20240711T165450Z
LAST-MODIFIED:20240920T130237Z
UID:10007626-1876462200-1876465800@standrewbytheseaumc.org
SUMMARY:Day Starters AA Group
DESCRIPTION:
URL:https://standrewbytheseaumc.org/event/day-starters-aa-group-3-2/2029-06-18/
LOCATION:Celebration Center
ATTACH;FMTTYPE=image/jpeg:/wp-content/uploads/2024/06/Group_Meeting-1000.jpg
END:VEVENT
BEGIN:VEVENT
DTSTART;TZID=America/New_York:20290619T073000
DTEND;TZID=America/New_York:20290619T083000
DTSTAMP:20260424T031827
CREATED:20240711T165450Z
LAST-MODIFIED:20240920T130237Z
UID:10007627-1876548600-1876552200@standrewbytheseaumc.org
SUMMARY:Day Starters AA Group
DESCRIPTION:
URL:https://standrewbytheseaumc.org/event/day-starters-aa-group-3-2/2029-06-19/
LOCATION:Celebration Center
ATTACH;FMTTYPE=image/jpeg:/wp-content/uploads/2024/06/Group_Meeting-1000.jpg
END:VEVENT
BEGIN:VEVENT
DTSTART;TZID=America/New_York:20290620T073000
DTEND;TZID=America/New_York:20290620T083000
DTSTAMP:20260424T031827
CREATED:20240711T165450Z
LAST-MODIFIED:20240920T130237Z
UID:10007628-1876635000-1876638600@standrewbytheseaumc.org
SUMMARY:Day Starters AA Group
DESCRIPTION:
URL:https://standrewbytheseaumc.org/event/day-starters-aa-group-3-2/2029-06-20/
LOCATION:Celebration Center
ATTACH;FMTTYPE=image/jpeg:/wp-content/uploads/2024/06/Group_Meeting-1000.jpg
END:VEVENT
BEGIN:VEVENT
DTSTART;TZID=America/New_York:20290621T073000
DTEND;TZID=America/New_York:20290621T083000
DTSTAMP:20260424T031827
CREATED:20240711T165450Z
LAST-MODIFIED:20240920T130237Z
UID:10007629-1876721400-1876725000@standrewbytheseaumc.org
SUMMARY:Day Starters AA Group
DESCRIPTION:
URL:https://standrewbytheseaumc.org/event/day-starters-aa-group-3-2/2029-06-21/
LOCATION:Celebration Center
ATTACH;FMTTYPE=image/jpeg:/wp-content/uploads/2024/06/Group_Meeting-1000.jpg
END:VEVENT
BEGIN:VEVENT
DTSTART;TZID=America/New_York:20290622T073000
DTEND;TZID=America/New_York:20290622T083000
DTSTAMP:20260424T031827
CREATED:20240711T165450Z
LAST-MODIFIED:20240920T130237Z
UID:10007630-1876807800-1876811400@standrewbytheseaumc.org
SUMMARY:Day Starters AA Group
DESCRIPTION:
URL:https://standrewbytheseaumc.org/event/day-starters-aa-group-3-2/2029-06-22/
LOCATION:Celebration Center
ATTACH;FMTTYPE=image/jpeg:/wp-content/uploads/2024/06/Group_Meeting-1000.jpg
END:VEVENT
BEGIN:VEVENT
DTSTART;TZID=America/New_York:20290625T073000
DTEND;TZID=America/New_York:20290625T083000
DTSTAMP:20260424T031827
CREATED:20240711T165450Z
LAST-MODIFIED:20240920T130237Z
UID:10007631-1877067000-1877070600@standrewbytheseaumc.org
SUMMARY:Day Starters AA Group
DESCRIPTION:
URL:https://standrewbytheseaumc.org/event/day-starters-aa-group-3-2/2029-06-25/
LOCATION:Celebration Center
ATTACH;FMTTYPE=image/jpeg:/wp-content/uploads/2024/06/Group_Meeting-1000.jpg
END:VEVENT
BEGIN:VEVENT
DTSTART;TZID=America/New_York:20290626T073000
DTEND;TZID=America/New_York:20290626T083000
DTSTAMP:20260424T031827
CREATED:20240711T165450Z
LAST-MODIFIED:20240920T130237Z
UID:10007632-1877153400-1877157000@standrewbytheseaumc.org
SUMMARY:Day Starters AA Group
DESCRIPTION:
URL:https://standrewbytheseaumc.org/event/day-starters-aa-group-3-2/2029-06-26/
LOCATION:Celebration Center
ATTACH;FMTTYPE=image/jpeg:/wp-content/uploads/2024/06/Group_Meeting-1000.jpg
END:VEVENT
END:VCALENDAR