BEGIN:VCALENDAR
VERSION:2.0
PRODID:-//St. Andrew By-The-Sea United Methodist Church - ECPv6.15.20//NONSGML v1.0//EN
CALSCALE:GREGORIAN
METHOD:PUBLISH
X-WR-CALNAME:St. Andrew By-The-Sea United Methodist Church
X-ORIGINAL-URL:https://standrewbytheseaumc.org
X-WR-CALDESC:Events for St. Andrew By-The-Sea United Methodist Church
REFRESH-INTERVAL;VALUE=DURATION:PT1H
X-Robots-Tag:noindex
X-PUBLISHED-TTL:PT1H
BEGIN:VTIMEZONE
TZID:America/New_York
BEGIN:DAYLIGHT
TZOFFSETFROM:-0500
TZOFFSETTO:-0400
TZNAME:EDT
DTSTART:20280312T070000
END:DAYLIGHT
BEGIN:STANDARD
TZOFFSETFROM:-0400
TZOFFSETTO:-0500
TZNAME:EST
DTSTART:20281105T060000
END:STANDARD
BEGIN:DAYLIGHT
TZOFFSETFROM:-0500
TZOFFSETTO:-0400
TZNAME:EDT
DTSTART:20290311T070000
END:DAYLIGHT
BEGIN:STANDARD
TZOFFSETFROM:-0400
TZOFFSETTO:-0500
TZNAME:EST
DTSTART:20291104T060000
END:STANDARD
BEGIN:DAYLIGHT
TZOFFSETFROM:-0500
TZOFFSETTO:-0400
TZNAME:EDT
DTSTART:20300310T070000
END:DAYLIGHT
BEGIN:STANDARD
TZOFFSETFROM:-0400
TZOFFSETTO:-0500
TZNAME:EST
DTSTART:20301103T060000
END:STANDARD
END:VTIMEZONE
BEGIN:VEVENT
DTSTART;TZID=America/New_York:20290705T073000
DTEND;TZID=America/New_York:20290705T083000
DTSTAMP:20260424T072538
CREATED:20240711T165450Z
LAST-MODIFIED:20240920T130237Z
UID:10007639-1877931000-1877934600@standrewbytheseaumc.org
SUMMARY:Day Starters AA Group
DESCRIPTION:
URL:https://standrewbytheseaumc.org/event/day-starters-aa-group-3-2/2029-07-05/
LOCATION:Celebration Center
ATTACH;FMTTYPE=image/jpeg:/wp-content/uploads/2024/06/Group_Meeting-1000.jpg
END:VEVENT
BEGIN:VEVENT
DTSTART;TZID=America/New_York:20290706T073000
DTEND;TZID=America/New_York:20290706T083000
DTSTAMP:20260424T072538
CREATED:20240711T165450Z
LAST-MODIFIED:20240920T130237Z
UID:10007640-1878017400-1878021000@standrewbytheseaumc.org
SUMMARY:Day Starters AA Group
DESCRIPTION:
URL:https://standrewbytheseaumc.org/event/day-starters-aa-group-3-2/2029-07-06/
LOCATION:Celebration Center
ATTACH;FMTTYPE=image/jpeg:/wp-content/uploads/2024/06/Group_Meeting-1000.jpg
END:VEVENT
BEGIN:VEVENT
DTSTART;TZID=America/New_York:20290709T073000
DTEND;TZID=America/New_York:20290709T083000
DTSTAMP:20260424T072538
CREATED:20240711T165450Z
LAST-MODIFIED:20240920T130237Z
UID:10007641-1878276600-1878280200@standrewbytheseaumc.org
SUMMARY:Day Starters AA Group
DESCRIPTION:
URL:https://standrewbytheseaumc.org/event/day-starters-aa-group-3-2/2029-07-09/
LOCATION:Celebration Center
ATTACH;FMTTYPE=image/jpeg:/wp-content/uploads/2024/06/Group_Meeting-1000.jpg
END:VEVENT
BEGIN:VEVENT
DTSTART;TZID=America/New_York:20290710T073000
DTEND;TZID=America/New_York:20290710T083000
DTSTAMP:20260424T072538
CREATED:20240711T165450Z
LAST-MODIFIED:20240920T130237Z
UID:10007642-1878363000-1878366600@standrewbytheseaumc.org
SUMMARY:Day Starters AA Group
DESCRIPTION:
URL:https://standrewbytheseaumc.org/event/day-starters-aa-group-3-2/2029-07-10/
LOCATION:Celebration Center
ATTACH;FMTTYPE=image/jpeg:/wp-content/uploads/2024/06/Group_Meeting-1000.jpg
END:VEVENT
BEGIN:VEVENT
DTSTART;TZID=America/New_York:20290711T073000
DTEND;TZID=America/New_York:20290711T083000
DTSTAMP:20260424T072538
CREATED:20240711T165450Z
LAST-MODIFIED:20240920T130237Z
UID:10007643-1878449400-1878453000@standrewbytheseaumc.org
SUMMARY:Day Starters AA Group
DESCRIPTION:
URL:https://standrewbytheseaumc.org/event/day-starters-aa-group-3-2/2029-07-11/
LOCATION:Celebration Center
ATTACH;FMTTYPE=image/jpeg:/wp-content/uploads/2024/06/Group_Meeting-1000.jpg
END:VEVENT
BEGIN:VEVENT
DTSTART;TZID=America/New_York:20290712T073000
DTEND;TZID=America/New_York:20290712T083000
DTSTAMP:20260424T072538
CREATED:20240711T165450Z
LAST-MODIFIED:20240920T130237Z
UID:10011705-1878535800-1878539400@standrewbytheseaumc.org
SUMMARY:Day Starters AA Group
DESCRIPTION:
URL:https://standrewbytheseaumc.org/event/day-starters-aa-group-3-2/2029-07-12/
LOCATION:Celebration Center
ATTACH;FMTTYPE=image/jpeg:/wp-content/uploads/2024/06/Group_Meeting-1000.jpg
END:VEVENT
BEGIN:VEVENT
DTSTART;TZID=America/New_York:20290713T073000
DTEND;TZID=America/New_York:20290713T083000
DTSTAMP:20260424T072538
CREATED:20240711T165450Z
LAST-MODIFIED:20240920T130237Z
UID:10011706-1878622200-1878625800@standrewbytheseaumc.org
SUMMARY:Day Starters AA Group
DESCRIPTION:
URL:https://standrewbytheseaumc.org/event/day-starters-aa-group-3-2/2029-07-13/
LOCATION:Celebration Center
ATTACH;FMTTYPE=image/jpeg:/wp-content/uploads/2024/06/Group_Meeting-1000.jpg
END:VEVENT
BEGIN:VEVENT
DTSTART;TZID=America/New_York:20290716T073000
DTEND;TZID=America/New_York:20290716T083000
DTSTAMP:20260424T072538
CREATED:20240711T165450Z
LAST-MODIFIED:20240920T130237Z
UID:10011707-1878881400-1878885000@standrewbytheseaumc.org
SUMMARY:Day Starters AA Group
DESCRIPTION:
URL:https://standrewbytheseaumc.org/event/day-starters-aa-group-3-2/2029-07-16/
LOCATION:Celebration Center
ATTACH;FMTTYPE=image/jpeg:/wp-content/uploads/2024/06/Group_Meeting-1000.jpg
END:VEVENT
BEGIN:VEVENT
DTSTART;TZID=America/New_York:20290717T073000
DTEND;TZID=America/New_York:20290717T083000
DTSTAMP:20260424T072538
CREATED:20240711T165450Z
LAST-MODIFIED:20240920T130237Z
UID:10011708-1878967800-1878971400@standrewbytheseaumc.org
SUMMARY:Day Starters AA Group
DESCRIPTION:
URL:https://standrewbytheseaumc.org/event/day-starters-aa-group-3-2/2029-07-17/
LOCATION:Celebration Center
ATTACH;FMTTYPE=image/jpeg:/wp-content/uploads/2024/06/Group_Meeting-1000.jpg
END:VEVENT
BEGIN:VEVENT
DTSTART;TZID=America/New_York:20290718T073000
DTEND;TZID=America/New_York:20290718T083000
DTSTAMP:20260424T072538
CREATED:20240711T165450Z
LAST-MODIFIED:20240920T130237Z
UID:10011709-1879054200-1879057800@standrewbytheseaumc.org
SUMMARY:Day Starters AA Group
DESCRIPTION:
URL:https://standrewbytheseaumc.org/event/day-starters-aa-group-3-2/2029-07-18/
LOCATION:Celebration Center
ATTACH;FMTTYPE=image/jpeg:/wp-content/uploads/2024/06/Group_Meeting-1000.jpg
END:VEVENT
BEGIN:VEVENT
DTSTART;TZID=America/New_York:20290719T073000
DTEND;TZID=America/New_York:20290719T083000
DTSTAMP:20260424T072538
CREATED:20240711T165450Z
LAST-MODIFIED:20240920T130237Z
UID:10011710-1879140600-1879144200@standrewbytheseaumc.org
SUMMARY:Day Starters AA Group
DESCRIPTION:
URL:https://standrewbytheseaumc.org/event/day-starters-aa-group-3-2/2029-07-19/
LOCATION:Celebration Center
ATTACH;FMTTYPE=image/jpeg:/wp-content/uploads/2024/06/Group_Meeting-1000.jpg
END:VEVENT
BEGIN:VEVENT
DTSTART;TZID=America/New_York:20290720T073000
DTEND;TZID=America/New_York:20290720T083000
DTSTAMP:20260424T072538
CREATED:20240711T165450Z
LAST-MODIFIED:20240920T130237Z
UID:10011711-1879227000-1879230600@standrewbytheseaumc.org
SUMMARY:Day Starters AA Group
DESCRIPTION:
URL:https://standrewbytheseaumc.org/event/day-starters-aa-group-3-2/2029-07-20/
LOCATION:Celebration Center
ATTACH;FMTTYPE=image/jpeg:/wp-content/uploads/2024/06/Group_Meeting-1000.jpg
END:VEVENT
BEGIN:VEVENT
DTSTART;TZID=America/New_York:20290723T073000
DTEND;TZID=America/New_York:20290723T083000
DTSTAMP:20260424T072538
CREATED:20240711T165450Z
LAST-MODIFIED:20240920T130237Z
UID:10011712-1879486200-1879489800@standrewbytheseaumc.org
SUMMARY:Day Starters AA Group
DESCRIPTION:
URL:https://standrewbytheseaumc.org/event/day-starters-aa-group-3-2/2029-07-23/
LOCATION:Celebration Center
ATTACH;FMTTYPE=image/jpeg:/wp-content/uploads/2024/06/Group_Meeting-1000.jpg
END:VEVENT
BEGIN:VEVENT
DTSTART;TZID=America/New_York:20290724T073000
DTEND;TZID=America/New_York:20290724T083000
DTSTAMP:20260424T072538
CREATED:20240711T165450Z
LAST-MODIFIED:20240920T130237Z
UID:10011713-1879572600-1879576200@standrewbytheseaumc.org
SUMMARY:Day Starters AA Group
DESCRIPTION:
URL:https://standrewbytheseaumc.org/event/day-starters-aa-group-3-2/2029-07-24/
LOCATION:Celebration Center
ATTACH;FMTTYPE=image/jpeg:/wp-content/uploads/2024/06/Group_Meeting-1000.jpg
END:VEVENT
BEGIN:VEVENT
DTSTART;TZID=America/New_York:20290725T073000
DTEND;TZID=America/New_York:20290725T083000
DTSTAMP:20260424T072538
CREATED:20240711T165450Z
LAST-MODIFIED:20240920T130237Z
UID:10011714-1879659000-1879662600@standrewbytheseaumc.org
SUMMARY:Day Starters AA Group
DESCRIPTION:
URL:https://standrewbytheseaumc.org/event/day-starters-aa-group-3-2/2029-07-25/
LOCATION:Celebration Center
ATTACH;FMTTYPE=image/jpeg:/wp-content/uploads/2024/06/Group_Meeting-1000.jpg
END:VEVENT
BEGIN:VEVENT
DTSTART;TZID=America/New_York:20290726T073000
DTEND;TZID=America/New_York:20290726T083000
DTSTAMP:20260424T072538
CREATED:20240711T165450Z
LAST-MODIFIED:20240920T130237Z
UID:10011715-1879745400-1879749000@standrewbytheseaumc.org
SUMMARY:Day Starters AA Group
DESCRIPTION:
URL:https://standrewbytheseaumc.org/event/day-starters-aa-group-3-2/2029-07-26/
LOCATION:Celebration Center
ATTACH;FMTTYPE=image/jpeg:/wp-content/uploads/2024/06/Group_Meeting-1000.jpg
END:VEVENT
BEGIN:VEVENT
DTSTART;TZID=America/New_York:20290727T073000
DTEND;TZID=America/New_York:20290727T083000
DTSTAMP:20260424T072538
CREATED:20240711T165450Z
LAST-MODIFIED:20240920T130237Z
UID:10011716-1879831800-1879835400@standrewbytheseaumc.org
SUMMARY:Day Starters AA Group
DESCRIPTION:
URL:https://standrewbytheseaumc.org/event/day-starters-aa-group-3-2/2029-07-27/
LOCATION:Celebration Center
ATTACH;FMTTYPE=image/jpeg:/wp-content/uploads/2024/06/Group_Meeting-1000.jpg
END:VEVENT
BEGIN:VEVENT
DTSTART;TZID=America/New_York:20290730T073000
DTEND;TZID=America/New_York:20290730T083000
DTSTAMP:20260424T072538
CREATED:20240711T165450Z
LAST-MODIFIED:20240920T130237Z
UID:10011717-1880091000-1880094600@standrewbytheseaumc.org
SUMMARY:Day Starters AA Group
DESCRIPTION:
URL:https://standrewbytheseaumc.org/event/day-starters-aa-group-3-2/2029-07-30/
LOCATION:Celebration Center
ATTACH;FMTTYPE=image/jpeg:/wp-content/uploads/2024/06/Group_Meeting-1000.jpg
END:VEVENT
BEGIN:VEVENT
DTSTART;TZID=America/New_York:20290731T073000
DTEND;TZID=America/New_York:20290731T083000
DTSTAMP:20260424T072538
CREATED:20240711T165450Z
LAST-MODIFIED:20240920T130237Z
UID:10011718-1880177400-1880181000@standrewbytheseaumc.org
SUMMARY:Day Starters AA Group
DESCRIPTION:
URL:https://standrewbytheseaumc.org/event/day-starters-aa-group-3-2/2029-07-31/
LOCATION:Celebration Center
ATTACH;FMTTYPE=image/jpeg:/wp-content/uploads/2024/06/Group_Meeting-1000.jpg
END:VEVENT
BEGIN:VEVENT
DTSTART;TZID=America/New_York:20290801T073000
DTEND;TZID=America/New_York:20290801T083000
DTSTAMP:20260424T072538
CREATED:20240711T165450Z
LAST-MODIFIED:20240920T130237Z
UID:10011719-1880263800-1880267400@standrewbytheseaumc.org
SUMMARY:Day Starters AA Group
DESCRIPTION:
URL:https://standrewbytheseaumc.org/event/day-starters-aa-group-3-2/2029-08-01/
LOCATION:Celebration Center
ATTACH;FMTTYPE=image/jpeg:/wp-content/uploads/2024/06/Group_Meeting-1000.jpg
END:VEVENT
BEGIN:VEVENT
DTSTART;TZID=America/New_York:20290802T073000
DTEND;TZID=America/New_York:20290802T083000
DTSTAMP:20260424T072538
CREATED:20240711T165450Z
LAST-MODIFIED:20240920T130237Z
UID:10011720-1880350200-1880353800@standrewbytheseaumc.org
SUMMARY:Day Starters AA Group
DESCRIPTION:
URL:https://standrewbytheseaumc.org/event/day-starters-aa-group-3-2/2029-08-02/
LOCATION:Celebration Center
ATTACH;FMTTYPE=image/jpeg:/wp-content/uploads/2024/06/Group_Meeting-1000.jpg
END:VEVENT
BEGIN:VEVENT
DTSTART;TZID=America/New_York:20290803T073000
DTEND;TZID=America/New_York:20290803T083000
DTSTAMP:20260424T072538
CREATED:20240711T165450Z
LAST-MODIFIED:20240920T130237Z
UID:10011721-1880436600-1880440200@standrewbytheseaumc.org
SUMMARY:Day Starters AA Group
DESCRIPTION:
URL:https://standrewbytheseaumc.org/event/day-starters-aa-group-3-2/2029-08-03/
LOCATION:Celebration Center
ATTACH;FMTTYPE=image/jpeg:/wp-content/uploads/2024/06/Group_Meeting-1000.jpg
END:VEVENT
BEGIN:VEVENT
DTSTART;TZID=America/New_York:20290806T073000
DTEND;TZID=America/New_York:20290806T083000
DTSTAMP:20260424T072538
CREATED:20240711T165450Z
LAST-MODIFIED:20240920T130237Z
UID:10011722-1880695800-1880699400@standrewbytheseaumc.org
SUMMARY:Day Starters AA Group
DESCRIPTION:
URL:https://standrewbytheseaumc.org/event/day-starters-aa-group-3-2/2029-08-06/
LOCATION:Celebration Center
ATTACH;FMTTYPE=image/jpeg:/wp-content/uploads/2024/06/Group_Meeting-1000.jpg
END:VEVENT
BEGIN:VEVENT
DTSTART;TZID=America/New_York:20290807T073000
DTEND;TZID=America/New_York:20290807T083000
DTSTAMP:20260424T072538
CREATED:20240711T165450Z
LAST-MODIFIED:20240920T130237Z
UID:10011723-1880782200-1880785800@standrewbytheseaumc.org
SUMMARY:Day Starters AA Group
DESCRIPTION:
URL:https://standrewbytheseaumc.org/event/day-starters-aa-group-3-2/2029-08-07/
LOCATION:Celebration Center
ATTACH;FMTTYPE=image/jpeg:/wp-content/uploads/2024/06/Group_Meeting-1000.jpg
END:VEVENT
BEGIN:VEVENT
DTSTART;TZID=America/New_York:20290808T073000
DTEND;TZID=America/New_York:20290808T083000
DTSTAMP:20260424T072538
CREATED:20240711T165450Z
LAST-MODIFIED:20240920T130237Z
UID:10011724-1880868600-1880872200@standrewbytheseaumc.org
SUMMARY:Day Starters AA Group
DESCRIPTION:
URL:https://standrewbytheseaumc.org/event/day-starters-aa-group-3-2/2029-08-08/
LOCATION:Celebration Center
ATTACH;FMTTYPE=image/jpeg:/wp-content/uploads/2024/06/Group_Meeting-1000.jpg
END:VEVENT
BEGIN:VEVENT
DTSTART;TZID=America/New_York:20290809T073000
DTEND;TZID=America/New_York:20290809T083000
DTSTAMP:20260424T072538
CREATED:20240711T165450Z
LAST-MODIFIED:20240920T130237Z
UID:10011725-1880955000-1880958600@standrewbytheseaumc.org
SUMMARY:Day Starters AA Group
DESCRIPTION:
URL:https://standrewbytheseaumc.org/event/day-starters-aa-group-3-2/2029-08-09/
LOCATION:Celebration Center
ATTACH;FMTTYPE=image/jpeg:/wp-content/uploads/2024/06/Group_Meeting-1000.jpg
END:VEVENT
BEGIN:VEVENT
DTSTART;TZID=America/New_York:20290810T073000
DTEND;TZID=America/New_York:20290810T083000
DTSTAMP:20260424T072538
CREATED:20240711T165450Z
LAST-MODIFIED:20240920T130237Z
UID:10011726-1881041400-1881045000@standrewbytheseaumc.org
SUMMARY:Day Starters AA Group
DESCRIPTION:
URL:https://standrewbytheseaumc.org/event/day-starters-aa-group-3-2/2029-08-10/
LOCATION:Celebration Center
ATTACH;FMTTYPE=image/jpeg:/wp-content/uploads/2024/06/Group_Meeting-1000.jpg
END:VEVENT
BEGIN:VEVENT
DTSTART;TZID=America/New_York:20290813T073000
DTEND;TZID=America/New_York:20290813T083000
DTSTAMP:20260424T072538
CREATED:20240711T165450Z
LAST-MODIFIED:20240920T130237Z
UID:10011727-1881300600-1881304200@standrewbytheseaumc.org
SUMMARY:Day Starters AA Group
DESCRIPTION:
URL:https://standrewbytheseaumc.org/event/day-starters-aa-group-3-2/2029-08-13/
LOCATION:Celebration Center
ATTACH;FMTTYPE=image/jpeg:/wp-content/uploads/2024/06/Group_Meeting-1000.jpg
END:VEVENT
BEGIN:VEVENT
DTSTART;TZID=America/New_York:20290814T073000
DTEND;TZID=America/New_York:20290814T083000
DTSTAMP:20260424T072538
CREATED:20240711T165450Z
LAST-MODIFIED:20240920T130237Z
UID:10011728-1881387000-1881390600@standrewbytheseaumc.org
SUMMARY:Day Starters AA Group
DESCRIPTION:
URL:https://standrewbytheseaumc.org/event/day-starters-aa-group-3-2/2029-08-14/
LOCATION:Celebration Center
ATTACH;FMTTYPE=image/jpeg:/wp-content/uploads/2024/06/Group_Meeting-1000.jpg
END:VEVENT
BEGIN:VEVENT
DTSTART;TZID=America/New_York:20290815T073000
DTEND;TZID=America/New_York:20290815T083000
DTSTAMP:20260424T072538
CREATED:20240711T165450Z
LAST-MODIFIED:20240920T130237Z
UID:10011729-1881473400-1881477000@standrewbytheseaumc.org
SUMMARY:Day Starters AA Group
DESCRIPTION:
URL:https://standrewbytheseaumc.org/event/day-starters-aa-group-3-2/2029-08-15/
LOCATION:Celebration Center
ATTACH;FMTTYPE=image/jpeg:/wp-content/uploads/2024/06/Group_Meeting-1000.jpg
END:VEVENT
END:VCALENDAR