BEGIN:VCALENDAR
VERSION:2.0
PRODID:-//St. Andrew By-The-Sea United Methodist Church - ECPv6.15.20//NONSGML v1.0//EN
CALSCALE:GREGORIAN
METHOD:PUBLISH
X-WR-CALNAME:St. Andrew By-The-Sea United Methodist Church
X-ORIGINAL-URL:https://standrewbytheseaumc.org
X-WR-CALDESC:Events for St. Andrew By-The-Sea United Methodist Church
REFRESH-INTERVAL;VALUE=DURATION:PT1H
X-Robots-Tag:noindex
X-PUBLISHED-TTL:PT1H
BEGIN:VTIMEZONE
TZID:America/New_York
BEGIN:DAYLIGHT
TZOFFSETFROM:-0500
TZOFFSETTO:-0400
TZNAME:EDT
DTSTART:20230312T070000
END:DAYLIGHT
BEGIN:STANDARD
TZOFFSETFROM:-0400
TZOFFSETTO:-0500
TZNAME:EST
DTSTART:20231105T060000
END:STANDARD
BEGIN:DAYLIGHT
TZOFFSETFROM:-0500
TZOFFSETTO:-0400
TZNAME:EDT
DTSTART:20240310T070000
END:DAYLIGHT
BEGIN:STANDARD
TZOFFSETFROM:-0400
TZOFFSETTO:-0500
TZNAME:EST
DTSTART:20241103T060000
END:STANDARD
BEGIN:DAYLIGHT
TZOFFSETFROM:-0500
TZOFFSETTO:-0400
TZNAME:EDT
DTSTART:20250309T070000
END:DAYLIGHT
BEGIN:STANDARD
TZOFFSETFROM:-0400
TZOFFSETTO:-0500
TZNAME:EST
DTSTART:20251102T060000
END:STANDARD
END:VTIMEZONE
BEGIN:VEVENT
DTSTART;TZID=America/New_York:20241124T110900
DTEND;TZID=America/New_York:20241124T110900
DTSTAMP:20260421T211930
CREATED:20240829T165105Z
LAST-MODIFIED:20240829T165134Z
UID:10007765-1732446540-1732446540@standrewbytheseaumc.org
SUMMARY:CHILDREN’S CHURCH SUNDAY Mornings
DESCRIPTION:11:09 am\, Education Bldg. \nChildren grades 5 and under are invited to leave the service following the Young People’s Discipleship Moment to participate in fun lessons at their level. Youth grades 6-12 are invited to  assist one Sunday every other month
URL:https://standrewbytheseaumc.org/event/childrens-church-sunday-mornings/2024-11-24/
LOCATION:Education Building
ATTACH;FMTTYPE=image/jpeg:/wp-content/uploads/2024/08/Childrens-Church-logo-2024-1.jpg
END:VEVENT
BEGIN:VEVENT
DTSTART;TZID=America/New_York:20241117T110900
DTEND;TZID=America/New_York:20241117T110900
DTSTAMP:20260421T211930
CREATED:20240829T165105Z
LAST-MODIFIED:20240829T165134Z
UID:10007764-1731841740-1731841740@standrewbytheseaumc.org
SUMMARY:CHILDREN’S CHURCH SUNDAY Mornings
DESCRIPTION:11:09 am\, Education Bldg. \nChildren grades 5 and under are invited to leave the service following the Young People’s Discipleship Moment to participate in fun lessons at their level. Youth grades 6-12 are invited to  assist one Sunday every other month
URL:https://standrewbytheseaumc.org/event/childrens-church-sunday-mornings/2024-11-17/
LOCATION:Education Building
ATTACH;FMTTYPE=image/jpeg:/wp-content/uploads/2024/08/Childrens-Church-logo-2024-1.jpg
END:VEVENT
BEGIN:VEVENT
DTSTART;TZID=America/New_York:20241110T110900
DTEND;TZID=America/New_York:20241110T110900
DTSTAMP:20260421T211930
CREATED:20240829T165105Z
LAST-MODIFIED:20240829T165134Z
UID:10007763-1731236940-1731236940@standrewbytheseaumc.org
SUMMARY:CHILDREN’S CHURCH SUNDAY Mornings
DESCRIPTION:11:09 am\, Education Bldg. \nChildren grades 5 and under are invited to leave the service following the Young People’s Discipleship Moment to participate in fun lessons at their level. Youth grades 6-12 are invited to  assist one Sunday every other month
URL:https://standrewbytheseaumc.org/event/childrens-church-sunday-mornings/2024-11-10/
LOCATION:Education Building
ATTACH;FMTTYPE=image/jpeg:/wp-content/uploads/2024/08/Childrens-Church-logo-2024-1.jpg
END:VEVENT
BEGIN:VEVENT
DTSTART;TZID=America/New_York:20241103T110900
DTEND;TZID=America/New_York:20241103T110900
DTSTAMP:20260421T211930
CREATED:20240829T165105Z
LAST-MODIFIED:20240829T165134Z
UID:10007762-1730632140-1730632140@standrewbytheseaumc.org
SUMMARY:CHILDREN’S CHURCH SUNDAY Mornings
DESCRIPTION:11:09 am\, Education Bldg. \nChildren grades 5 and under are invited to leave the service following the Young People’s Discipleship Moment to participate in fun lessons at their level. Youth grades 6-12 are invited to  assist one Sunday every other month
URL:https://standrewbytheseaumc.org/event/childrens-church-sunday-mornings/2024-11-03/
LOCATION:Education Building
ATTACH;FMTTYPE=image/jpeg:/wp-content/uploads/2024/08/Childrens-Church-logo-2024-1.jpg
END:VEVENT
BEGIN:VEVENT
DTSTART;TZID=America/New_York:20241027T110900
DTEND;TZID=America/New_York:20241027T110900
DTSTAMP:20260421T211930
CREATED:20240829T165105Z
LAST-MODIFIED:20240829T165134Z
UID:10007761-1730027340-1730027340@standrewbytheseaumc.org
SUMMARY:CHILDREN’S CHURCH SUNDAY Mornings
DESCRIPTION:11:09 am\, Education Bldg. \nChildren grades 5 and under are invited to leave the service following the Young People’s Discipleship Moment to participate in fun lessons at their level. Youth grades 6-12 are invited to  assist one Sunday every other month
URL:https://standrewbytheseaumc.org/event/childrens-church-sunday-mornings/2024-10-27/
LOCATION:Education Building
ATTACH;FMTTYPE=image/jpeg:/wp-content/uploads/2024/08/Childrens-Church-logo-2024-1.jpg
END:VEVENT
BEGIN:VEVENT
DTSTART;TZID=America/New_York:20241020T110900
DTEND;TZID=America/New_York:20241020T110900
DTSTAMP:20260421T211930
CREATED:20240829T165105Z
LAST-MODIFIED:20240829T165134Z
UID:10007760-1729422540-1729422540@standrewbytheseaumc.org
SUMMARY:CHILDREN’S CHURCH SUNDAY Mornings
DESCRIPTION:11:09 am\, Education Bldg. \nChildren grades 5 and under are invited to leave the service following the Young People’s Discipleship Moment to participate in fun lessons at their level. Youth grades 6-12 are invited to  assist one Sunday every other month
URL:https://standrewbytheseaumc.org/event/childrens-church-sunday-mornings/2024-10-20/
LOCATION:Education Building
ATTACH;FMTTYPE=image/jpeg:/wp-content/uploads/2024/08/Childrens-Church-logo-2024-1.jpg
END:VEVENT
BEGIN:VEVENT
DTSTART;TZID=America/New_York:20241013T110900
DTEND;TZID=America/New_York:20241013T110900
DTSTAMP:20260421T211930
CREATED:20240829T165105Z
LAST-MODIFIED:20240829T165134Z
UID:10007759-1728817740-1728817740@standrewbytheseaumc.org
SUMMARY:CHILDREN’S CHURCH SUNDAY Mornings
DESCRIPTION:11:09 am\, Education Bldg. \nChildren grades 5 and under are invited to leave the service following the Young People’s Discipleship Moment to participate in fun lessons at their level. Youth grades 6-12 are invited to  assist one Sunday every other month
URL:https://standrewbytheseaumc.org/event/childrens-church-sunday-mornings/2024-10-13/
LOCATION:Education Building
ATTACH;FMTTYPE=image/jpeg:/wp-content/uploads/2024/08/Childrens-Church-logo-2024-1.jpg
END:VEVENT
BEGIN:VEVENT
DTSTART;TZID=America/New_York:20241006T110900
DTEND;TZID=America/New_York:20241006T110900
DTSTAMP:20260421T211930
CREATED:20240829T165105Z
LAST-MODIFIED:20240829T165134Z
UID:10007758-1728212940-1728212940@standrewbytheseaumc.org
SUMMARY:CHILDREN’S CHURCH SUNDAY Mornings
DESCRIPTION:11:09 am\, Education Bldg. \nChildren grades 5 and under are invited to leave the service following the Young People’s Discipleship Moment to participate in fun lessons at their level. Youth grades 6-12 are invited to  assist one Sunday every other month
URL:https://standrewbytheseaumc.org/event/childrens-church-sunday-mornings/2024-10-06/
LOCATION:Education Building
ATTACH;FMTTYPE=image/jpeg:/wp-content/uploads/2024/08/Childrens-Church-logo-2024-1.jpg
END:VEVENT
BEGIN:VEVENT
DTSTART;TZID=America/New_York:20240929T110900
DTEND;TZID=America/New_York:20240929T110900
DTSTAMP:20260421T211930
CREATED:20240829T165105Z
LAST-MODIFIED:20240829T165134Z
UID:10007757-1727608140-1727608140@standrewbytheseaumc.org
SUMMARY:CHILDREN’S CHURCH SUNDAY Mornings
DESCRIPTION:11:09 am\, Education Bldg. \nChildren grades 5 and under are invited to leave the service following the Young People’s Discipleship Moment to participate in fun lessons at their level. Youth grades 6-12 are invited to  assist one Sunday every other month
URL:https://standrewbytheseaumc.org/event/childrens-church-sunday-mornings/2024-09-29/
LOCATION:Education Building
ATTACH;FMTTYPE=image/jpeg:/wp-content/uploads/2024/08/Childrens-Church-logo-2024-1.jpg
END:VEVENT
BEGIN:VEVENT
DTSTART;TZID=America/New_York:20240922T110900
DTEND;TZID=America/New_York:20240922T110900
DTSTAMP:20260421T211930
CREATED:20240829T165105Z
LAST-MODIFIED:20240829T165134Z
UID:10007756-1727003340-1727003340@standrewbytheseaumc.org
SUMMARY:CHILDREN’S CHURCH SUNDAY Mornings
DESCRIPTION:11:09 am\, Education Bldg. \nChildren grades 5 and under are invited to leave the service following the Young People’s Discipleship Moment to participate in fun lessons at their level. Youth grades 6-12 are invited to  assist one Sunday every other month
URL:https://standrewbytheseaumc.org/event/childrens-church-sunday-mornings/2024-09-22/
LOCATION:Education Building
ATTACH;FMTTYPE=image/jpeg:/wp-content/uploads/2024/08/Childrens-Church-logo-2024-1.jpg
END:VEVENT
BEGIN:VEVENT
DTSTART;TZID=America/New_York:20240915T110900
DTEND;TZID=America/New_York:20240915T110900
DTSTAMP:20260421T211930
CREATED:20240829T165105Z
LAST-MODIFIED:20240829T165134Z
UID:10007755-1726398540-1726398540@standrewbytheseaumc.org
SUMMARY:CHILDREN’S CHURCH SUNDAY Mornings
DESCRIPTION:11:09 am\, Education Bldg. \nChildren grades 5 and under are invited to leave the service following the Young People’s Discipleship Moment to participate in fun lessons at their level. Youth grades 6-12 are invited to  assist one Sunday every other month
URL:https://standrewbytheseaumc.org/event/childrens-church-sunday-mornings/2024-09-15/
LOCATION:Education Building
ATTACH;FMTTYPE=image/jpeg:/wp-content/uploads/2024/08/Childrens-Church-logo-2024-1.jpg
END:VEVENT
BEGIN:VEVENT
DTSTART;TZID=America/New_York:20240908T110900
DTEND;TZID=America/New_York:20240908T110900
DTSTAMP:20260421T211930
CREATED:20240829T165105Z
LAST-MODIFIED:20240829T165134Z
UID:10007754-1725793740-1725793740@standrewbytheseaumc.org
SUMMARY:CHILDREN’S CHURCH SUNDAY Mornings
DESCRIPTION:11:09 am\, Education Bldg. \nChildren grades 5 and under are invited to leave the service following the Young People’s Discipleship Moment to participate in fun lessons at their level. Youth grades 6-12 are invited to  assist one Sunday every other month
URL:https://standrewbytheseaumc.org/event/childrens-church-sunday-mornings/2024-09-08/
LOCATION:Education Building
ATTACH;FMTTYPE=image/jpeg:/wp-content/uploads/2024/08/Childrens-Church-logo-2024-1.jpg
END:VEVENT
BEGIN:VEVENT
DTSTART;TZID=America/New_York:20240901T110900
DTEND;TZID=America/New_York:20240901T110900
DTSTAMP:20260421T211930
CREATED:20240829T165105Z
LAST-MODIFIED:20240829T165134Z
UID:10007753-1725188940-1725188940@standrewbytheseaumc.org
SUMMARY:CHILDREN’S CHURCH SUNDAY Mornings
DESCRIPTION:11:09 am\, Education Bldg. \nChildren grades 5 and under are invited to leave the service following the Young People’s Discipleship Moment to participate in fun lessons at their level. Youth grades 6-12 are invited to  assist one Sunday every other month
URL:https://standrewbytheseaumc.org/event/childrens-church-sunday-mornings/2024-09-01/
LOCATION:Education Building
ATTACH;FMTTYPE=image/jpeg:/wp-content/uploads/2024/08/Childrens-Church-logo-2024-1.jpg
END:VEVENT
END:VCALENDAR