BEGIN:VCALENDAR
VERSION:2.0
PRODID:-//St. Andrew By-The-Sea United Methodist Church - ECPv6.15.20//NONSGML v1.0//EN
CALSCALE:GREGORIAN
METHOD:PUBLISH
X-ORIGINAL-URL:https://standrewbytheseaumc.org
X-WR-CALDESC:Events for St. Andrew By-The-Sea United Methodist Church
REFRESH-INTERVAL;VALUE=DURATION:PT1H
X-Robots-Tag:noindex
X-PUBLISHED-TTL:PT1H
BEGIN:VTIMEZONE
TZID:America/New_York
BEGIN:DAYLIGHT
TZOFFSETFROM:-0500
TZOFFSETTO:-0400
TZNAME:EDT
DTSTART:20230312T070000
END:DAYLIGHT
BEGIN:STANDARD
TZOFFSETFROM:-0400
TZOFFSETTO:-0500
TZNAME:EST
DTSTART:20231105T060000
END:STANDARD
BEGIN:DAYLIGHT
TZOFFSETFROM:-0500
TZOFFSETTO:-0400
TZNAME:EDT
DTSTART:20240310T070000
END:DAYLIGHT
BEGIN:STANDARD
TZOFFSETFROM:-0400
TZOFFSETTO:-0500
TZNAME:EST
DTSTART:20241103T060000
END:STANDARD
BEGIN:DAYLIGHT
TZOFFSETFROM:-0500
TZOFFSETTO:-0400
TZNAME:EDT
DTSTART:20250309T070000
END:DAYLIGHT
BEGIN:STANDARD
TZOFFSETFROM:-0400
TZOFFSETTO:-0500
TZNAME:EST
DTSTART:20251102T060000
END:STANDARD
END:VTIMEZONE
BEGIN:VEVENT
DTSTART;TZID=America/New_York:20240901T110900
DTEND;TZID=America/New_York:20240901T110900
DTSTAMP:20260421T231005
CREATED:20240829T165105Z
LAST-MODIFIED:20240829T165134Z
UID:10007753-1725188940-1725188940@standrewbytheseaumc.org
SUMMARY:CHILDREN’S CHURCH SUNDAY Mornings
DESCRIPTION:11:09 am\, Education Bldg. \nChildren grades 5 and under are invited to leave the service following the Young People’s Discipleship Moment to participate in fun lessons at their level. Youth grades 6-12 are invited to  assist one Sunday every other month
URL:https://standrewbytheseaumc.org/event/childrens-church-sunday-mornings/2024-09-01/
LOCATION:Education Building
ATTACH;FMTTYPE=image/jpeg:/wp-content/uploads/2024/08/Childrens-Church-logo-2024-1.jpg
END:VEVENT
END:VCALENDAR