BEGIN:VCALENDAR
VERSION:2.0
PRODID:-//St. Andrew By-The-Sea United Methodist Church - ECPv6.15.20//NONSGML v1.0//EN
CALSCALE:GREGORIAN
METHOD:PUBLISH
X-WR-CALNAME:St. Andrew By-The-Sea United Methodist Church
X-ORIGINAL-URL:https://standrewbytheseaumc.org
X-WR-CALDESC:Events for St. Andrew By-The-Sea United Methodist Church
REFRESH-INTERVAL;VALUE=DURATION:PT1H
X-Robots-Tag:noindex
X-PUBLISHED-TTL:PT1H
BEGIN:VTIMEZONE
TZID:America/New_York
BEGIN:DAYLIGHT
TZOFFSETFROM:-0500
TZOFFSETTO:-0400
TZNAME:EDT
DTSTART:20240310T070000
END:DAYLIGHT
BEGIN:STANDARD
TZOFFSETFROM:-0400
TZOFFSETTO:-0500
TZNAME:EST
DTSTART:20241103T060000
END:STANDARD
BEGIN:DAYLIGHT
TZOFFSETFROM:-0500
TZOFFSETTO:-0400
TZNAME:EDT
DTSTART:20250309T070000
END:DAYLIGHT
BEGIN:STANDARD
TZOFFSETFROM:-0400
TZOFFSETTO:-0500
TZNAME:EST
DTSTART:20251102T060000
END:STANDARD
BEGIN:DAYLIGHT
TZOFFSETFROM:-0500
TZOFFSETTO:-0400
TZNAME:EDT
DTSTART:20260308T070000
END:DAYLIGHT
BEGIN:STANDARD
TZOFFSETFROM:-0400
TZOFFSETTO:-0500
TZNAME:EST
DTSTART:20261101T060000
END:STANDARD
END:VTIMEZONE
BEGIN:VEVENT
DTSTART;TZID=America/New_York:20250824T173000
DTEND;TZID=America/New_York:20250824T193000
DTSTAMP:20260421T042812
CREATED:20250721T162244Z
LAST-MODIFIED:20250729T180810Z
UID:10017063-1756056600-1756063800@standrewbytheseaumc.org
SUMMARY:UMYF Dock Party
DESCRIPTION:UMYF Dock Party\nSunday\, August 24\n5:30-7:30 pm \nStudents grades 6-12 meet up at UMYF (United Methodist Youth Fellowship) every other Sunday night starting August 24\, to eat\, play\, and talk about things that help us grow deeper in our faith. Our first meeting will be at the Point Comfort Pavilion (12 Row Boat Rd\, Hilton Head Island\, SC 29928\, no pass needed). Pizza provided\, no RSVP required\, and friends are welcome – but make sure we have your permission form. Bring a bathing suit and towel\, and gear/bait if you want to fish. Current and tide permitting\, we will have paddle boards and   kayaks available. \nParents: contact Anna if you are available to provide food for UMYF anytime during the school year: annamhhiumc@gmail.com or text 843.642.2747.  \n  \n 
URL:https://standrewbytheseaumc.org/event/umyf-7/
LOCATION:Point Comfort Pavilion\, 12 Row Boat Rd\, Hilton Head Island\, South Carolina\, 29928
ATTACH;FMTTYPE=image/png:/wp-content/uploads/2025/07/Dock-Party.png
ORGANIZER;CN="Anna Musselwhite":MAILTO:annamhhiumc@gmail.com
END:VEVENT
END:VCALENDAR